BEGIN:VCALENDAR
VERSION:2.0
PRODID:-//【公式】オキナワンヒーローズ - ECPv6.15.20//NONSGML v1.0//EN
CALSCALE:GREGORIAN
METHOD:PUBLISH
X-WR-CALNAME:【公式】オキナワンヒーローズ
X-ORIGINAL-URL:https://okinawanheroes.com
X-WR-CALDESC:【公式】オキナワンヒーローズ のイベント
REFRESH-INTERVAL;VALUE=DURATION:PT1H
X-Robots-Tag:noindex
X-PUBLISHED-TTL:PT1H
BEGIN:VTIMEZONE
TZID:Asia/Tokyo
BEGIN:STANDARD
TZOFFSETFROM:+0900
TZOFFSETTO:+0900
TZNAME:JST
DTSTART:20210101T000000
END:STANDARD
END:VTIMEZONE
BEGIN:VEVENT
DTSTART;VALUE=DATE:20230429
DTEND;VALUE=DATE:20230508
DTSTAMP:20260426T011548
CREATED:20230329T024748Z
LAST-MODIFIED:20230427T082810Z
UID:3971-1682726400-1683503999@okinawanheroes.com
SUMMARY:よみうりランド遊園地『沖縄WEEK!!2023』
DESCRIPTION:昨年大人気だった、よみうりランド遊園地の「沖縄WEEK!!」が今年も開催！！ \n今年は、なんと！\n沖縄WEEK!!2023の期間中、オキナワンヒーローズが日替わりで毎日よみうりランドに登場！ \nドラマキャストによるトークショーや、キャラクターたちとのグリーティングを楽しめます。 \nさらに！\n5月3日・4日・5日は昨年に引き続き、琉神マブヤーライブステージを開催！！\nマブヤー＆ガナシーの迫力あるアクション！ハブクラ―ゲン、マングーチュの生しゃべり！などウチナー（沖縄）言葉による楽しいステージをお楽しみに♪ \n \n  \n\n\n\n開催日時\n2023年4月29日(土/祝) ～ 5月7日(日)\n※時間は上の画像をご参照ください。\n\n\n会場\nよみうりランド遊園地\n太陽の広場ステージ・スカイゲート 他\n(東京都稲城市矢野口４０１５−１)\n\n\nイベントWEBサイト\nよみうりランド遊園地\nhttps://www.yomiuriland.com/event/okinawaweek2023/\n\n\n備考\n観覧・参加無料(別途遊園地入園料)\n\n\n\n詳しくはイベントWEBサイトをご覧ください。
URL:https://okinawanheroes.com/event/20230429_%e3%82%88%e3%81%bf%e3%81%86%e3%82%8a%e3%83%a9%e3%83%b3%e3%83%89/
LOCATION:【よみうりランド遊園地】\, 東京都稲城市矢野口４０１５−１
CATEGORIES:エイカーズ,大知マン,琉神マブヤー,闘牛戦士ワイドー
ATTACH;FMTTYPE=image/jpeg:https://okinawanheroes.com/cms/wp-content/uploads/2023/03/B1_okinawa_BG_2023-D.jpg
END:VEVENT
BEGIN:VEVENT
DTSTART;VALUE=DATE:20230304
DTEND;VALUE=DATE:20230306
DTSTAMP:20260426T011548
CREATED:20230224T021646Z
LAST-MODIFIED:20230303T061017Z
UID:3948-1677888000-1678060799@okinawanheroes.com
SUMMARY:大知建設 完成見学会／大知マン＆シュタール登場
DESCRIPTION:４日・５日は見学くゎぃ！４日・５日は見学くゎぃ！ \n大知マン・シュタールが登場\n \n一緒に記念写真も撮れるぞ！遊びにきてね～♪ \n\n\n\n出演\n安全第一 大知マン\n大知マンシュタール\n\n\n開催日時\n2023年3月4日（土）・5日(日)\n11:00／13:00／15:00\n\n\n\n会場\n豊見城市字座安164(ココス豊見城店近く)\n\n\nイベントWEBサイト\n株式会社 大知建設 ホームページ　完成見学会のご案内\nhttps://daichi21.jp/syanetsu/\n\n\n備考\n※当日はマスクの着用をお願いします。発熱など体調に不安がある方のご来場はお控え下さい。\n\n\n\n詳しくはイベントWEBサイトをご覧ください。
URL:https://okinawanheroes.com/event/20230304%e5%a4%a7%e7%9f%a5%e5%bb%ba%e8%a8%ad%e5%ae%8c%e6%88%90%e8%a6%8b%e5%ad%a6%e4%bc%9a/
LOCATION:【大知建設 完成見学会】
CATEGORIES:大知マン
ATTACH;FMTTYPE=image/jpeg:https://okinawanheroes.com/cms/wp-content/uploads/2023/02/20230304_大知建設見学会豊見城.jpg
END:VEVENT
BEGIN:VEVENT
DTSTART;VALUE=DATE:20230121
DTEND;VALUE=DATE:20230123
DTSTAMP:20260426T011548
CREATED:20230116T100714Z
LAST-MODIFIED:20230123T075057Z
UID:3874-1674259200-1674431999@okinawanheroes.com
SUMMARY:大知建設 完成見学会／大知マン＆シュタール登場
DESCRIPTION:今週土日は見学くゎぃ！今週土日は見学くゎぃ！ \n大知マン・シュタールが登場\n \n一緒に記念写真も撮れるぞ！遊びにきてね～♪ \n\n\n\n出演\n安全第一 大知マン\n大知マンシュタール\n\n\n開催日時\n2023年1月21日（土）・22日(日)\n11:00／13:00／15:00\n\n\n\n会場\n北谷町吉原722-7\n\n\nイベントWEBサイト\n株式会社 大知建設 ホームページ　完成見学会のご案内\nhttps://daichi21.jp/syanetsu/\n\n\n備考\n※当日はマスクの着用をお願いします。発熱など体調に不安がある方のご来場はお控え下さい。\n\n\n\n詳しくはイベントWEBサイトをご覧ください。
URL:https://okinawanheroes.com/event/20230121%e5%a4%a7%e7%9f%a5%e5%bb%ba%e8%a8%ad%e5%ae%8c%e6%88%90%e8%a6%8b%e5%ad%a6%e4%bc%9a/
LOCATION:【大知建設 完成見学会】
CATEGORIES:大知マン
ATTACH;FMTTYPE=image/jpeg:https://okinawanheroes.com/cms/wp-content/uploads/2023/01/20230116_見学会.jpg
END:VEVENT
BEGIN:VEVENT
DTSTART;VALUE=DATE:20221119
DTEND;VALUE=DATE:20221121
DTSTAMP:20260426T011548
CREATED:20221118T112140Z
LAST-MODIFIED:20221118T112358Z
UID:3711-1668816000-1668988799@okinawanheroes.com
SUMMARY:大知建設 完成見学会／大知マン＆シュタール登場
DESCRIPTION:今週土日は見学くゎぃ！今週土日は見学くゎぃ！ \n19日(土)は大知マンが登場\n20日(日)は大知マン・シュタールが登場\n \n一緒に記念写真も撮れるぞ！遊びにきてね～♪ \n\n\n\n出演\n安全第一 大知マン\n大知マンシュタール\n\n\n開催日時\n2022年11月19日（土）・20日(日)\n11:00／13:00／15:00\n\n\n\n会場\n豊見城市字座安205番3（ココス豊見城店近く）\n\n\nイベントWEBサイト\n株式会社 大知建設 ホームページ　完成見学会のご案内\nhttps://daichi21.jp/syanetsu/\n\n\n備考\n※当日はマスクの着用をお願いします。発熱など体調に不安がある方のご来場はお控え下さい。\n\n\n\n詳しくはイベントWEBサイトをご覧ください。
URL:https://okinawanheroes.com/event/%e5%a4%a7%e7%9f%a5%e5%bb%ba%e8%a8%ad-%e5%ae%8c%e6%88%90%e8%a6%8b%e5%ad%a6%e4%bc%9a%ef%bc%8f%e5%a4%a7%e7%9f%a5%e3%83%9e%e3%83%b3%ef%bc%86%e3%82%b7%e3%83%a5%e3%82%bf%e3%83%bc%e3%83%ab%e7%99%bb-2/
LOCATION:【大知建設 完成見学会】
CATEGORIES:大知マン
ATTACH;FMTTYPE=image/jpeg:https://okinawanheroes.com/cms/wp-content/uploads/2022/11/sya_top_2022_11_14-scaled.jpg
END:VEVENT
BEGIN:VEVENT
DTSTART;VALUE=DATE:20221008
DTEND;VALUE=DATE:20221010
DTSTAMP:20260426T011548
CREATED:20221003T024340Z
LAST-MODIFIED:20221003T025028Z
UID:3041-1665187200-1665359999@okinawanheroes.com
SUMMARY:富士葬祭『糸満西崎ホール』OPENイベント／オキナワンヒーローズが登場！
DESCRIPTION:富士葬祭の「糸満西崎ホール」がグランドオープン！！ ８日、９日の２日間はOPENイベント開催♪ \n8日(土)は、琉神マブヤー・龍神ガナシーが登場！\n9日(日)は、安全第一大知マン・闘牛戦士ワイドーが登場！ \n家族みんなで会いにきてね！ \n\n\n\n出演\n8日(土)：琉神マブヤー・龍神ガナシー\n9日(日)：安全第一大知マン・闘牛戦士ワイドー\n\n\n開催日時\n2022年10月8日(土)・９日(日)\n１回目／１１:００～\n２回目／１４:００～\n\n\n会場\n富士葬祭　メモリアルホール富士会館 糸満西崎ホール\n(糸満市西崎町5-12-8)\nWEBサイト：https://www.fuji-sosai.co.jp/\n\n\nイベントWEBサイト\n\n\n\n備考\n駐車場 12台\n\n\n\n詳しくはイベントWEBサイトをご覧ください。
URL:https://okinawanheroes.com/event/%e5%af%8c%e5%a3%ab%e8%91%ac%e7%a5%ad%e3%80%8e%e7%b3%b8%e6%ba%80%e8%a5%bf%e5%b4%8e%e3%83%9b%e3%83%bc%e3%83%ab%e3%80%8fopen%e3%82%a4%e3%83%99%e3%83%b3%e3%83%88/
LOCATION:【富士葬祭　メモリアルホール富士会館 糸満西崎ホール】\, 糸満市西崎町5-12-8
CATEGORIES:大知マン,琉神マブヤー,闘牛戦士ワイドー
ATTACH;FMTTYPE=image/jpeg:https://okinawanheroes.com/cms/wp-content/uploads/2022/10/富士葬祭10月8・9日-1.jpg
END:VEVENT
BEGIN:VEVENT
DTSTART;VALUE=DATE:20221001
DTEND;VALUE=DATE:20221003
DTSTAMP:20260426T011548
CREATED:20220929T063442Z
LAST-MODIFIED:20220929T064754Z
UID:3029-1664582400-1664755199@okinawanheroes.com
SUMMARY:大知建設 完成見学会／大知マン＆シュタール登場
DESCRIPTION:今週土日は見学くゎぃ！今週土日は見学くゎぃ！ \n10月1(土)・2(日)は大知建設の完成見学会に大知マンとシュタールがそろって登場♪ \n一緒に記念写真も撮れるぞ！遊びにきてね～♪ \n\n\n\n出演\n安全第一 大知マン\n大知マンシュタール\n\n\n開催日時\n2022年10月1日（土）・2日(日)\n11:00／13:00／15:00\n\n\n\n会場\n那覇市宇栄原6丁目443-2(高良小学校近く)\n\n\nイベントWEBサイト\n株式会社 大知建設 ホームページ　完成見学会のご案内\nhttps://daichi21.jp/syanetsu/\n\n\n備考\n※当日はマスクの着用をお願いします。発熱など体調に不安がある方のご来場はお控え下さい。\n\n\n\n詳しくはイベントWEBサイトをご覧ください。
URL:https://okinawanheroes.com/event/%e5%a4%a7%e7%9f%a5%e5%bb%ba%e8%a8%ad-%e5%ae%8c%e6%88%90%e8%a6%8b%e5%ad%a6%e4%bc%9a%ef%bc%8f%e5%a4%a7%e7%9f%a5%e3%83%9e%e3%83%b3%ef%bc%86%e3%82%b7%e3%83%a5%e3%82%bf%e3%83%bc%e3%83%ab%e7%99%bb%e5%a0%b4/
LOCATION:【大知建設 完成見学会】
CATEGORIES:大知マン
ATTACH;FMTTYPE=image/jpeg:https://okinawanheroes.com/cms/wp-content/uploads/2022/09/20221001_見学会.jpg
END:VEVENT
BEGIN:VEVENT
DTSTART;VALUE=DATE:20220827
DTEND;VALUE=DATE:20220828
DTSTAMP:20260426T011548
CREATED:20220822T082408Z
LAST-MODIFIED:20221115T022225Z
UID:2918-1661558400-1661644799@okinawanheroes.com
SUMMARY:大知マンがやって来る！！
DESCRIPTION:ファミリーマート宜野湾２丁目店オープン記念！\n(株)大知建設プレゼンツ　大知マンがやって来る！！大知マンと遊ぼう！ \nファミリーマート宜野湾２丁目店のオープンを記念して、大知マンとシュタールが遊びにくるよ♪\n一緒に写真撮影をして楽しもう！ \n\n\n\n出演\n安全第一大知マン\n大知マンシュタール\n\n\n開催日時\n2022年8月27日（土）\n①13:30～　②15:00～\n※各回約20分\n\n\n会場\nファミリーマート 宜野湾ニ丁目店\n(〒901-2211 沖縄県宜野湾市宜野湾ニ丁目11番７号)\n\n\n\nイベントWEBサイト\n\n\n\n備考\n当日の出演ヒーローが変更になる場合がございます。\n雨天の場合、中止する事があります。\n予めご了承下さい。\n\n\n\n詳しくはイベントWEBサイトをご覧ください。
URL:https://okinawanheroes.com/event/%e5%a4%a7%e7%9f%a5%e3%83%9e%e3%83%b3%e3%81%8c%e3%82%84%e3%81%a3%e3%81%a6%e3%81%8f%e3%82%8b%ef%bc%81/
LOCATION:【ファミリーマー 宜野湾二丁目店】\, 宜野湾市宜野湾二丁目11番17号
CATEGORIES:大知マン
ATTACH;FMTTYPE=image/jpeg:https://okinawanheroes.com/cms/wp-content/uploads/2022/08/大知マン広告.jpg
END:VEVENT
BEGIN:VEVENT
DTSTART;VALUE=DATE:20220514
DTEND;VALUE=DATE:20220516
DTSTAMP:20260426T011548
CREATED:20220513T112325Z
LAST-MODIFIED:20221115T022250Z
UID:2884-1652486400-1652659199@okinawanheroes.com
SUMMARY:大知建設 完成見学会／大知マン＆シュタール登場
DESCRIPTION:今週土日は見学くゎぃ！今週土日は見学くゎぃ！ \n14(土)・15(日)は大知建設の完成見学会に大知マンとシュタールがそろって登場♪ \n一緒に記念写真も撮れるぞ！ \n＼さらに／\n来場者にはポスターをプレゼント🎁\n※数に限りがございます。 \n\n\n\n出演\n安全第一 大知マン\n大知マンシュタール\n\n\n開催日時\n2022年5月14日（土）・15日(日)\n11:00／13:00／15:00\n\n\n\n会場\n那覇市国場1174番地2(真玉橋近く)\n\n\nイベントWEBサイト\n株式会社 大知建設 ホームページ\nhttps://daichi21.jp/\n\n\n備考\n※当日はマスクの着用をお願いします。発熱など体調に不安がある方のご来場はお控え下さい。\n\n\n\n詳しくはイベントWEBサイトをご覧ください。
URL:https://okinawanheroes.com/event/%e5%a4%a7%e7%9f%a5%e5%bb%ba%e8%a8%ad%e5%ae%8c%e6%88%90%e8%a6%8b%e5%ad%a6%e4%bc%9a/
LOCATION:【大知建設 完成見学会】
CATEGORIES:大知マン
ATTACH;FMTTYPE=image/jpeg:https://okinawanheroes.com/cms/wp-content/uploads/2022/05/20220514_見学会-scaled.jpg
END:VEVENT
BEGIN:VEVENT
DTSTART;VALUE=DATE:20220507
DTEND;VALUE=DATE:20220508
DTSTAMP:20260426T011548
CREATED:20220427T110251Z
LAST-MODIFIED:20220502T085114Z
UID:2820-1651881600-1651967999@okinawanheroes.com
SUMMARY:沖縄ファミリーマート店頭イベント開催！
DESCRIPTION:~沖縄の子どもたちを元気に~\n沖縄ファミリーマートとオキナワンヒーローズが夢のコラボ！ \n沖縄ファミリーマート4店舗にて、コラボ商品発売記念イベント開催決定!\nオキナワンヒーローズと一緒に写真撮影ができます！ \n\n\n\n開催日時\n2022年5月7日(土)\n12:00～／17:00～\n\n\n会場\n●12:00～\nファミリーマート 北谷上勢頭店 ／ 安全第一大知マン＆琉神マブヤー\nファミリーマート 宜野湾大山3丁目店 ／ 闘牛戦士ワイドー＆龍神ガナシー \n●17:00～\nファミリーマート 天久2丁目店 ／ 琉神マブヤー＆龍神ガナシー\nファミリーマート 58号浦添港川店 ／ 闘牛戦士ワイドー＆安全第一大知マン\n\n\nイベントWEBサイト\n「GWスペシャル企画」 ファミリーマートでヒーローズに会える!！\nhttps://www.okinawa-familymart.jp/campaign/detail.html?cid=22735 \n沖縄ファミリーマート ~沖縄の子どもたちを元気に~ オキナワンヒーローズと夢のコラボ！\nhttps://www.okinawa-familymart.jp/campaign/detail.html?cid=22625\n\n\n備考\n※当日出演ヒーローが変更になる場合がございます。予めご了承ください。\n※雨天の場合、中止することがあります。ご了承ください。\n※時間の限りがあり、記念撮影出来ない場合があります。\n※撮影機材は、ご自身でご準備ください。\n\n\n\n詳しくはイベントWEBサイトをご覧ください。
URL:https://okinawanheroes.com/event/%e6%b2%96%e7%b8%84%e3%83%95%e3%82%a1%e3%83%9f%e3%83%aa%e3%83%bc%e3%83%9e%e3%83%bc%e3%83%88%e5%ba%97%e9%a0%ad%e3%82%a4%e3%83%99%e3%83%b3%e3%83%88/
LOCATION:【沖縄ファミリーマート　4店舗】
CATEGORIES:大知マン,琉神マブヤー,闘牛戦士ワイドー
ATTACH;FMTTYPE=image/jpeg:https://okinawanheroes.com/cms/wp-content/uploads/2022/04/GWスペシャル企画.jpg
END:VEVENT
BEGIN:VEVENT
DTSTART;VALUE=DATE:20220507
DTEND;VALUE=DATE:20220508
DTSTAMP:20260426T011548
CREATED:20220427T101751Z
LAST-MODIFIED:20220502T084411Z
UID:2813-1651881600-1651967999@okinawanheroes.com
SUMMARY:琉球ゴールデンキングス／オキナワンヒーローズが登場
DESCRIPTION:5/7(土)、沖縄アリーナで行われる琉球ゴールデンキングス 広島戦のハーフタイムに\nオキナワンヒーローズから 琉神マブヤー、闘牛戦士ワイドー 安全第一大知マン、龍神ガナシーが登場！ \n\n\n\n開催日時\n2022年5月7日(土)\n時間：15:00～(ハーフタイムに出演予定)\n\n\n\n会場\n沖縄アリーナ\n(〒904-0034 沖縄県沖縄市山内1丁目16−1)\nWEBサイト：https://okinawa-arena.jp/\n\n\n\nイベントWEBサイト\n琉球ゴールデンキングス公式\nhttps://goldenkings.jp/news/detail/id=16793\n\n\n備考\n\n\n\n\n詳しくはイベントWEBサイトをご覧ください。
URL:https://okinawanheroes.com/event/%e7%90%89%e7%90%83%e3%82%b4%e3%83%bc%e3%83%ab%e3%83%87%e3%83%b3%e3%82%ad%e3%83%b3%e3%82%b0%e3%82%b9/
LOCATION:【沖縄アリーナ】\, 沖縄県沖縄市山内1丁目16−1
CATEGORIES:大知マン,琉神マブヤー,闘牛戦士ワイドー
ATTACH;FMTTYPE=image/jpeg:https://okinawanheroes.com/cms/wp-content/uploads/2022/04/220426_event5-500x0-1.jpg
END:VEVENT
BEGIN:VEVENT
DTSTART;VALUE=DATE:20220108
DTEND;VALUE=DATE:20220111
DTSTAMP:20260426T011548
CREATED:20211230T070037Z
LAST-MODIFIED:20220421T091004Z
UID:1725-1641600000-1641859199@okinawanheroes.com
SUMMARY:海洋博公園　オキナワンヒーロー３Days
DESCRIPTION:お正月は海洋博公園でヒーローショー！！\n3日間にわたって毎日違うヒーローが登場するよ♪ \n  \n\n\n\n開催日時\n2022年1月8日（土）・9日（日）・10日（月・祝）\n11:00～／14:00～\n※ステージの時間は変更になる場合がございます。\n\n\n会場\n会場海洋博公園　中央噴水広場特設ステージ\n(沖縄県国頭郡本部町石川424番地)\nWEBサイト：https://oki-park.jp/kaiyohaku/\n\n\n出演\n・1/8「琉神マブヤー」\n・1/9「闘牛戦士ワイドー」\n・1/10「エイカーズ」\n3日間の司会は「安全＋第一大知マン」\n\n\nイベントWEBサイト\nhttps://oki-park.jp/kaiyohaku/events/detail/6505\n\n\n備考\n観覧無料
URL:https://okinawanheroes.com/event/%e6%b5%b7%e6%b4%8b%e5%8d%9a%e5%85%ac%e5%9c%92/
LOCATION:【海洋博公園】\, 沖縄県国頭郡本部町石川424番地
CATEGORIES:エイカーズ,大知マン,琉神マブヤー,闘牛戦士ワイドー
ATTACH;FMTTYPE=image/jpeg:https://okinawanheroes.com/cms/wp-content/uploads/2021/12/2022010810_海洋博3日間-scaled.jpg
END:VEVENT
END:VCALENDAR