BEGIN:VCALENDAR
VERSION:2.0
PRODID:-//【公式】オキナワンヒーローズ - ECPv6.15.20//NONSGML v1.0//EN
CALSCALE:GREGORIAN
METHOD:PUBLISH
X-ORIGINAL-URL:https://okinawanheroes.com
X-WR-CALDESC:【公式】オキナワンヒーローズ のイベント
REFRESH-INTERVAL;VALUE=DURATION:PT1H
X-Robots-Tag:noindex
X-PUBLISHED-TTL:PT1H
BEGIN:VTIMEZONE
TZID:Asia/Tokyo
BEGIN:STANDARD
TZOFFSETFROM:+0900
TZOFFSETTO:+0900
TZNAME:JST
DTSTART:20230101T000000
END:STANDARD
END:VTIMEZONE
BEGIN:VEVENT
DTSTART;VALUE=DATE:20240427
DTEND;VALUE=DATE:20240507
DTSTAMP:20260424T195715
CREATED:20240308T111532Z
LAST-MODIFIED:20240426T025051Z
UID:4780-1714176000-1715039999@okinawanheroes.com
SUMMARY:[東京] よみうりランド遊園地『沖縄＆九州WEEK!!2024』
DESCRIPTION:昨年も大好評だった、よみうりランド遊園地の沖縄WEEK!!に九州も加わって今年も開催！ \nよみうりランド遊園地『沖縄＆九州WEEK!!2024』 \n今年は、なんと！ヒーローショーが盛り沢山！！\n・琉神マブヤーショー\n・闘牛戦士ワイドーショー\n・大知マン＆キタキュウマンコラボショー \nさらに！\n・チョンダラーズ（県産パフォーマンス集団）\n・リミカン（おじさんアイドル）\nのステージパフォーマンスもあり！！\nヒーローの時とは違った彼らは必見です♪♪ \n今年は、太陽の広場ステージ、波のプール特設ステージ、流れるプール特設ステージ\nステージが3つに分かれてるから気を付けてね☆ \n \nヒーロー達のグッズ販売決定！\n✨先行販売グッズもあり✨ \nヒーローショー同様、販売場所が4月と5月で異なります！\n■4/27・28・29　太陽の広場ステージ側\n■5/3・4・5・6　波のプール特設ステージ側 \nお支払いは現金のみになります🙇 \n \n\n\n\n開催日時\n2024年4月27日(土) ～ 5月6日(月祝)\n※時間は上の画像をご参照ください。\n\n\n会場\nよみうりランド遊園地\n(東京都稲城市矢野口４０１５−１)\n\n\nイベントWEBサイト\nよみうりランド遊園地\nhttps://www.yomiuriland.com/sp/gw2024/\n\n\n備考\n観覧・参加無料(別途遊園地入園料)\n\n\n\n詳しくはイベントWEBサイトをご覧ください。
URL:https://okinawanheroes.com/event/20240427%e3%82%88%e3%81%bf%e3%81%86%e3%82%8a%e3%83%a9%e3%83%b3%e3%83%89/
LOCATION:【よみうりランド遊園地】\, 東京都稲城市矢野口４０１５−１
CATEGORIES:大知マン,琉神マブヤー,闘牛戦士ワイドー
ATTACH;FMTTYPE=image/jpeg:https://okinawanheroes.com/cms/wp-content/uploads/2024/03/bnr_w1024H768-1.jpg
END:VEVENT
BEGIN:VEVENT
DTSTART;VALUE=DATE:20240714
DTEND;VALUE=DATE:20240715
DTSTAMP:20260424T195715
CREATED:20240710T074509Z
LAST-MODIFIED:20240710T080540Z
UID:5012-1720915200-1721001599@okinawanheroes.com
SUMMARY:ソフトバンクPresents 大知マン握手＆撮影会
DESCRIPTION:＼ソフトバンク Presents／\n君の街でヒーローと握手＆撮影！！ \nサンエー マチナトシティ\nソフトバンクブースに「安全＋第一 大知マン」が登場！ \n大知マンと握手をして、一緒に写真を撮ろう☆ \n会場に遊びに来てくれたお友達は、ヒーローグッズの当たる抽選会にも参加できるよ♪ \n  \n\n\n\n日時\n◆2024年7月14日（日）\n①11:00～　②13:30～　③14:30～　④15:30～\n\n\n\n会場\nサンエー マチナトシティ　1F ソフトバンクブース\n(浦添市城間2008-1)\n\n\n\nイベントWEBサイト\n\n\n\n備考\n参加無料\n※お客様のカメラによる写真撮影になります。\n※各回15分程度、または定員に達し次第終了となります。\n※カンタンなアンケートにご協力ください。\n\n\n\n 
URL:https://okinawanheroes.com/event/20240714_daichiman/
LOCATION:【サンエー マチナトシティ】\, 浦添市城間2008−1
CATEGORIES:大知マン
ATTACH;FMTTYPE=image/jpeg:https://okinawanheroes.com/cms/wp-content/uploads/2024/07/ソフトバンク握手撮影会_7月02.jpg
END:VEVENT
BEGIN:VEVENT
DTSTART;VALUE=DATE:20240720
DTEND;VALUE=DATE:20240722
DTSTAMP:20260424T195715
CREATED:20240710T081909Z
LAST-MODIFIED:20240710T083254Z
UID:5033-1721433600-1721606399@okinawanheroes.com
SUMMARY:ソフトバンクPresents 大知マン・ワイドー握手＆撮影会
DESCRIPTION:＼ソフトバンク Presents／\n君の街でヒーローと握手＆撮影！！ \nソフトバンクイオンタウン読谷に\n20日(土)は「安全＋第一 大知マン」、21日(日)は「闘牛戦士ワイドー」が登場！！ \nヒーローと握手をして、一緒に写真を撮ろう☆ \n会場に遊びに来てくれたお友達は、ヒーローグッズの当たる抽選会にも参加できるよ♪ \n  \n\n\n\n日時\n◆2024年7月20日（土）安全＋第一 大知マンが登場！\n◆2024年7月21日（日）闘牛戦士ワイドーが登場！\n①11:00～　②13:30～　③14:30～　④15:30～\n\n\n\n会場\nソフトバンクイオンタウン読谷\n(読谷村古堅７４０)\n\n\n\nイベントWEBサイト\n\n\n\n備考\n参加無料\n※お客様のカメラによる写真撮影になります。\n※各回15分程度、または定員に達し次第終了となります。\n※カンタンなアンケートにご協力ください。\n\n\n\n 
URL:https://okinawanheroes.com/event/20240720_daichimanwaido/
LOCATION:【ソフトバンク美里】\, 沖縄市美原１丁目２２−１
CATEGORIES:大知マン,闘牛戦士ワイドー
ATTACH;FMTTYPE=image/jpeg:https://okinawanheroes.com/cms/wp-content/uploads/2024/07/ソフトバンク握手撮影会_7月05.jpg
END:VEVENT
BEGIN:VEVENT
DTSTART;VALUE=DATE:20240721
DTEND;VALUE=DATE:20240722
DTSTAMP:20260424T195715
CREATED:20240710T080913Z
LAST-MODIFIED:20240710T081028Z
UID:5028-1721520000-1721606399@okinawanheroes.com
SUMMARY:ソフトバンクPresents 大知マン握手＆撮影会
DESCRIPTION:＼ソフトバンク Presents／\n君の街でヒーローと握手＆撮影！！ \nソフトバンク真嘉比店に「安全＋第一 大知マン」が登場！ \n大知マンと握手をして、一緒に写真を撮ろう☆ \n会場に遊びに来てくれたお友達は、ヒーローグッズの当たる抽選会にも参加できるよ♪ \n  \n\n\n\n日時\n◆2024年7月21日（日）\n①11:00～　②13:30～　③14:30～　④15:30～\n\n\n\n会場\nソフトバンク真嘉比\n(那覇市真嘉比3丁目19-24)\n\n\n\nイベントWEBサイト\n\n\n\n備考\n参加無料\n※お客様のカメラによる写真撮影になります。\n※各回15分程度、または定員に達し次第終了となります。\n※カンタンなアンケートにご協力ください。\n\n\n\n 
URL:https://okinawanheroes.com/event/20240721_daichiman/
LOCATION:【ソフトバンク真嘉比】\, 那覇市真嘉比３丁目１９−２４
CATEGORIES:大知マン
ATTACH;FMTTYPE=image/jpeg:https://okinawanheroes.com/cms/wp-content/uploads/2024/07/ソフトバンク握手撮影会_7月04.jpg
END:VEVENT
BEGIN:VEVENT
DTSTART;VALUE=DATE:20240727
DTEND;VALUE=DATE:20240729
DTSTAMP:20260424T195715
CREATED:20240710T083016Z
LAST-MODIFIED:20240710T083636Z
UID:5039-1722038400-1722211199@okinawanheroes.com
SUMMARY:ソフトバンクPresents ワイドー・大知マン握手＆撮影会
DESCRIPTION:＼ソフトバンク Presents／\n君の街でヒーローと握手＆撮影！！ \nイオンモール沖縄ライカムに\n27日(土)は「闘牛戦士ワイドー」、28日(日)は「安全＋第一 大知マン」が登場！！ \nヒーローと握手をして、一緒に写真を撮ろう☆ \n会場に遊びに来てくれたお友達は、ヒーローグッズの当たる抽選会にも参加できるよ♪ \n  \n\n\n\n日時\n◆2024年7月27日（土）闘牛戦士ワイドーが登場！\n◆2024年7月28日（日）安全＋第一 大知マンが登場！\n①11:00～　②13:30～　③14:30～　④15:30～\n\n\n\n会場\nイオンモール沖縄ライカム　2F ネイチャーコート\n(北中城村ライカム1番地)\n\n\n\nイベントWEBサイト\n\n\n\n備考\n参加無料\n※お客様のカメラによる写真撮影になります。\n※各回15分程度、または定員に達し次第終了となります。\n※カンタンなアンケートにご協力ください。\n\n\n\n 
URL:https://okinawanheroes.com/event/20240727_daichimanwaido/
LOCATION:【イオンモール沖縄ライカム】\, 北中城村ライカム1番地
CATEGORIES:大知マン,闘牛戦士ワイドー
ATTACH;FMTTYPE=image/jpeg:https://okinawanheroes.com/cms/wp-content/uploads/2024/07/ソフトバンク握手撮影会_7月06.jpg
END:VEVENT
BEGIN:VEVENT
DTSTART;VALUE=DATE:20240727
DTEND;VALUE=DATE:20240729
DTSTAMP:20260424T195715
CREATED:20240710T083528Z
LAST-MODIFIED:20240710T083552Z
UID:5044-1722038400-1722211199@okinawanheroes.com
SUMMARY:ソフトバンクPresents 大知マン・ワイドー握手＆撮影会
DESCRIPTION:＼ソフトバンク Presents／\n君の街でヒーローと握手＆撮影！！ \nイオン北谷店 2Fフードコート前に\n27日(土)は「安全＋第一 大知マン」、28日(日)は「闘牛戦士ワイドー」が登場！！ \nヒーローと握手をして、一緒に写真を撮ろう☆ \n会場に遊びに来てくれたお友達は、ヒーローグッズの当たる抽選会にも参加できるよ♪ \n  \n\n\n\n日時\n◆2024年7月27日（土）安全＋第一 大知マンが登場！\n◆2024年7月28日（日）闘牛戦士ワイドーが登場！\n①11:00～　②13:30～　③14:30～　④15:30～\n\n\n\n会場\nイオン北谷店 2Fフードコート前\n(北谷町美浜８−３)\n\n\n\nイベントWEBサイト\n\n\n\n備考\n参加無料\n※お客様のカメラによる写真撮影になります。\n※各回15分程度、または定員に達し次第終了となります。\n※カンタンなアンケートにご協力ください。\n\n\n\n 
URL:https://okinawanheroes.com/event/20240727_daichimanwaido2/
LOCATION:【イオン北谷店】\, 北谷町美浜８−３
CATEGORIES:大知マン,闘牛戦士ワイドー
ATTACH;FMTTYPE=image/jpeg:https://okinawanheroes.com/cms/wp-content/uploads/2024/07/ソフトバンク握手撮影会_7月07.jpg
END:VEVENT
BEGIN:VEVENT
DTSTART;VALUE=DATE:20240810
DTEND;VALUE=DATE:20240812
DTSTAMP:20260424T195715
CREATED:20240806T035003Z
LAST-MODIFIED:20240807T051030Z
UID:5088-1723248000-1723420799@okinawanheroes.com
SUMMARY:ソフトバンクPresents ワイドー・大知マン握手＆撮影会
DESCRIPTION:＼ソフトバンク Presents／\n君の街でヒーローと握手＆撮影！！ \nサンエー マチナトシティに\n10日(土)は「闘牛戦士ワイドー」、11日(日)は「安全＋第一 大知マン」が登場！！ \nヒーローと握手をして、一緒に写真を撮ろう☆ \n会場に遊びに来てくれたお友達は、ヒーローグッズの当たる抽選会にも参加できるよ♪ \n  \n\n\n\n日時\n◆2024年8月10日（土）闘牛戦士ワイドーが登場！\n◆2024年8月11日（日）安全＋第一 大知マンが登場！\n①11:00～　②13:30～　③14:30～　④15:30～　⑤16:00～\n\n\n\n会場\nサンエー マチナトシティ　1F ソフトバンクブース\n(浦添市城間2008ｰ1)\n\n\n\nイベントWEBサイト\n\n\n\n備考\n参加無料\n※お客様のカメラによる写真撮影になります。\n※各回15分程度、または定員に達し次第終了となります。\n※カンタンなアンケートにご協力ください。\n\n\n\n 
URL:https://okinawanheroes.com/event/20240810_daichimanwaido/
LOCATION:【サンエー マチナトシティ】\, 浦添市城間2008−1
CATEGORIES:大知マン,闘牛戦士ワイドー
ATTACH;FMTTYPE=image/jpeg:https://okinawanheroes.com/cms/wp-content/uploads/2024/08/ソフトバンク握手撮影会_8月1011-1.jpg
END:VEVENT
BEGIN:VEVENT
DTSTART;VALUE=DATE:20240920
DTEND;VALUE=DATE:20240921
DTSTAMP:20260424T195715
CREATED:20240909T095746Z
LAST-MODIFIED:20241028T022728Z
UID:5117-1726790400-1726876799@okinawanheroes.com
SUMMARY:ソフトバンクPresents 大知マン握手＆撮影会
DESCRIPTION:＼ソフトバンク Presents／\n君の街でヒーローと握手＆撮影！！ \n9月20日(金)は「安全+第一 大知マン」が\nイオン具志川店に登場！！ \nヒーローと握手をして、一緒に写真を撮ろう☆ \n会場に遊びに来てくれたお友達は、\nヒーローグッズの当たる抽選会にも参加できるよ♪ \n\n\n\n日時\n◆2024年9月20日（金）安全+第一 大知マン\n①11:00～　②13:30～　③14:30～　④15:30～　⑤16:30～\n\n\n\n会場\nイオン具志川店　2F　イベント広場\n(うるま市前原 幸崎原303番地)\n\n\n\nイベントWEBサイト\n\n\n\n備考\n参加無料\n※お客様のカメラによる写真撮影になります。\n※各回15分程度、または定員に達し次第終了となります。\n※カンタンなアンケートにご協力ください。\n\n\n\n 
URL:https://okinawanheroes.com/event/20240920_daichiman/
LOCATION:【イオン具志川店】\, うるま市字前原幸崎原303番地
CATEGORIES:大知マン
ATTACH;FMTTYPE=image/jpeg:https://okinawanheroes.com/cms/wp-content/uploads/2024/09/ソフトバンク握手撮影会_9月_0920-scaled.jpg
END:VEVENT
BEGIN:VEVENT
DTSTART;VALUE=DATE:20241231
DTEND;VALUE=DATE:20250101
DTSTAMP:20260424T195715
CREATED:20241101T032403Z
LAST-MODIFIED:20241101T032642Z
UID:5243-1735603200-1735689599@okinawanheroes.com
SUMMARY:(株)悪の秘密結社「大暴年会2024」／大知マン・ハブクラーゲン出演
DESCRIPTION:悪の秘密結社の「大暴年会」に今年も\n大知マンとハブクラーゲンの出演が決定！！ \n全国のヒーロー＆ヴィランとのコラボヒーローショーは必見です！！\nもちろんそれぞれの隠し芸もお楽しみに♪ \n\n\n\n日時\n◆2024年12月31日（水）\n第一部「ヒーローショー」／12:00開場　13:00開演\n第二部「隠し芸大会」／17:00開場　18:00開演\n\n\n会場\nベイサイドプレイス博多\n(福岡県福岡市博多区築港本町13-6)\n\n\n\nイベントWEBサイト\nhttps://tiget.net/events/356843\n\n\n備考\n《チケットについて》\n●販売開始：11月3日(日)19：00～ (先着順)\n●料金：各部 8\,500円(＋ワンドリンク)チケットの購入はコチラ\nhttps://tiget.net/events/356843\n\n\n\n詳しくはイベントWEBサイトをご覧ください。
URL:https://okinawanheroes.com/event/20241231_daichiman/
LOCATION:【ベイサイドプレイス博多】\, 福岡県福岡市博多区築港本町１３−６
CATEGORIES:大知マン,琉神マブヤー
ATTACH;FMTTYPE=image/jpeg:https://okinawanheroes.com/cms/wp-content/uploads/2024/11/大暴年会2024.jpg
END:VEVENT
END:VCALENDAR