BEGIN:VCALENDAR
VERSION:2.0
PRODID:-//【公式】オキナワンヒーローズ - ECPv6.15.20//NONSGML v1.0//EN
CALSCALE:GREGORIAN
METHOD:PUBLISH
X-ORIGINAL-URL:https://okinawanheroes.com
X-WR-CALDESC:【公式】オキナワンヒーローズ のイベント
REFRESH-INTERVAL;VALUE=DURATION:PT1H
X-Robots-Tag:noindex
X-PUBLISHED-TTL:PT1H
BEGIN:VTIMEZONE
TZID:Asia/Tokyo
BEGIN:STANDARD
TZOFFSETFROM:+0900
TZOFFSETTO:+0900
TZNAME:JST
DTSTART:20220101T000000
END:STANDARD
END:VTIMEZONE
BEGIN:VEVENT
DTSTART;VALUE=DATE:20231118
DTEND;VALUE=DATE:20231120
DTSTAMP:20260425T034415
CREATED:20231011T053730Z
LAST-MODIFIED:20231109T072615Z
UID:4358-1700265600-1700438399@okinawanheroes.com
SUMMARY:2023日本ローカルヒーロー祭 10TH ANNIVERSARY／大知マン＆シュタール登場
DESCRIPTION:千葉県で行われる\n「2023日本ローカルヒーロー祭 10TH ANNIVERSARY」に\n安全＋第一 大知マン＆大知マンシュタールが登場！！\n \n18日・19日ともに、グリーティングとグッズの販売を行います。 \n全国のファンの皆！！\n大知マンとシュタールに会いに来てね★ \n\n\n\n開催日時\n2023年11月18日（土）10:15～17:00　観覧無料\n2023年11月19日（日）10:30～18:00　有料チケット制\n※グリーティング時間　未定\n\n\n会場\n18日(土) ：アリオ蘇我\n(千葉県千葉市中央区川崎町５２−７)19日(日) ： フェスティバルウォーク蘇我\n(千葉県千葉市中央区川崎町５１−１)\n\n\nイベントWEBサイト\nhttps://yatsutama.com/localherojp/\n\n\n備考\n\n\n\n\n詳しくはイベントWEBサイトをご覧ください。
URL:https://okinawanheroes.com/event/20231118%e5%a4%a7%e7%9f%a5%e3%83%9e%e3%83%b3/
LOCATION:【アリオ蘇我】\, 千葉県千葉市中央区川崎町５２−７
CATEGORIES:大知マン
ATTACH;FMTTYPE=image/jpeg:https://okinawanheroes.com/cms/wp-content/uploads/2023/10/ローカルヒーロー祭り2023.jpg
END:VEVENT
END:VCALENDAR