BEGIN:VCALENDAR
VERSION:2.0
PRODID:-//【公式】オキナワンヒーローズ - ECPv6.15.20//NONSGML v1.0//EN
CALSCALE:GREGORIAN
METHOD:PUBLISH
X-WR-CALNAME:【公式】オキナワンヒーローズ
X-ORIGINAL-URL:https://okinawanheroes.com
X-WR-CALDESC:【公式】オキナワンヒーローズ のイベント
REFRESH-INTERVAL;VALUE=DURATION:PT1H
X-Robots-Tag:noindex
X-PUBLISHED-TTL:PT1H
BEGIN:VTIMEZONE
TZID:Asia/Tokyo
BEGIN:STANDARD
TZOFFSETFROM:+0900
TZOFFSETTO:+0900
TZNAME:JST
DTSTART:20220101T000000
END:STANDARD
END:VTIMEZONE
BEGIN:VEVENT
DTSTART;VALUE=DATE:20231224
DTEND;VALUE=DATE:20231225
DTSTAMP:20260425T014036
CREATED:20231221T052633Z
LAST-MODIFIED:20231221T052903Z
UID:4599-1703376000-1703462399@okinawanheroes.com
SUMMARY:ユニポン来店イベントに大知マンがやってくる
DESCRIPTION:12月24日(土)は今年最後のユニポン来店イベント！！ \nスペシャルゲストに大知マンも登場♪\nユニポン＆大知マンと握手や記念撮影ができるよ！\nユニポンからプレゼントも！！ \nクリスマスイブはユニオン津嘉山店に\nユニポンと大知マンに会いに来てね～☆ \n\n\n\n出演\n安全第一 大知マン\n\n\n開催日時\n2023年12月24日(日)\n大知マンの登場 ①11:00～ ②13:00～ ③14:00～\n\n\n\n会場\nフレッシュプラザユニオン津嘉山店\n（南風原町津嘉山1324）\n\n\nイベントWEBサイト\n\n\n\n備考\n※雨天時は、中止となる場合がございます。予めご了承ください。\n\n\n\n詳しくはイベントWEBサイトをご覧ください。
URL:https://okinawanheroes.com/event/20231224%e5%a4%a7%e7%9f%a5%e3%83%9e%e3%83%b3/
LOCATION:【フレッシュプラザユニオン津嘉山店】\, 南風原町津嘉山1324
CATEGORIES:大知マン
ATTACH;FMTTYPE=image/jpeg:https://okinawanheroes.com/cms/wp-content/uploads/2023/12/GBxBHJGaMAAavg3.jpg
END:VEVENT
END:VCALENDAR