BEGIN:VCALENDAR
VERSION:2.0
PRODID:-//【公式】オキナワンヒーローズ - ECPv6.15.20//NONSGML v1.0//EN
CALSCALE:GREGORIAN
METHOD:PUBLISH
X-ORIGINAL-URL:https://okinawanheroes.com
X-WR-CALDESC:【公式】オキナワンヒーローズ のイベント
REFRESH-INTERVAL;VALUE=DURATION:PT1H
X-Robots-Tag:noindex
X-PUBLISHED-TTL:PT1H
BEGIN:VTIMEZONE
TZID:Asia/Tokyo
BEGIN:STANDARD
TZOFFSETFROM:+0900
TZOFFSETTO:+0900
TZNAME:JST
DTSTART:20220101T000000
END:STANDARD
END:VTIMEZONE
BEGIN:VEVENT
DTSTART;VALUE=DATE:20230716
DTEND;VALUE=DATE:20230717
DTSTAMP:20260425T093403
CREATED:20230715T143421Z
LAST-MODIFIED:20230715T143611Z
UID:4063-1689465600-1689551999@okinawanheroes.com
SUMMARY:ベスト電器 イオン南風原店／大知マン 握手＆撮影会
DESCRIPTION:毎週ヒーローに会える！？SPECIAL年間企画！！ \n7月16日(日曜日)は、\nベスト電器 イオン南風原店に安全＋第一 大知マンが登場！！ \n大知マンと握手をして、一緒に記念写真を撮ろう♪ \n\n\n\n開催日時\n2023年7月16日（日）\n①11：00～\n②13：00～\n③15：00～\n④17：00～\n\n\n\n会場\nベスト電器 イオン南風原店　＜１F ベスト電器前＞\n(南風原町宮平２６４)\n\n\n\nイベントWEBサイト\n\n\n\n備考\n※カンタンなアンケートに参加いただいた方へチケットをお渡しいたします\n※1開催30分程度を予定しております\n※各回定員に達し次第終了となります\n※当日はお客様のカメラによる写真撮影のみとなります\n\n\n\n詳しくはイベントWEBサイトをご覧ください。
URL:https://okinawanheroes.com/event/20230716%e5%a4%a7%e7%9f%a5%e3%83%9e%e3%83%b3%e6%8f%a1%e6%89%8b%ef%bc%86%e6%92%ae%e5%bd%b1%e4%bc%9a/
LOCATION:【イオン南風原店】\, 南風原町宮平２６４
CATEGORIES:大知マン
ATTACH;FMTTYPE=image/jpeg:https://okinawanheroes.com/cms/wp-content/uploads/2023/07/20230716_大知マン握手＆撮影会.jpg
END:VEVENT
BEGIN:VEVENT
DTSTART;VALUE=DATE:20230723
DTEND;VALUE=DATE:20230724
DTSTAMP:20260425T093403
CREATED:20230715T145044Z
LAST-MODIFIED:20230720T020801Z
UID:4073-1690070400-1690156799@okinawanheroes.com
SUMMARY:エディオン 浦添西海岸パルコシティ店／大知マン 握手＆撮影会
DESCRIPTION:毎週ヒーローに会える！？SPECIAL年間企画！！ \n7月23日(日曜日)は、\nエディオン 浦添西海岸パルコシティ店に安全＋第一 大知マンが登場！！ \n大知マンと握手をして、一緒に記念写真を撮ろう♪ \n\n\n\n開催日時\n2023年7月23日（日）\n①11：00～11：20\n②13：00～13：20\n③14：00～14：20\n④15：00～15：20\n\n\n\n会場\nエディオン 浦添西海岸パルコシティ店　＜1F・グリーンゾーン　エディオン携帯コーナーサテライトブース＞\n(浦添市西洲３丁目１−１)\n\n\n\nイベントWEBサイト\nhttps://www.san-a.co.jp/event/daichiman-202308/\n\n\n備考\n※各回 先着10名様限りとなります\n※撮影はお客様のカメラ(スマホ等)にてお願い致します\n※整理券の配布はございません\n\n\n\n詳しくはイベントWEBサイトをご覧ください。
URL:https://okinawanheroes.com/event/20230723%e5%a4%a7%e7%9f%a5%e3%83%9e%e3%83%b3%e6%8f%a1%e6%89%8b%ef%bc%86%e6%92%ae%e5%bd%b1%e4%bc%9a/
LOCATION:【サンエー 浦添西海岸パルコシティ】\, 浦添市西洲３丁目１−１
CATEGORIES:大知マン
ATTACH;FMTTYPE=image/jpeg:https://okinawanheroes.com/cms/wp-content/uploads/2023/07/20230716_大知マン握手＆撮影会_S.jpg
END:VEVENT
END:VCALENDAR