BEGIN:VCALENDAR
VERSION:2.0
PRODID:-//【公式】オキナワンヒーローズ - ECPv6.15.20//NONSGML v1.0//EN
CALSCALE:GREGORIAN
METHOD:PUBLISH
X-WR-CALNAME:【公式】オキナワンヒーローズ
X-ORIGINAL-URL:https://okinawanheroes.com
X-WR-CALDESC:【公式】オキナワンヒーローズ のイベント
REFRESH-INTERVAL;VALUE=DURATION:PT1H
X-Robots-Tag:noindex
X-PUBLISHED-TTL:PT1H
BEGIN:VTIMEZONE
TZID:Asia/Tokyo
BEGIN:STANDARD
TZOFFSETFROM:+0900
TZOFFSETTO:+0900
TZNAME:JST
DTSTART:20230101T000000
END:STANDARD
END:VTIMEZONE
BEGIN:VEVENT
DTSTART;VALUE=DATE:20240127
DTEND;VALUE=DATE:20240128
DTSTAMP:20260424T214123
CREATED:20240123T082907Z
LAST-MODIFIED:20240123T082907Z
UID:4694-1706313600-1706399999@okinawanheroes.com
SUMMARY:イオンde節分 豆まきパーティー／マングーチュ＆オニヒトデービル登場
DESCRIPTION:鬼は外！　福は内！\n悪の軍団マジムンと楽しい豆まき体験＆撮影会に\nマングーチュ＆オニヒトデービルが登場！！ \nみんなで豆まき体験をして一年の幸せを祈ろう♪ \nイオン南風原店に集まれ～♪ \n\n\n\n開催日時\n2024年1月27日(土)\n①11:00～　②15:00～\n※開始30分前に整理券を配布致します。\n\n\n会場\nイオン南風原店　2F直営売り場側エスカレーター近く\n(南風原町宮平２６４)\n\n\nイベントWEBサイト\nイオン琉球HP\nhttps://www.aeon-ryukyu.jp/event/\n\n\n備考\n参加無料\n各回先着50名限定。\n※ご参加は小学校3年生までとなります。\n※諸般の事情によりイベントが中止・変更となる場合があります。\n\n\n\n詳しくはイベントWEBサイトをご覧ください。
URL:https://okinawanheroes.com/event/%e3%82%a4%e3%82%aa%e3%83%b3de%e7%af%80%e5%88%86-%e8%b1%86%e3%81%be%e3%81%8d%e3%83%91%e3%83%bc%e3%83%86%e3%82%a3%e3%83%bc%ef%bc%8f%e3%83%9e%e3%83%b3%e3%82%b0%e3%83%bc%e3%83%81%e3%83%a5%ef%bc%86/
LOCATION:【イオン南風原店】\, 南風原町宮平２６４
CATEGORIES:琉神マブヤー
ATTACH;FMTTYPE=image/jpeg:https://okinawanheroes.com/cms/wp-content/uploads/2024/01/2024豆まきEv_0127A南_半尺300_450-scaled.jpg
END:VEVENT
END:VCALENDAR