BEGIN:VCALENDAR
VERSION:2.0
PRODID:-//【公式】オキナワンヒーローズ - ECPv6.15.20//NONSGML v1.0//EN
CALSCALE:GREGORIAN
METHOD:PUBLISH
X-WR-CALNAME:【公式】オキナワンヒーローズ
X-ORIGINAL-URL:https://okinawanheroes.com
X-WR-CALDESC:【公式】オキナワンヒーローズ のイベント
REFRESH-INTERVAL;VALUE=DURATION:PT1H
X-Robots-Tag:noindex
X-PUBLISHED-TTL:PT1H
BEGIN:VTIMEZONE
TZID:Asia/Tokyo
BEGIN:STANDARD
TZOFFSETFROM:+0900
TZOFFSETTO:+0900
TZNAME:JST
DTSTART:20230101T000000
END:STANDARD
END:VTIMEZONE
BEGIN:VEVENT
DTSTART;VALUE=DATE:20240223
DTEND;VALUE=DATE:20240224
DTSTAMP:20260424T195055
CREATED:20240222T085157Z
LAST-MODIFIED:20240222T093726Z
UID:4721-1708646400-1708732799@okinawanheroes.com
SUMMARY:読売巨人軍 2024年春季那覇キャンプ／琉神マブヤー＆龍神ガナシー
DESCRIPTION:春季那覇キャンプ中の読売巨人軍が\nファンサービスとしてダンスや音楽演奏でキャンプを盛り上げるステージイベントなどで来場者をおもてなし。 \n23日(金・祝) オープン戦の「めんそ～れSTAGE」には琉神マブヤー＆龍神ガナシーが登場！！ \n読売巨人軍公式マスコットガール「VENUS」とのコラボステージをお見逃しなく♪\nマブヤー達と一緒にマブヤーダンスを踊ろう！ \nダンスの後は、握手・撮影会もあるよ！ \n\n\n\n開催日時\n2024年2月23日(金・祝)\n登場時間／試合終了後～\n\n\n会場\n沖縄セルラースタジアム那覇　めんそ～れSTAGE\n(沖縄県那覇市奥武山町４２−１)\n\n\nイベントWEBサイト\n読売巨人軍　公式サイト\nhttps://www.giants.jp/news/22449/\n\n\n備考\nめんそ～れSTAGEは無料エリア、屋外ステージになります。\n※23日(金･祝)　《オープン戦＝有料》対阪神タイガース　午後13:00開始（午前11:00開場）\n\n\n\n詳しくはイベントWEBサイトをご覧ください。
URL:https://okinawanheroes.com/event/%e8%aa%ad%e5%a3%b2%e3%82%b8%e3%83%a3%e3%82%a4%e3%82%a2%e3%83%b3%e3%83%84-2024%e5%b9%b4%e6%98%a5%e5%ad%a3%e9%82%a3%e8%a6%87%e3%82%ad%e3%83%a3%e3%83%b3%e3%83%97%ef%bc%8f%e7%90%89%e7%a5%9e%e3%83%9e/
LOCATION:【沖縄セルラースタジアム那覇】\, 沖縄県那覇市奥武山町４２−１
CATEGORIES:琉神マブヤー
ATTACH;FMTTYPE=image/jpeg:https://okinawanheroes.com/cms/wp-content/uploads/2024/02/thumbW480_photo1.jpg
END:VEVENT
END:VCALENDAR