BEGIN:VCALENDAR
VERSION:2.0
PRODID:-//【公式】オキナワンヒーローズ - ECPv6.15.20//NONSGML v1.0//EN
CALSCALE:GREGORIAN
METHOD:PUBLISH
X-WR-CALNAME:【公式】オキナワンヒーローズ
X-ORIGINAL-URL:https://okinawanheroes.com
X-WR-CALDESC:【公式】オキナワンヒーローズ のイベント
REFRESH-INTERVAL;VALUE=DURATION:PT1H
X-Robots-Tag:noindex
X-PUBLISHED-TTL:PT1H
BEGIN:VTIMEZONE
TZID:Asia/Tokyo
BEGIN:STANDARD
TZOFFSETFROM:+0900
TZOFFSETTO:+0900
TZNAME:JST
DTSTART:20210101T000000
END:STANDARD
END:VTIMEZONE
BEGIN:VEVENT
DTSTART;VALUE=DATE:20221015
DTEND;VALUE=DATE:20221016
DTSTAMP:20260426T121112
CREATED:20220928T030643Z
LAST-MODIFIED:20221012T055951Z
UID:3016-1665792000-1665878399@okinawanheroes.com
SUMMARY:第17回『うるま祭り』／闘牛戦士ワイドーショー
DESCRIPTION:うるま祭りにうるま市の二大ヒーローがやってくる！！ \n闘牛戦士ワイドーのお話の舞台でもある「うるま市」のお祭り♪\nワイドーやウルマーと一緒にお祭りを楽しもう！ \nワイドーグッズの販売もあるよ！！ \n\n\n\n開催日時\n2022年10月15日（土）\n■闘牛戦士ワイドーショー\n①15:05～ (サブステージ)　②16:45～ (メインステージ)\n\n\n会場\nうるま市具志川総合運動公園　メインステージ・サブステージ\n(沖縄県うるま市大田421)\n\n\n\nイベントWEBサイト\nうるま市(第17回うるま祭りについて)\nhttps://www.city.uruma.lg.jp/culture/1249/9113/26273\n\n\n備考\n入場無料・駐車場あり\n※駐車場には限りがございますので、公共交通などをご利用ください。\n\n\n\n詳しくはイベントWEBサイトをご覧ください。
URL:https://okinawanheroes.com/event/%e7%ac%ac17%e5%9b%9e%e3%81%86%e3%82%8b%e3%81%be%e7%a5%ad%e3%82%8a/
LOCATION:【うるま市具志川総合運動公園】\, 沖縄県うるま市大田421
CATEGORIES:闘牛戦士ワイドー
ATTACH;FMTTYPE=image/jpeg:https://okinawanheroes.com/cms/wp-content/uploads/2022/10/1015うるま祭り.jpg
END:VEVENT
BEGIN:VEVENT
DTSTART;VALUE=DATE:20221010
DTEND;VALUE=DATE:20221011
DTSTAMP:20260426T121112
CREATED:20221008T115457Z
LAST-MODIFIED:20221008T120136Z
UID:3068-1665360000-1665446399@okinawanheroes.com
SUMMARY:うるマルシェ／闘牛戦士ワイドークイズ＆ダンス
DESCRIPTION:闘牛のまち宣言のうるま市では勝手に10月9日は「闘牛の日」ということで、\n10月10日(月・祝)にうるマルシェで闘牛イベントが開催！ \n闘牛を学ぼう！知ろう！ふれあおう！ \n闘牛戦士ワイドーと闘牛のことを楽しいクイズで知って学ぼう♪\n踊れるみんなは、ワイドーダンスも一緒に踊ってね！ \n\n\n\n開催日時\n2022年10月10日（月・祝）13:30～\n闘牛戦士ワイドークイズ＆ダンス\n\n\n\n会場\nうるマルシェ\n(うるま市前原１８３−２)\n\n\n\nイベントWEBサイト\n\n\n\n備考\n※イベントの内容が変更・中止になる場合もございます。\n\n\n\n 
URL:https://okinawanheroes.com/event/%e3%81%86%e3%82%8b%e3%83%9e%e3%83%ab%e3%82%b7%e3%82%a7/
LOCATION:【うるマルシェ】\, うるま市前原１８３−２
CATEGORIES:闘牛戦士ワイドー
ATTACH;FMTTYPE=image/jpeg:https://okinawanheroes.com/cms/wp-content/uploads/2022/10/Fehfi1OaEAAiZ7q-のコピー.jpg
END:VEVENT
BEGIN:VEVENT
DTSTART;VALUE=DATE:20221008
DTEND;VALUE=DATE:20221010
DTSTAMP:20260426T121112
CREATED:20221003T024340Z
LAST-MODIFIED:20221003T025028Z
UID:3041-1665187200-1665359999@okinawanheroes.com
SUMMARY:富士葬祭『糸満西崎ホール』OPENイベント／オキナワンヒーローズが登場！
DESCRIPTION:富士葬祭の「糸満西崎ホール」がグランドオープン！！ ８日、９日の２日間はOPENイベント開催♪ \n8日(土)は、琉神マブヤー・龍神ガナシーが登場！\n9日(日)は、安全第一大知マン・闘牛戦士ワイドーが登場！ \n家族みんなで会いにきてね！ \n\n\n\n出演\n8日(土)：琉神マブヤー・龍神ガナシー\n9日(日)：安全第一大知マン・闘牛戦士ワイドー\n\n\n開催日時\n2022年10月8日(土)・９日(日)\n１回目／１１:００～\n２回目／１４:００～\n\n\n会場\n富士葬祭　メモリアルホール富士会館 糸満西崎ホール\n(糸満市西崎町5-12-8)\nWEBサイト：https://www.fuji-sosai.co.jp/\n\n\nイベントWEBサイト\n\n\n\n備考\n駐車場 12台\n\n\n\n詳しくはイベントWEBサイトをご覧ください。
URL:https://okinawanheroes.com/event/%e5%af%8c%e5%a3%ab%e8%91%ac%e7%a5%ad%e3%80%8e%e7%b3%b8%e6%ba%80%e8%a5%bf%e5%b4%8e%e3%83%9b%e3%83%bc%e3%83%ab%e3%80%8fopen%e3%82%a4%e3%83%99%e3%83%b3%e3%83%88/
LOCATION:【富士葬祭　メモリアルホール富士会館 糸満西崎ホール】\, 糸満市西崎町5-12-8
CATEGORIES:大知マン,琉神マブヤー,闘牛戦士ワイドー
ATTACH;FMTTYPE=image/jpeg:https://okinawanheroes.com/cms/wp-content/uploads/2022/10/富士葬祭10月8・9日-1.jpg
END:VEVENT
BEGIN:VEVENT
DTSTART;VALUE=DATE:20220911
DTEND;VALUE=DATE:20220912
DTSTAMP:20260426T121112
CREATED:20220901T064328Z
LAST-MODIFIED:20220901T064512Z
UID:2939-1662854400-1662940799@okinawanheroes.com
SUMMARY:2022 救急フェア　闘牛戦士ワイドーがやってくる!!
DESCRIPTION:うるま市消防本部 2022救急フェアに闘牛戦士ワイドーがやってくる!! \nワイドーの主題歌を担当するHY 許田信介さんが一日救急隊長就任！！\nセレモニーでは闘牛戦士ワイドー達によるAED実演劇場があるよ。午後2時からは闘牛戦士ワイドーショーも♪ \n\n\n\n出演\n闘牛戦士ワイドー\n\n\n開催日時\n2022年9月11日（日）\n●闘牛戦士ワイドーAED劇場／11:45～\n●闘牛戦士ワイドーショー／14:00～\n\n\n\n会場\nイオン具志川ショッピングセンター 2F　イベント広場\n(〒904-2235 沖縄県うるま市字前原幸崎原303番地)\n\n\n\nイベントWEBサイト\nうるま市(うるま市消防「救急フェア2022」の開催について)\nhttps://www.city.uruma.lg.jp/tiiki/153/1605/3590\n\n\n備考\n観覧無料\n\n\n\n詳しくはイベントWEBサイトをご覧ください。
URL:https://okinawanheroes.com/event/2022-%e6%95%91%e6%80%a5%e3%83%95%e3%82%a7%e3%82%a2%e3%80%80%e9%97%98%e7%89%9b%e6%88%a6%e5%a3%ab%e3%83%af%e3%82%a4%e3%83%89%e3%83%bc%e3%81%8c%e3%82%84%e3%81%a3%e3%81%a6%e3%81%8f%e3%82%8b/
LOCATION:【イオン具志川店】\, うるま市字前原幸崎原303番地
CATEGORIES:闘牛戦士ワイドー
ATTACH;FMTTYPE=image/jpeg:https://okinawanheroes.com/cms/wp-content/uploads/2022/09/2022救急フェア.jpg
END:VEVENT
BEGIN:VEVENT
DTSTART;VALUE=DATE:20220821
DTEND;VALUE=DATE:20220822
DTSTAMP:20260426T121112
CREATED:20220816T083024Z
LAST-MODIFIED:20220816T084917Z
UID:2901-1661040000-1661126399@okinawanheroes.com
SUMMARY:オキナワンヒーローズがやってくる！
DESCRIPTION:イーアス豊崎のダイワ プレミスト ラウンジに琉神マブヤーと闘牛戦士ワイドーが登場！！ \nアンケートご記入で一緒に写真も撮れるよ♪　各回先着50名！\nダイワハウス マンション友の会入会で、オリジナルグッズプレゼント★ \n\n\n\n出演\n琉神マブヤー\n闘牛戦士ワイドー\n\n\n開催日時\n2022年8月21日（日）　各回50組\n①11:00～　②13:30～　③15:30～※撮影会参加券の配布は各回1時間前から\n※アンケートご記入で撮影会参加券を配布いたします。\n\n\n会場\nイーアス豊崎 3F　ダイワ プレミスト ラウンジ 前\n(〒901-0225 沖縄県豊見城市豊崎3-35)\n\n\nイベントWEBサイト\nイーアス豊崎 イベントページ\nhttps://toyosaki.iias.jp/page/hirodjaflkjaダイワ プレミスト ラウンジについてはコチラ\nhttps://www.daiwahouse.co.jp/mansion/concept/okinawa/premistlounge.html\n\n\n備考\n撮影会へは参加券が必要です \n＼先着300名限定／\n入会無料のダイワハウス マンション友の会「プレミストクラブ」にご入会で\nプレミストオリジナルノベルティバッグやプレミスト×オキナワンヒーローズのコラボ缶バッジをプレゼント！ \n※ご来場の方全員 マスクの着用、アルコールによる手指の消毒のご協力をお願いいたします。\n※キャラクターショーではありません。撮影はお手持ちのカメラで撮影していただきます。\n※体調不良の方(咳、ふらつきなど)、スタッフの指示に従っていただけない方はご参加をお断りすることがございます。\n\n\n\n詳しくはイベントWEBサイトをご覧ください。
URL:https://okinawanheroes.com/event/20220821/
LOCATION:【イーアス豊崎 3F　ダイワ プレミスト ラウンジ 前】\, 沖縄県豊見城市豊崎3−35\, 日本
CATEGORIES:琉神マブヤー,闘牛戦士ワイドー
ATTACH;FMTTYPE=image/jpeg:https://okinawanheroes.com/cms/wp-content/uploads/2022/08/20220821.jpg
END:VEVENT
BEGIN:VEVENT
DTSTART;VALUE=DATE:20220507
DTEND;VALUE=DATE:20220508
DTSTAMP:20260426T121112
CREATED:20220427T110251Z
LAST-MODIFIED:20220502T085114Z
UID:2820-1651881600-1651967999@okinawanheroes.com
SUMMARY:沖縄ファミリーマート店頭イベント開催！
DESCRIPTION:~沖縄の子どもたちを元気に~\n沖縄ファミリーマートとオキナワンヒーローズが夢のコラボ！ \n沖縄ファミリーマート4店舗にて、コラボ商品発売記念イベント開催決定!\nオキナワンヒーローズと一緒に写真撮影ができます！ \n\n\n\n開催日時\n2022年5月7日(土)\n12:00～／17:00～\n\n\n会場\n●12:00～\nファミリーマート 北谷上勢頭店 ／ 安全第一大知マン＆琉神マブヤー\nファミリーマート 宜野湾大山3丁目店 ／ 闘牛戦士ワイドー＆龍神ガナシー \n●17:00～\nファミリーマート 天久2丁目店 ／ 琉神マブヤー＆龍神ガナシー\nファミリーマート 58号浦添港川店 ／ 闘牛戦士ワイドー＆安全第一大知マン\n\n\nイベントWEBサイト\n「GWスペシャル企画」 ファミリーマートでヒーローズに会える!！\nhttps://www.okinawa-familymart.jp/campaign/detail.html?cid=22735 \n沖縄ファミリーマート ~沖縄の子どもたちを元気に~ オキナワンヒーローズと夢のコラボ！\nhttps://www.okinawa-familymart.jp/campaign/detail.html?cid=22625\n\n\n備考\n※当日出演ヒーローが変更になる場合がございます。予めご了承ください。\n※雨天の場合、中止することがあります。ご了承ください。\n※時間の限りがあり、記念撮影出来ない場合があります。\n※撮影機材は、ご自身でご準備ください。\n\n\n\n詳しくはイベントWEBサイトをご覧ください。
URL:https://okinawanheroes.com/event/%e6%b2%96%e7%b8%84%e3%83%95%e3%82%a1%e3%83%9f%e3%83%aa%e3%83%bc%e3%83%9e%e3%83%bc%e3%83%88%e5%ba%97%e9%a0%ad%e3%82%a4%e3%83%99%e3%83%b3%e3%83%88/
LOCATION:【沖縄ファミリーマート　4店舗】
CATEGORIES:大知マン,琉神マブヤー,闘牛戦士ワイドー
ATTACH;FMTTYPE=image/jpeg:https://okinawanheroes.com/cms/wp-content/uploads/2022/04/GWスペシャル企画.jpg
END:VEVENT
BEGIN:VEVENT
DTSTART;VALUE=DATE:20220507
DTEND;VALUE=DATE:20220508
DTSTAMP:20260426T121112
CREATED:20220427T101751Z
LAST-MODIFIED:20220502T084411Z
UID:2813-1651881600-1651967999@okinawanheroes.com
SUMMARY:琉球ゴールデンキングス／オキナワンヒーローズが登場
DESCRIPTION:5/7(土)、沖縄アリーナで行われる琉球ゴールデンキングス 広島戦のハーフタイムに\nオキナワンヒーローズから 琉神マブヤー、闘牛戦士ワイドー 安全第一大知マン、龍神ガナシーが登場！ \n\n\n\n開催日時\n2022年5月7日(土)\n時間：15:00～(ハーフタイムに出演予定)\n\n\n\n会場\n沖縄アリーナ\n(〒904-0034 沖縄県沖縄市山内1丁目16−1)\nWEBサイト：https://okinawa-arena.jp/\n\n\n\nイベントWEBサイト\n琉球ゴールデンキングス公式\nhttps://goldenkings.jp/news/detail/id=16793\n\n\n備考\n\n\n\n\n詳しくはイベントWEBサイトをご覧ください。
URL:https://okinawanheroes.com/event/%e7%90%89%e7%90%83%e3%82%b4%e3%83%bc%e3%83%ab%e3%83%87%e3%83%b3%e3%82%ad%e3%83%b3%e3%82%b0%e3%82%b9/
LOCATION:【沖縄アリーナ】\, 沖縄県沖縄市山内1丁目16−1
CATEGORIES:大知マン,琉神マブヤー,闘牛戦士ワイドー
ATTACH;FMTTYPE=image/jpeg:https://okinawanheroes.com/cms/wp-content/uploads/2022/04/220426_event5-500x0-1.jpg
END:VEVENT
BEGIN:VEVENT
DTSTART;VALUE=DATE:20220503
DTEND;VALUE=DATE:20220506
DTSTAMP:20260426T121112
CREATED:20220430T054338Z
LAST-MODIFIED:20220430T054338Z
UID:2849-1651536000-1651795199@okinawanheroes.com
SUMMARY:海洋博公園　オキナワンヒーローズ３Days
DESCRIPTION:GWは海洋博公園でオキナワンヒーローズ3days！！\n3日間にわたって毎日違うヒーローが登場するよ♪ \nステージはリニューアルオープンした「おきなわ郷土村 ゆくい処 舞台」になります。\nみんなで応援にきてね♪ \n\n\n\n開催日時\n2022年5月3日（火・祝）・4日（水・祝）・5日（木・祝）\n11:00～／14:00～\n※ステージの時間は変更になる場合がございます。\n\n\n会場\n会場海洋博公園　おきなわ郷土村 ゆくい処 舞台\n(沖縄県国頭郡本部町石川424番地)\nWEBサイト：https://oki-park.jp/kaiyohaku/\n\n\n出演\n・5/3「琉神マブヤー」\n・5/4「エイカーズ」\n・5/5「闘牛戦士ワイドー」\n\n\nイベントWEBサイト\nhttps://oki-park.jp/kaiyohaku/events/detail/6951\n\n\n備考\n観覧無料
URL:https://okinawanheroes.com/event/%e6%b5%b7%e6%b4%8b%e5%8d%9a%e5%85%ac%e5%9c%92%e3%80%80%e3%82%aa%e3%82%ad%e3%83%8a%e3%83%af%e3%83%b3%e3%83%92%e3%83%bc%e3%83%ad%e3%83%bc%e3%82%ba%ef%bc%93days/
LOCATION:【海洋博公園】\, 沖縄県国頭郡本部町石川424番地
CATEGORIES:エイカーズ,琉神マブヤー,闘牛戦士ワイドー
ATTACH;FMTTYPE=image/jpeg:https://okinawanheroes.com/cms/wp-content/uploads/2022/04/20220503_GW海洋博3日間-scaled.jpg
END:VEVENT
BEGIN:VEVENT
DTSTART;VALUE=DATE:20220503
DTEND;VALUE=DATE:20220506
DTSTAMP:20260426T121112
CREATED:20220427T100535Z
LAST-MODIFIED:20220502T083646Z
UID:2807-1651536000-1651795199@okinawanheroes.com
SUMMARY:ヒーローズ縁日／闘牛戦士ワイドー＆琉神マブヤー撮影会
DESCRIPTION:5月3日・4日・5日　GWの3日間\nプレミスト浦添港川マンションギャラリーにて\nプレミスト浦添港川とオキナワンヒーローズのコラボイベント開催！ \nオキナワンヒーローズのグッズがGETできる「ヒーローズ縁日」で楽しく遊べるほか \n5月5日は闘牛戦士ワイドーと琉神マブヤーが登場！一緒に写真を撮ろう！ \n\n\n\n開催日時\n2022年5月3日(火)・4日(水)・5日(木)\nヒーローズ縁日を開催！\n10:30～17:00まで \n2022年5月5日(火)\n闘牛戦士ワイドー＆琉神マブヤーが登場！\n11:30～、14:00～、16:00～　※各回20分程度の予定\n\n\n会場\nプレミスト浦添港川マンションギャラリー\n(〒901-2134 沖縄県浦添市港川270)\nWEBサイト：https://www.daiwahouse.co.jp/mansion/kyushu/okinawa/minatogawa/\n\n\n\nイベントWEBサイト\n\n\n\n備考\n新型コロナウイルス感染症対策として当日は検温や手指の消毒、マスクの着用にご協力ください。\n\n\n\n詳しくはイベントWEBサイトをご覧ください。
URL:https://okinawanheroes.com/event/%e3%83%92%e3%83%bc%e3%83%ad%e3%83%bc%e3%82%ba%e7%b8%81%e6%97%a5%ef%bc%8f%e9%97%98%e7%89%9b%e6%88%a6%e5%a3%ab%e3%83%af%e3%82%a4%e3%83%89%e3%83%bc%ef%bc%86%e7%90%89%e7%a5%9e%e3%83%9e%e3%83%96%e3%83%a4/
LOCATION:【プレミスト浦添港川マンションギャラリー】\, 沖縄県浦添市港川270
CATEGORIES:琉神マブヤー,闘牛戦士ワイドー
ATTACH;FMTTYPE=image/jpeg:https://okinawanheroes.com/cms/wp-content/uploads/2022/04/ヒーローズ縁日_告知-scaled.jpg
END:VEVENT
BEGIN:VEVENT
DTSTART;VALUE=DATE:20220223
DTEND;VALUE=DATE:20220224
DTSTAMP:20260426T121112
CREATED:20220207T112449Z
LAST-MODIFIED:20220421T090944Z
UID:2470-1645574400-1645660799@okinawanheroes.com
SUMMARY:闘牛ドームまつり2022
DESCRIPTION:「闘牛のまち」うるま市で開催される「闘牛ドームまつり2022」に闘牛戦士ワイドーが登場！！ \n\n\n\n開催日時\n2022年2月23日（水・祝）\n闘牛戦士ワイドーショー／14:20～\n\n\n会場\nうるま市石川多目的ドーム\n(沖縄県うるま市石川２２９８−１)\nWEBサイト：https://www.city.uruma.lg.jp/sp/iina/2394\n\n\nイベントWEBサイト\nhttps://tougyufes2022.jimdofree.com/\n\n\n備考\n入場無料\n物販ブースにてワイドーグッズの販売あり\n\n\n\n詳しくはイベントWEBサイトをご覧ください。
URL:https://okinawanheroes.com/event/%e9%97%98%e7%89%9b%e6%88%a6%e5%a3%ab%e3%83%af%e3%82%a4%e3%83%89%e3%83%bc220223/
LOCATION:【うるま市石川多目的ドーム】\, 沖縄県うるま市石川２２９８−１
CATEGORIES:闘牛戦士ワイドー
ATTACH;FMTTYPE=image/jpeg:https://okinawanheroes.com/cms/wp-content/uploads/2022/02/ワイドー1.jpg
END:VEVENT
BEGIN:VEVENT
DTSTART;VALUE=DATE:20220108
DTEND;VALUE=DATE:20220111
DTSTAMP:20260426T121112
CREATED:20211230T070037Z
LAST-MODIFIED:20220421T091004Z
UID:1725-1641600000-1641859199@okinawanheroes.com
SUMMARY:海洋博公園　オキナワンヒーロー３Days
DESCRIPTION:お正月は海洋博公園でヒーローショー！！\n3日間にわたって毎日違うヒーローが登場するよ♪ \n  \n\n\n\n開催日時\n2022年1月8日（土）・9日（日）・10日（月・祝）\n11:00～／14:00～\n※ステージの時間は変更になる場合がございます。\n\n\n会場\n会場海洋博公園　中央噴水広場特設ステージ\n(沖縄県国頭郡本部町石川424番地)\nWEBサイト：https://oki-park.jp/kaiyohaku/\n\n\n出演\n・1/8「琉神マブヤー」\n・1/9「闘牛戦士ワイドー」\n・1/10「エイカーズ」\n3日間の司会は「安全＋第一大知マン」\n\n\nイベントWEBサイト\nhttps://oki-park.jp/kaiyohaku/events/detail/6505\n\n\n備考\n観覧無料
URL:https://okinawanheroes.com/event/%e6%b5%b7%e6%b4%8b%e5%8d%9a%e5%85%ac%e5%9c%92/
LOCATION:【海洋博公園】\, 沖縄県国頭郡本部町石川424番地
CATEGORIES:エイカーズ,大知マン,琉神マブヤー,闘牛戦士ワイドー
ATTACH;FMTTYPE=image/jpeg:https://okinawanheroes.com/cms/wp-content/uploads/2021/12/2022010810_海洋博3日間-scaled.jpg
END:VEVENT
END:VCALENDAR