BEGIN:VCALENDAR
VERSION:2.0
PRODID:-//【公式】オキナワンヒーローズ - ECPv6.15.20//NONSGML v1.0//EN
CALSCALE:GREGORIAN
METHOD:PUBLISH
X-WR-CALNAME:【公式】オキナワンヒーローズ
X-ORIGINAL-URL:https://okinawanheroes.com
X-WR-CALDESC:【公式】オキナワンヒーローズ のイベント
REFRESH-INTERVAL;VALUE=DURATION:PT1H
X-Robots-Tag:noindex
X-PUBLISHED-TTL:PT1H
BEGIN:VTIMEZONE
TZID:Asia/Tokyo
BEGIN:STANDARD
TZOFFSETFROM:+0900
TZOFFSETTO:+0900
TZNAME:JST
DTSTART:20220101T000000
END:STANDARD
END:VTIMEZONE
BEGIN:VEVENT
DTSTART;VALUE=DATE:20240428
DTEND;VALUE=DATE:20240429
DTSTAMP:20260424T171121
CREATED:20240411T090935Z
LAST-MODIFIED:20240426T020820Z
UID:4802-1714262400-1714348799@okinawanheroes.com
SUMMARY:TERUMA 闘牛の日／闘牛戦士ワイドー登場！
DESCRIPTION:2024GWはTERUMAで遊ぼう！\n親子で遊べるイベントがたくさんあるよ！ \n4月28日は闘牛戦士ワイドーがTERUMAにやってくる！ \nワイドーとの握手会や、楽しいクイズ大会を開催♪\n正解者にはワイドーグッズプレゼント☆ \n闘牛ふれあいもあるよ～！！ \n\n\n\n日時\n2024年4月28日（日）\n・ワイドー握手会／11:00～\n・ワイドークイズ大会／13:00～\n\n\n会場\n東海岸BBQ TERUMA\n(うるま市与那城照間１８６０−１)\n\n\n\nイベントWEBサイト\nhttps://teruma-bbq.com/\n\n\n備考\n【参加券配布】\n配布時間／11:00～\n配布場所／正面玄関前\n※1名様につき1枚配布\n(参加人数に限りがございます)\n\n\n\n詳しくはイベントWEBサイトをご覧ください。
URL:https://okinawanheroes.com/event/20240428%e9%97%98%e7%89%9b%e6%88%a6%e5%a3%ab%e3%83%af%e3%82%a4%e3%83%89%e3%83%bc/
LOCATION:【東海岸BBQ TERUMA】\, 沖縄県うるま市与那城照間１８６０−１
CATEGORIES:闘牛戦士ワイドー
ATTACH;FMTTYPE=image/jpeg:https://okinawanheroes.com/cms/wp-content/uploads/2024/04/S__18899044.jpg
END:VEVENT
BEGIN:VEVENT
DTSTART;VALUE=DATE:20240324
DTEND;VALUE=DATE:20240325
DTSTAMP:20260424T171121
CREATED:20240308T103026Z
LAST-MODIFIED:20240308T111908Z
UID:4761-1711238400-1711324799@okinawanheroes.com
SUMMARY:おんなの駅わくわくマルシェ／闘牛戦士ワイドー
DESCRIPTION:＜出張＞おんなの駅わくわくマルシェ\n能登半島地震復興支援 チャリティーイベントに\n「闘牛戦士ワイドー」が恩納岳こえてやってくるよ～ \nワイドーと一緒にクイズ・ダンス・撮影会で盛り上がろう♪ \n\n\n\n日時\n2024年3月24日（日）\nワイドー登場／13:00頃～\n\n\n\n会場\n恩納村コミュニティセンター\n(恩納村恩納４１９−３)\n\n\n\nイベントWEBサイト\n\n\n\n備考\n入場無料\n\n\n\n詳しくはイベントWEBサイトをご覧ください。
URL:https://okinawanheroes.com/event/20240324%e9%97%98%e7%89%9b%e6%88%a6%e5%a3%ab%e3%83%af%e3%82%a4%e3%83%89%e3%83%bc/
LOCATION:【恩納村コミュニティセンター】\, 沖縄県国頭郡恩納村恩納４１９−３
CATEGORIES:闘牛戦士ワイドー
ATTACH;FMTTYPE=image/jpeg:https://okinawanheroes.com/cms/wp-content/uploads/2024/03/おんなの駅わくわくマルシェ.jpg
END:VEVENT
BEGIN:VEVENT
DTSTART;VALUE=DATE:20240316
DTEND;VALUE=DATE:20240317
DTSTAMP:20260424T171121
CREATED:20240308T101537Z
LAST-MODIFIED:20240312T052950Z
UID:4755-1710547200-1710633599@okinawanheroes.com
SUMMARY:うるま津堅島にんじんフェス2024／ワイドー＆タッチュー
DESCRIPTION:津堅島ターミナルやその周辺を活用し「津堅島にんじんフェス」開催！ \n16日の津堅島音楽祭に\n闘牛戦士ワイドーとタッチュータイフーンが登場！！ \nワイドー＆タッチューと一緒にクイズ・ダンス・撮影会で盛り上がろう♪ \n\n\n\n日時\n2024年3月16日（土）\nワイドー＆タッチュー登場／12:15～\n\n\n\n会場\nキャロット愛ランドマリンターミナル\n(沖縄県うるま市勝連津堅)\n\n\n\nイベントWEBサイト\nうるま市HP\nhttps://www.city.uruma.lg.jp/1007003000/event/p000002.html\n\n\n備考\n\n\n\n\n詳しくはイベントWEBサイトをご覧ください。
URL:https://okinawanheroes.com/event/20240316%e9%97%98%e7%89%9b%e6%88%a6%e5%a3%ab%e3%83%af%e3%82%a4%e3%83%89%e3%83%bc/
LOCATION:【 キャロット愛ランドマリンターミナル】\, 沖縄県うるま市勝連津堅
CATEGORIES:闘牛戦士ワイドー
ATTACH;FMTTYPE=image/jpeg:https://okinawanheroes.com/cms/wp-content/uploads/2024/03/うるま津堅島にんじんフェス2024.jpg
END:VEVENT
BEGIN:VEVENT
DTSTART;VALUE=DATE:20240301
DTEND;VALUE=DATE:20240304
DTSTAMP:20260424T171121
CREATED:20240227T024715Z
LAST-MODIFIED:20240227T025227Z
UID:4736-1709251200-1709510399@okinawanheroes.com
SUMMARY:イオンモール沖縄ライカムにヒーローがやってくる！／ワイドー＆大知マン
DESCRIPTION:イオンモール沖縄ライカムにヒーローがやってくる！スペシャルな3日間！！ \n3月1日(金)はワイドー＆大知マンによるクイズ大会・ダンスショー＆撮影会！！\n2日(土)・3日(日)は闘牛戦士ワイドーショー！！ \nさらに、来場者はイベント限定シールも貰えるよ♪\n（簡単なアンケートにご協力ください） \nワイドー達と一緒に楽しく遊んで、いっぱい応援して楽しい3日間を過ごしてね★ \n\n\n\n日時\n◆2024年3月1日（金）\n闘牛戦士ワイドー＆安全第一大知マン「クイズ・ダンス・撮影会」\n1回目／13:00～　2回目／15:00～　3回目／17:00  \n◆2024年3月2日（土）\n闘牛戦士ワイドー「ヒーローショー」\n1回目11:00～　2回目14:00  \n◆2024年3月3日（日）\n闘牛戦士ワイドー「ヒーローショー」\n1回目11:00～　2回目14:00\n\n\n会場\nイオンモール沖縄ライカム　１Fグランドスクエア\n(北中城村ライカム1番地)\n\n\n\nイベントWEBサイト\n イオンモール沖縄ライカムHP\nhttps://okinawarycom-aeonmall.com/special/lists/marcheventlist2024/detail/10137\n\n\n備考\n観覧無料\n\n\n\n詳しくはイベントWEBサイトをご覧ください。
URL:https://okinawanheroes.com/event/%e3%82%a4%e3%82%aa%e3%83%b3%e3%83%a2%e3%83%bc%e3%83%ab%e6%b2%96%e7%b8%84%e3%83%a9%e3%82%a4%e3%82%ab%e3%83%a0%e3%81%ab%e3%83%92%e3%83%bc%e3%83%ad%e3%83%bc%e3%81%8c%e3%82%84%e3%81%a3%e3%81%a6%e3%81%8f/
LOCATION:【イオンモール沖縄ライカム】\, 北中城村ライカム1番地
CATEGORIES:大知マン,闘牛戦士ワイドー
ATTACH;FMTTYPE=image/jpeg:https://okinawanheroes.com/cms/wp-content/uploads/2024/02/20240301_ワイドーショー.jpg
END:VEVENT
BEGIN:VEVENT
DTSTART;VALUE=DATE:20240127
DTEND;VALUE=DATE:20240128
DTSTAMP:20260424T171121
CREATED:20240116T072240Z
LAST-MODIFIED:20240116T072240Z
UID:4684-1706313600-1706399999@okinawanheroes.com
SUMMARY:【第19回】うるま市産業まつり／闘牛戦士ワイドー
DESCRIPTION:【第19回】うるま市産業まつり \n産業の魅力を体験！心と技が織りなす感動産業特区！\n2日間にわたり、イオン具志川店と沖縄県工業技術センターにて同時開催。 \n闘牛戦士ワイドーは１日目、27日(土) イオン具志川店に登場！\nワイドーとのクイズ大会、ワイドー達が活躍するヒーローショーがあるよ♪ \nみんなでワイドーやウシナー達を応援しよう！！ \n\n\n\n日時\n2024年1月27日（土）\nワイドークイズ大会／10:30～\nワイドーヒーローショー／13:40～\n\n\n\n会場\nイオン具志川店　１階屋外平面駐車場\n(うるま市前原 幸崎原３０３番地)\n\n\n\nイベントWEBサイト\nうるま市HP\nhttps://www.city.uruma.lg.jp/1007003000/event/p000001.html\n\n\n備考\n\n\n\n\n詳しくはイベントWEBサイトをご覧ください。
URL:https://okinawanheroes.com/event/%e3%80%90%e7%ac%ac19%e5%9b%9e%e3%80%91%e3%81%86%e3%82%8b%e3%81%be%e5%b8%82%e7%94%a3%e6%a5%ad%e3%81%be%e3%81%a4%e3%82%8a%ef%bc%8f%e9%97%98%e7%89%9b%e6%88%a6%e5%a3%ab%e3%83%af%e3%82%a4%e3%83%89%e3%83%bc/
LOCATION:【イオン具志川店】\, うるま市字前原幸崎原303番地
CATEGORIES:闘牛戦士ワイドー
ATTACH;FMTTYPE=image/jpeg:https://okinawanheroes.com/cms/wp-content/uploads/2024/01/GD8Ox1lbEAA9L4c.jpg
END:VEVENT
BEGIN:VEVENT
DTSTART;VALUE=DATE:20240107
DTEND;VALUE=DATE:20240108
DTSTAMP:20260424T171121
CREATED:20231227T033956Z
LAST-MODIFIED:20231227T034023Z
UID:4652-1704585600-1704671999@okinawanheroes.com
SUMMARY:兼城自動車2024周年祭／闘牛戦士ワイドー登場
DESCRIPTION:兼城自動車整備工場「HEART STATION KANESHIRO 大感謝祭 2024」開催♪♪ \n闘牛戦士ワイドーが登場！！ \nワイドーと一緒にクイズとダンスで盛り上がろう♪ \n\n\n\n開催日時\n2024年1月7日（日）\n闘牛戦士ワイドー登場／12:00～\n\n\n会場\n栄野比公園\n(沖縄県うるま市栄野比１００６)\n\n\n\nイベントWEBサイト\n兼城自動車整備工場HP\nhttps://kaneshirojidousha.com/information/event/2024-happy-new-year-sale/\n\n\n備考\n\n\n\n\n詳しくはイベントWEBサイトをご覧ください。
URL:https://okinawanheroes.com/event/20240107%e9%97%98%e7%89%9b%e6%88%a6%e5%a3%ab%e3%83%af%e3%82%a4%e3%83%89%e3%83%bc/
LOCATION:【栄野比公園】\, うるま市栄野比１００６
CATEGORIES:闘牛戦士ワイドー
ATTACH;FMTTYPE=image/jpeg:https://okinawanheroes.com/cms/wp-content/uploads/2023/12/KCR-lease_2024-vol1_page-0001.jpg
END:VEVENT
BEGIN:VEVENT
DTSTART;VALUE=DATE:20240103
DTEND;VALUE=DATE:20240104
DTSTAMP:20260424T171121
CREATED:20231226T092417Z
LAST-MODIFIED:20231226T092502Z
UID:4636-1704240000-1704326399@okinawanheroes.com
SUMMARY:サンエー宜野湾コンベンションシティ／闘牛戦士ワイドー登場
DESCRIPTION:サンエー宜野湾コンベンションシティ 新春スペシャルイベント\n闘牛戦士ワイドーのクイズ・ダンス・ハイタッチ会開催！！ \n2024年もワイドーと一緒に遊ぼう♪ \n\n\n\n開催日時\n2024年1月3日(水)\n11:00～\n\n\n会場\nサンエー宜野湾コンベンションシティ　2Fはごろもコート\n(宜野湾市宇地泊558−10)\n\n\nイベントWEBサイト\nサンエー　新春スペシャルイベント\nhttps://www.san-a.co.jp/event/waidoginowan/\n\n\n備考\n観覧無料\n\n\n\n詳しくはイベントWEBサイトをご覧ください。
URL:https://okinawanheroes.com/event/20240103%e9%97%98%e7%89%9b%e6%88%a6%e5%a3%ab%e3%83%af%e3%82%a4%e3%83%89%e3%83%bc/
LOCATION:【サンエー 宜野湾コンベンションシティ】\, 宜野湾市宇地泊558−10
CATEGORIES:闘牛戦士ワイドー
ATTACH;FMTTYPE=image/png:https://okinawanheroes.com/cms/wp-content/uploads/2023/12/スクリーンショット-194.png
END:VEVENT
BEGIN:VEVENT
DTSTART;VALUE=DATE:20240103
DTEND;VALUE=DATE:20240104
DTSTAMP:20260424T171121
CREATED:20231226T091414Z
LAST-MODIFIED:20231226T091640Z
UID:4631-1704240000-1704326399@okinawanheroes.com
SUMMARY:サンエー石川シティ／闘牛戦士ワイドーショー
DESCRIPTION:サンエー石川シティ 新春スペシャルイベントにて\n闘牛戦士ワイドーショー開催！！ \nみんなで元気にヒーヤイ！ヒーヤイ！\nワイドー達を応援しよう☆ \n2024年もワイドー達に会いに来てね～♪ \n\n\n\n開催日時\n2024年1月3日(水)\n17:00～\n\n\n会場\nサンエー石川シティ　1F中央コート\n(うるま市石川2521-1)\n\n\nイベントWEBサイト\nサンエー　新春スペシャルイベント\nhttps://www.san-a.co.jp/event/waidoshow/\n\n\n備考\n観覧無料\n\n\n\n詳しくはイベントWEBサイトをご覧ください。
URL:https://okinawanheroes.com/event/%e3%82%b5%e3%83%b3%e3%82%a8%e3%83%bc%e7%9f%b3%e5%b7%9d%e3%82%b7%e3%83%86%e3%82%a3%ef%bc%8f%e9%97%98%e7%89%9b%e6%88%a6%e5%a3%ab%e3%83%af%e3%82%a4%e3%83%89%e3%83%bc%e3%82%b7%e3%83%a7%e3%83%bc/
LOCATION:【サンエー 石川シティ】\, うるま市石川２５２１−１
CATEGORIES:闘牛戦士ワイドー
ATTACH;FMTTYPE=image/jpeg:https://okinawanheroes.com/cms/wp-content/uploads/2023/12/195.jpg
END:VEVENT
BEGIN:VEVENT
DTSTART;VALUE=DATE:20240103
DTEND;VALUE=DATE:20240104
DTSTAMP:20260424T171121
CREATED:20231226T091108Z
LAST-MODIFIED:20231226T091232Z
UID:4626-1704240000-1704326399@okinawanheroes.com
SUMMARY:サンエー具志川メインシティ／闘牛戦士ワイドーショー
DESCRIPTION:サンエー具志川メインシティ 新春スペシャルイベントにて\n闘牛戦士ワイドーショー開催！！ \nみんなで元気にヒーヤイ！ヒーヤイ！\nワイドー達を応援しよう☆ \n2024年もワイドー達に会いに来てね～♪ \n\n\n\n開催日時\n2024年1月3日(水)\n14:00～\n\n\n会場\nサンエー具志川メインシティ　1Fメインコート\n(うるま市江洲４５０−１)\n\n\nイベントWEBサイト\nサンエー　新春スペシャルイベント\nhttps://www.san-a.co.jp/event/waidoshow/\n\n\n備考\n観覧無料\n\n\n\n詳しくはイベントWEBサイトをご覧ください。
URL:https://okinawanheroes.com/event/20240103%e3%83%af%e3%82%a4%e3%83%89%e3%83%bc%e3%82%b7%e3%83%a7%e3%83%bc%e5%85%b7%e5%bf%97%e5%b7%9d/
LOCATION:【サンエー 具志川メインシティ】\, うるま市江洲450−1
CATEGORIES:闘牛戦士ワイドー
ATTACH;FMTTYPE=image/jpeg:https://okinawanheroes.com/cms/wp-content/uploads/2023/12/195.jpg
END:VEVENT
BEGIN:VEVENT
DTSTART;VALUE=DATE:20240102
DTEND;VALUE=DATE:20240103
DTSTAMP:20260424T171121
CREATED:20231226T081415Z
LAST-MODIFIED:20231226T090021Z
UID:4621-1704153600-1704239999@okinawanheroes.com
SUMMARY:海洋博公園 新春キャラクターショー／闘牛戦士ワイドーショー
DESCRIPTION:海洋博公園「新春果報でーびる」」開催！！ \n1月2日は闘牛戦士ワイドーショー \nみんなで元気にヒーヤイ！ヒーヤイ！\nワイドー達を応援しよう☆ \n野外ステージなので、暖かいお洋服で会いに来てね♪ \n\n\n\n開催日時\n2024年1月2日(火)\n①11:00～　②14:00～\n\n\n会場\n海洋博公園　おきなわ郷土村 ゆくい処 舞台\n(本部町石川424番地)\n\n\nイベントWEBサイト\n海洋博公園\nhttps://oki-park.jp/kaiyohaku/events/detail/8511\n\n\n備考\n観覧無料\n※天候などにより内容や場所が変更になる場合がございます、ご了承ください。\n\n\n\n詳しくはイベントWEBサイトをご覧ください。
URL:https://okinawanheroes.com/event/20240102%e3%83%af%e3%82%a4%e3%83%89%e3%83%bc%e3%82%b7%e3%83%a7%e3%83%bc/
LOCATION:【海洋博公園】\, 沖縄県国頭郡本部町石川424番地
CATEGORIES:闘牛戦士ワイドー
ATTACH;FMTTYPE=image/png:https://okinawanheroes.com/cms/wp-content/uploads/2023/12/waido.png
END:VEVENT
BEGIN:VEVENT
DTSTART;VALUE=DATE:20240101
DTEND;VALUE=DATE:20240102
DTSTAMP:20260424T171121
CREATED:20231226T074912Z
LAST-MODIFIED:20231227T045001Z
UID:4609-1704067200-1704153599@okinawanheroes.com
SUMMARY:新春 餅つき撮影会／ワイドー＆タッチュー登場
DESCRIPTION:闘牛戦士ワイドーと餅つきに挑戦！！\nワイドー＆タッチューと写真も撮ろうね☆ \nなんと、獅子舞も登場♪ \n\n\n\n開催日時\n2024年1月1日(月)\n①11:30～　②15:00～\n※開始30分前に整理券を配布致します。\n\n\n会場\nイオン北谷ショッピングセンター　2Fイベント広場\n(北谷町美浜８−３)\n\n\nイベントWEBサイト\nイオン琉球HP\nhttps://www.aeon-ryukyu.jp/event/\n\n\n備考\n参加無料\n※撮影会参加は整理券が必要です。\n※カメラ・スマホ等機材は事前にご準備下さい。\n※諸般の事情によりイベントが中止・変更となる場合があります。\n\n\n\n詳しくはイベントWEBサイトをご覧ください。
URL:https://okinawanheroes.com/event/20240101%e3%83%af%e3%82%a4%e3%83%89%e3%83%bc%e9%a4%85%e3%81%a4%e3%81%8d/
LOCATION:【イオン北谷店】\, 北谷町美浜８−３
CATEGORIES:闘牛戦士ワイドー
ATTACH;FMTTYPE=image/jpeg:https://okinawanheroes.com/cms/wp-content/uploads/2023/12/chatan01-4.jpg
END:VEVENT
BEGIN:VEVENT
DTSTART;VALUE=DATE:20231217
DTEND;VALUE=DATE:20231218
DTSTAMP:20260424T171121
CREATED:20231207T061005Z
LAST-MODIFIED:20231207T061005Z
UID:4567-1702771200-1702857599@okinawanheroes.com
SUMMARY:サンタランドでのどじまん／闘牛戦士ワイドー登場
DESCRIPTION:みほそあきない組合主催のクリスマスイベントが今年も開催！！ \n闘牛戦士ワイドーもスペシャルゲストとして登場♪\nワイドーと一緒にワイドーダンスを踊ろう！！ \n他にも楽しい企画盛り沢山！\nみんなで遊びに来てねー☆ \n\n\n\n開催日時\n2023年12月17日(日)\nワイドーダンス／14:00～\n\n\n会場\n石川運動広場　※闘牛場となり\n(うるま市石川２３１６)\n\n\nイベントWEBサイト\n\n\n\n備考\n\n\n\n\n詳しくはイベントWEBサイトをご覧ください。
URL:https://okinawanheroes.com/event/20231217%e9%97%98%e7%89%9b%e6%88%a6%e5%a3%ab%e3%83%af%e3%82%a4%e3%83%89%e3%83%bc/
LOCATION:【石川運動広場】\, うるま市石川２３１６　※石川多目的ドームとなり
CATEGORIES:闘牛戦士ワイドー
ATTACH;FMTTYPE=image/jpeg:https://okinawanheroes.com/cms/wp-content/uploads/2023/12/S__2646036.jpg
END:VEVENT
BEGIN:VEVENT
DTSTART;VALUE=DATE:20231216
DTEND;VALUE=DATE:20231217
DTSTAMP:20260424T171121
CREATED:20231207T055917Z
LAST-MODIFIED:20231207T060004Z
UID:4562-1702684800-1702771199@okinawanheroes.com
SUMMARY:第1回 うるま市農林水産まつり／闘牛戦士ワイドーショー
DESCRIPTION:初開催！\n第1回「うるま市農林水産まつり」で闘牛戦士ワイドーショー開催！ \nワイドーやウシナー達が登場。\nみんなでワイドー達に、ヒーヤイ！ヒーヤイ！元気なヤグイを送ろう！！ \nワイドーグッズの販売もあり♪ \n\n\n\n開催日時\n2023年12月16日(土)\n１回目／10:50～\n２回目／14:10～\n\n\n\n会場\nうるま市具志川総合運動公園　具志川ドーム\n(うるま市具志川２３３６)\n\n\nイベントWEBサイト\nうるま市 HP\nhttps://www.city.uruma.lg.jp/sangyou/148/31471/31534\n\n\n備考\n入場無料\n\n\n\n詳しくはイベントWEBサイトをご覧ください。
URL:https://okinawanheroes.com/event/20231216%e3%83%af%e3%82%a4%e3%83%89%e3%83%bc%e3%82%b7%e3%83%a7%e3%83%bc/
LOCATION:【具志川ドーム】\, うるま市具志川２３３６
CATEGORIES:闘牛戦士ワイドー
ATTACH;FMTTYPE=image/jpeg:https://okinawanheroes.com/cms/wp-content/uploads/2023/12/第1回うるま市農林水産まつり01.jpg
END:VEVENT
BEGIN:VEVENT
DTSTART;VALUE=DATE:20231209
DTEND;VALUE=DATE:20231210
DTSTAMP:20260424T171121
CREATED:20231207T061412Z
LAST-MODIFIED:20231207T061412Z
UID:4570-1702080000-1702166399@okinawanheroes.com
SUMMARY:ヤマダデンキ テックランド具志川店／ワイドー 握手＆撮影会
DESCRIPTION:毎週ヒーローに会える！？SPECIAL年間企画！！ \n12月9日(土曜日)は、\nヤマダデンキ テックランド具志川店に闘牛戦士ワイドーが登場！！ \nワイドーと握手をして、一緒に記念写真を撮ろう♪ \n\n\n\n開催日時\n2023年12月9日（土）\n①11：00～11：20\n②13：00～13：20\n③15：00～15：20\n④17：00～17：20\n\n\n\n会場\nヤマダデンキ テックランド具志川店\n(うるま市前原167-1-1)\n\n\nイベントWEBサイト\n\n\n\n備考\n※撮影はお客様のカメラ(スマホ等)にてお願い致します\n※整理券の配布はございません\n\n\n\n詳しくはイベントWEBサイトをご覧ください。
URL:https://okinawanheroes.com/event/20231209%e9%97%98%e7%89%9b%e6%88%a6%e5%a3%ab%e3%83%af%e3%82%a4%e3%83%89%e3%83%bc-2/
LOCATION:【ヤマダデンキ　テックランド具志川店】\, うるま市前原１６７−１−１
CATEGORIES:闘牛戦士ワイドー
ATTACH;FMTTYPE=image/jpeg:https://okinawanheroes.com/cms/wp-content/uploads/2023/12/12月9日ワイドー.jpg
END:VEVENT
BEGIN:VEVENT
DTSTART;VALUE=DATE:20231209
DTEND;VALUE=DATE:20231210
DTSTAMP:20260424T171121
CREATED:20231130T035903Z
LAST-MODIFIED:20231130T035903Z
UID:4552-1702080000-1702166399@okinawanheroes.com
SUMMARY:実践！心のバリアフリー PRイベント／闘牛戦士ワイドー登場
DESCRIPTION:ココロつながるプロジェクト\n実践！心のバリアフリー PRイベント ～合理的配慮について学び行動へつなげましょう～ \n闘牛戦士ワイドー登場！！ \nワイド―がカナデノウツとダンスでコラボレーション♪\nみんなも元気にワイドーダンスを踊ろう☆ \n\n\n\n開催日時\n2023年12月9日(土)\nワイドーダンス／13:00～\nカナデノウツコラボ／14:30～\n\n\n\n会場\nイオンモール沖縄ライカム　１Fグランドスクエア\n(北中城村ライカム1番地)\n\n\nイベントWEBサイト\nイオンモール沖縄ライカム HP\nhttps://okinawarycom-aeonmall.com/news/event/4325\n\n\n備考\n参加無料\n\n\n\n詳しくはイベントWEBサイトをご覧ください。
URL:https://okinawanheroes.com/event/20231209%e9%97%98%e7%89%9b%e6%88%a6%e5%a3%ab%e3%83%af%e3%82%a4%e3%83%89%e3%83%bc/
LOCATION:【イオンモール沖縄ライカム】\, 北中城村ライカム1番地
CATEGORIES:闘牛戦士ワイドー
ATTACH;FMTTYPE=image/jpeg:https://okinawanheroes.com/cms/wp-content/uploads/2023/11/thumbW480_photo1.jpg
END:VEVENT
BEGIN:VEVENT
DTSTART;VALUE=DATE:20231203
DTEND;VALUE=DATE:20231204
DTSTAMP:20260424T171121
CREATED:20231130T034858Z
LAST-MODIFIED:20231202T101341Z
UID:4545-1701561600-1701647999@okinawanheroes.com
SUMMARY:第30回 沖縄工芸ふれあい広場／闘牛戦士ワイドー登場
DESCRIPTION:12月1～3日に開催される「第30回 沖縄工芸ふれあい広場」 \n最終日の12月3日(日)は闘牛戦士ワイドーが登場！！\nワイドーと一緒にクイズ＆ダンスを楽しもう♪ \nさらに！\nワイドーが会場内をお散歩するよ！！\n見つけたら、ぜひワイドーに声をかけててね☆ \nその他、いろんなステージイベントや実践・体験コーナーがあるよ！\nみんなで遊びに来てね。 \n\n\n\n開催日時\n2023年12月3日(日)\n①11:00～　②13:00～\n\n\n会場\nおきなわ工芸の杜\n(豊見城市豊見城1114-1)\n\n\nイベントWEBサイト\nおきなわ工芸の杜  HP\nhttps://okinawa-kougeinomori.jp/event/13607\n\n\n備考\n入場無料\n\n\n\n詳しくはイベントWEBサイトをご覧ください。
URL:https://okinawanheroes.com/event/20231203%e9%97%98%e7%89%9b%e6%88%a6%e5%a3%ab%e3%83%af%e3%82%a4%e3%83%89%e3%83%bc/
LOCATION:【おきなわ工芸の杜】\, 豊見城市豊見城1114-1
CATEGORIES:闘牛戦士ワイドー
ATTACH;FMTTYPE=image/png:https://okinawanheroes.com/cms/wp-content/uploads/2023/11/沖縄工芸ふれあい広場.png
END:VEVENT
BEGIN:VEVENT
DTSTART;VALUE=DATE:20231125
DTEND;VALUE=DATE:20231126
DTSTAMP:20260424T171121
CREATED:20231102T063729Z
LAST-MODIFIED:20231121T055920Z
UID:4424-1700870400-1700956799@okinawanheroes.com
SUMMARY:うるま大好き 音楽祭／「MAX」をHYと一緒に歌おう
DESCRIPTION:うるまの感動をハワイへ！うるま大好き 音楽祭♪ \nうるま市出身のアーティス、HYも登場！！\n闘牛戦士ワイドーの主題歌「MAX」をHYと一緒に歌おう♪ \n\n\n\n開催日時\n2023年11月25日(土)\n開場 15:00　開演 16:00\n\n\n会場\nうるま市石川多目的ドーム\n(うるま市石川２２９８−１)\n\n\nイベントWEBサイト\nhttps://www.city.uruma.lg.jp/culture/1249/9113/31215\n\n\n備考\n【料金】\n一般：4\,000円　高校生以下：2\,000円\n※未就学児入場無料　※当日500円増【チケット】\nイープラス(ファミリーマート／セブンイレブン)\nローソンチケット(Lコード：83257)\n\n\n\n詳しくはイベントWEBサイトをご覧ください。
URL:https://okinawanheroes.com/event/20231125%e9%97%98%e7%89%9b%e6%88%a6%e5%a3%ab%e3%83%af%e3%82%a4%e3%83%89%e3%83%bc/
LOCATION:【うるま市石川多目的ドーム】\, 沖縄県うるま市石川２２９８−１
CATEGORIES:闘牛戦士ワイドー
ATTACH;FMTTYPE=image/jpeg:https://okinawanheroes.com/cms/wp-content/uploads/2023/11/S__41590881.jpg
END:VEVENT
BEGIN:VEVENT
DTSTART;VALUE=DATE:20231119
DTEND;VALUE=DATE:20231120
DTSTAMP:20260424T171121
CREATED:20231107T021433Z
LAST-MODIFIED:20231109T072516Z
UID:4457-1700352000-1700438399@okinawanheroes.com
SUMMARY:第2回安慶名グスクランタン祭り／ワイドー＆タッチュー登場！
DESCRIPTION:安慶名グスクに光を！\n第2回「安慶名グスクランタン祭り」を開催！！ \n闘牛戦士ワイドー＆タッチュータイフーンが登場♪ \n\n\n\n開催日時\n2023年11月19日（日）\n●闘牛戦士ワイドー／15:00～15:30\n\n\n\n会場\n安慶名闘牛場\n(うるま市安慶名1076)\n\n\n\nイベントWEBサイト\n安慶名グスクランタン祭りホームページ\nhttps://r.goope.jp/agenagusuku\n\n\n\n備考\n【駐車場】\n具志川商業高等学校、うるま市役所市民駐車場\n※荒天時は延期。延期の場合、日程は後日ホームページで案内します。\n\n\n\n詳しくはイベントWEBサイトをご覧ください。
URL:https://okinawanheroes.com/event/20231119%e9%97%98%e7%89%9b%e6%88%a6%e5%a3%ab%e3%83%af%e3%82%a4%e3%83%89%e3%83%bc/
LOCATION:【安慶名闘牛場】\, うるま市安慶名1076
CATEGORIES:闘牛戦士ワイドー
ATTACH;FMTTYPE=image/jpeg:https://okinawanheroes.com/cms/wp-content/uploads/2023/11/231106232659-6548f7b33ca6a.jpg
END:VEVENT
BEGIN:VEVENT
DTSTART;VALUE=DATE:20231119
DTEND;VALUE=DATE:20231120
DTSTAMP:20260424T171121
CREATED:20231106T102608Z
LAST-MODIFIED:20231114T024759Z
UID:4436-1700352000-1700438399@okinawanheroes.com
SUMMARY:エディオン 経塚シティ店／ワイドー＆ハルサーハル 握手＆撮影会
DESCRIPTION:毎週ヒーローに会える！？SPECIAL年間企画！！ \n11月19日(日曜日)は、\nエディオン 経塚シティ店に闘牛戦士ワイドーとハルサーハルが登場！！ \nワイドー＆ハルと握手をして、一緒に記念写真を撮ろう♪ \n\n\n\n開催日時\n2023年11月19日（日）\n①11：00～11：20\n②13：00～13：20\n③15：00～15：20\n④17：00～17：20\n\n\n\n会場\nエディオン 経塚シティ店　＜エディオン携帯コーナー＞\n(浦添市経塚６５２−１)\n\n\nイベントWEBサイト\nhttps://www.san-a.co.jp/event/waido-kama-20231118-19/\n\n\n備考\n※撮影はお客様のカメラ(スマホ等)にてお願い致します\n※各回10分程度、また定員に達し次第終了となります。\n\n\n\n詳しくはイベントWEBサイトをご覧ください。
URL:https://okinawanheroes.com/event/%e3%82%a8%e3%83%87%e3%82%a3%e3%82%aa%e3%83%b3-%e7%b5%8c%e5%a1%9a%e3%82%b7%e3%83%86%e3%82%a3%e5%ba%97%ef%bc%8f%e3%83%af%e3%82%a4%e3%83%89%e3%83%bc%ef%bc%86%e3%82%ab%e3%83%9e%e3%83%bc-%e6%8f%a1-2/
LOCATION:【サンエー 経塚シティ】\, 浦添市経塚６５２−１
CATEGORIES:エイカーズ,闘牛戦士ワイドー
ATTACH;FMTTYPE=image/jpeg:https://okinawanheroes.com/cms/wp-content/uploads/2023/11/11月19日ワイドー＆ハル.jpg
END:VEVENT
BEGIN:VEVENT
DTSTART;VALUE=DATE:20231118
DTEND;VALUE=DATE:20231119
DTSTAMP:20260424T171121
CREATED:20231106T102441Z
LAST-MODIFIED:20231109T073804Z
UID:4432-1700265600-1700351999@okinawanheroes.com
SUMMARY:エディオン 経塚シティ店／ワイドー＆カマー 握手＆撮影会
DESCRIPTION:毎週ヒーローに会える！？SPECIAL年間企画！！ \n11月18日(土曜日)は、\nエディオン 経塚シティ店に闘牛戦士ワイドーとノーグ・カマーが登場！！ \nワイドー＆カマーと握手をして、一緒に記念写真を撮ろう♪ \n\n\n\n開催日時\n2023年11月18日（土）\n①11：00～11：20\n②13：00～13：20\n③15：00～15：20\n④17：00～17：20\n\n\n\n会場\nエディオン 経塚シティ店　＜エディオン携帯コーナー＞\n(浦添市経塚６５２−１)\n\n\nイベントWEBサイト\nhttps://www.san-a.co.jp/event/waido-kama-20231118-19/\n\n\n備考\n※撮影はお客様のカメラ(スマホ等)にてお願い致します\n※各回10分程度、また定員に達し次第終了となります。\n\n\n\n詳しくはイベントWEBサイトをご覧ください。
URL:https://okinawanheroes.com/event/%e3%82%a8%e3%83%87%e3%82%a3%e3%82%aa%e3%83%b3-%e7%b5%8c%e5%a1%9a%e3%82%b7%e3%83%86%e3%82%a3%e5%ba%97%ef%bc%8f%e3%83%af%e3%82%a4%e3%83%89%e3%83%bc%ef%bc%86%e3%82%ab%e3%83%9e%e3%83%bc-%e6%8f%a1%e6%89%8b/
LOCATION:【サンエー 経塚シティ】\, 浦添市経塚６５２−１
CATEGORIES:エイカーズ,闘牛戦士ワイドー
ATTACH;FMTTYPE=image/jpeg:https://okinawanheroes.com/cms/wp-content/uploads/2023/11/11月18日ワイドー＆カマー.jpg
END:VEVENT
BEGIN:VEVENT
DTSTART;VALUE=DATE:20231118
DTEND;VALUE=DATE:20231119
DTSTAMP:20260424T171121
CREATED:20230920T070305Z
LAST-MODIFIED:20231102T064538Z
UID:4297-1700265600-1700351999@okinawanheroes.com
SUMMARY:ふわふわ闘牛バブル相撲小学生大会〜石川場所〜／闘牛戦士ワイドーがやってくる
DESCRIPTION:体の大きさなんて関係ない！\nだってふわふわバブル相撲なんだから！ \nふわふわ闘牛バブル相撲小学生大会〜石川場所〜に闘牛戦士ワイドーがやってくる！ \nワイドーと一緒に一緒にクイズやダンスで盛り上がろう。 \n司会はワイドーの産みの親、伊波大志さん！！ \n\n\n\n開催日時\n2023年11月18日(土)　10：00～15：00\n闘牛戦士ワイドーの登場は13:00～13:30頃\n\n\n会場\n石川運動広場　※石川多目的ドームとなり\n(うるま市石川２３１６)\n\n\nイベントWEBサイト\nhttps://www.city.uruma.lg.jp/culture/1249/30633\n\n\n備考\n\n\n\n\n詳しくはイベントWEBサイトをご覧ください。
URL:https://okinawanheroes.com/event/20231118%e9%97%98%e7%89%9b%e6%88%a6%e5%a3%ab%e3%83%af%e3%82%a4%e3%83%89%e3%83%bc/
LOCATION:【石川運動広場】\, うるま市石川２３１６　※石川多目的ドームとなり
CATEGORIES:闘牛戦士ワイドー
ATTACH;FMTTYPE=image/jpeg:https://okinawanheroes.com/cms/wp-content/uploads/2023/09/tougyuubaburusumou.jpg
END:VEVENT
BEGIN:VEVENT
DTSTART;VALUE=DATE:20231111
DTEND;VALUE=DATE:20231112
DTSTAMP:20260424T171121
CREATED:20231107T015325Z
LAST-MODIFIED:20231107T015523Z
UID:4452-1699660800-1699747199@okinawanheroes.com
SUMMARY:第30回記念具商デパート／闘牛戦士ワイドー登場！
DESCRIPTION:地域に見守られてき具志川商業の具商デパートもついに30回を迎えました！ \n去年に引き続き、今年も闘牛戦士ワイドーが登場！！\nワイドーダンスやクイズで一緒に盛り上がってね♪ \n\n\n\n開催日時\n2023年11月11日（土）\n●闘牛戦士ワイドー／12:10～12:40\n\n\n\n会場\n沖縄県立具志川商業高等学校\n(うるま市字みどり町6丁目10-1)\n\n\n\nイベントWEBサイト\n沖縄県立具志川商業高等学校ホームページ\nhttp://www.gushikawa-ch.open.ed.jp/\n\n\n\n備考\n\n\n\n\n詳しくはイベントWEBサイトをご覧ください。
URL:https://okinawanheroes.com/event/20231111%e9%97%98%e7%89%9b%e6%88%a6%e5%a3%ab%e3%83%af%e3%82%a4%e3%83%89%e3%83%bc/
LOCATION:【沖縄県立具志川商業高等学校】\, うるま市字みどり町6丁目10-1
CATEGORIES:闘牛戦士ワイドー
ATTACH;FMTTYPE=image/jpeg:https://okinawanheroes.com/cms/wp-content/uploads/2023/11/r5_gudepa_poster-scaled.jpg
END:VEVENT
BEGIN:VEVENT
DTSTART;VALUE=DATE:20231104
DTEND;VALUE=DATE:20231105
DTSTAMP:20260424T171121
CREATED:20231031T052050Z
LAST-MODIFIED:20231031T052252Z
UID:4403-1699056000-1699142399@okinawanheroes.com
SUMMARY:うるまハロウィンコスプレフェス2023／闘牛戦士ワイドー登場！
DESCRIPTION:全方位、コスプレ放題！絶対楽しいから集合\n変身あり、撮影あり、みんな一緒に楽しもう！ \n「うるまハロウィンコスプレフェス2023 」に\n闘牛戦士ワイドー、シンカーワイドー、タッチュータイフーンが登場！！ \n世界遺産の勝連城跡でワイドー達とクイズ＆ダンスで楽しもう♪ \n\n\n\n出演\n・闘牛戦士ワイドー\n・シンカーワイドー\n・タッチュータイフーン\n\n\n開催日時\n2023年11月4日（土）\n闘牛戦士ワイドー／12:45～13:15\n\n\n\n会場\n\n沖縄県うるま市 　世界遺産 勝連城跡\n(うるま市勝連南風原3807-2) \nメインステージ：あまわりパーク イベント広場 \n\n\n\nイベントWEBサイト\n・特設ページ\nhttps://www.uruhallow.jp/\n\n・Twitter\nhttps://twitter.com/uruhallow\n\n\n備考\n\n\n\n\n詳しくはイベントWEBサイトをご覧ください。
URL:https://okinawanheroes.com/event/20231104%e9%97%98%e7%89%9b%e6%88%a6%e5%a3%ab%e3%83%af%e3%82%a4%e3%83%89%e3%83%bc/
LOCATION:【勝連城跡】\, うるま市勝連南風原3807-2
CATEGORIES:闘牛戦士ワイドー
ATTACH;FMTTYPE=image/jpeg:https://okinawanheroes.com/cms/wp-content/uploads/2023/10/uruhallow.jpg
END:VEVENT
BEGIN:VEVENT
DTSTART;VALUE=DATE:20231029
DTEND;VALUE=DATE:20231030
DTSTAMP:20260424T171121
CREATED:20231011T051707Z
LAST-MODIFIED:20231011T051755Z
UID:4353-1698537600-1698623999@okinawanheroes.com
SUMMARY:エディオン 石川シティ店／ワイドー 握手＆撮影会
DESCRIPTION:毎週ヒーローに会える！？SPECIAL年間企画！！ \n10月29日(日曜日)は、\nエディオン 石川シティ店に闘牛戦士ワイドーが登場！！ \nワイドーと握手をして、一緒に記念写真を撮ろう♪ \n\n\n\n開催日時\n2023年10月29日（日）\n①11：00～11：20\n②13：00～13：20\n③14：00～14：20\n④15：00～15：20\n\n\n\n会場\nエディオン 石川シティ店　＜エディオン携帯コーナー＞\n(うるま市石川2521-1)\n\n\nイベントWEBサイト\n\n\n\n備考\n※撮影はお客様のカメラ(スマホ等)にてお願い致します\n※整理券の配布はございません\n\n\n\n詳しくはイベントWEBサイトをご覧ください。
URL:https://okinawanheroes.com/event/20231029%e3%83%af%e3%82%a4%e3%83%89%e3%83%bc%e6%8f%a1%e6%89%8b%ef%bc%86%e6%92%ae%e5%bd%b1%e4%bc%9a/
LOCATION:【サンエー 石川シティ】\, うるま市石川２５２１−１
CATEGORIES:闘牛戦士ワイドー
ATTACH;FMTTYPE=image/jpeg:https://okinawanheroes.com/cms/wp-content/uploads/2023/10/10月29日ワイドー.jpg
END:VEVENT
BEGIN:VEVENT
DTSTART;VALUE=DATE:20231022
DTEND;VALUE=DATE:20231023
DTSTAMP:20260424T171121
CREATED:20231020T025725Z
LAST-MODIFIED:20231020T030625Z
UID:4386-1697932800-1698019199@okinawanheroes.com
SUMMARY:ティガニーフェス2023／闘牛戦士ワイドーショー
DESCRIPTION:子ども達を全力で遊ばせるイベント！！ \n「来てくれた子どもたち全員を楽しませる」ことを目指し、\nこれまで以上の規模で、すべての子どもたちが思う存分楽しめる「ティガニーフェス2023」開催！！ \nティガニーフェスの司会は、なんと\n「琉神マブヤー」ではマヤ役の喜舎場泉さんと\n「安全＋第一 大知マン」では津波信一役の津波信一さん。 \n子供たちがワクワクするようなイベントラインナップには闘牛戦士ワイドーショーも♪\nみんなで、ワイドー達を元気に応援しよう！ \n他にも楽しさ盛り沢山！！遊びにきてね★ \n　 \n\n\n\n開催日時\n2023年10月22日（日）\n■闘牛戦士ワイドーショー／16:20頃～\n\n\n会場\n与那原MICE予定地\n(沖縄県与那原町東浜66番地)\n※与那原マリーナ向かい・東浜マリンタウンプラザかねひで東浜市場裏側\n\n\n\nイベントWEBサイト\nティガニーフェス2023\nhttps://tigany-festival.com/\n\n\n備考\n【入場料】\n中学生以下： 無料・チケットを1人1\,000円分配布します。\n高校生： 無料（チケット配布はなし）です。\n大人： 1\,000円　※大人の方の入場料は当日会場入り口にてお支払いください。\n\n\n\n詳しくはイベントWEBサイトをご覧ください。
URL:https://okinawanheroes.com/event/20231022%e3%83%af%e3%82%a4%e3%83%89%e3%83%bc%e3%82%b7%e3%83%a7%e3%83%bc/
LOCATION:【与那原MICE予定地】\, 与那原町東浜66番地
CATEGORIES:闘牛戦士ワイドー
ATTACH;FMTTYPE=image/jpeg:https://okinawanheroes.com/cms/wp-content/uploads/2023/10/IMG_8263.jpg
END:VEVENT
BEGIN:VEVENT
DTSTART;VALUE=DATE:20231015
DTEND;VALUE=DATE:20231016
DTSTAMP:20260424T171121
CREATED:20231011T051056Z
LAST-MODIFIED:20231011T051150Z
UID:4345-1697328000-1697414399@okinawanheroes.com
SUMMARY:ヤマダデンキ テックランド具志川店／ワイドー 握手＆撮影会
DESCRIPTION:毎週ヒーローに会える！？SPECIAL年間企画！！ \n10月15日(日曜日)は、\nヤマダデンキ テックランド具志川店に闘牛戦士ワイドーが登場！！ \nワイドーと握手をして、一緒に記念写真を撮ろう♪ \n\n\n\n開催日時\n2023年10月15日（日）\n①11：00～11：20\n②13：00～13：20\n③15：00～15：20\n④17：00～17：20\n\n\n\n会場\nヤマダデンキ テックランド具志川店\n(うるま市前原167-1-1)\n\n\nイベントWEBサイト\n\n\n\n備考\n※撮影はお客様のカメラ(スマホ等)にてお願い致します\n※整理券の配布はございません\n\n\n\n詳しくはイベントWEBサイトをご覧ください。
URL:https://okinawanheroes.com/event/20231015%e3%83%af%e3%82%a4%e3%83%89%e3%83%bc%e6%8f%a1%e6%89%8b%ef%bc%86%e6%92%ae%e5%bd%b1%e4%bc%9a/
LOCATION:【ヤマダデンキ　テックランド具志川店】\, うるま市前原１６７−１−１
CATEGORIES:闘牛戦士ワイドー
ATTACH;FMTTYPE=image/jpeg:https://okinawanheroes.com/cms/wp-content/uploads/2023/10/10月15日ワイドー.jpg
END:VEVENT
BEGIN:VEVENT
DTSTART;VALUE=DATE:20231015
DTEND;VALUE=DATE:20231016
DTSTAMP:20260424T171121
CREATED:20230929T035933Z
LAST-MODIFIED:20230929T040048Z
UID:4310-1697328000-1697414399@okinawanheroes.com
SUMMARY:第44回『金武町まつり』／闘牛戦士ワイドーショー
DESCRIPTION:金武町魂を我が心に 第44回「金武町まつり」！！ \n金武町まつり2日目に闘牛戦士ワイドーショー開催！ワイドーやウシナー達を応援しよう！！ \n販売ブースワイドーグッズの販売もあり♪ \n \n\n\n\n開催日時\n2023年10月15日（日）\n■闘牛戦士ワイドーショー／16:30～\n\n\n会場\n金武地区公園\n(金武町金武7758番地)\n\n\n\nイベントWEBサイト\n金武町ホームページ\n第44回金武町まつり プログラムについて\n\n\n備考\n臨時駐車場からの無料送迎バス運行！！\n駐車場は台数に限りがありますので公共交通機関をご利用ください。\n\n\n\n詳しくはイベントWEBサイトをご覧ください。
URL:https://okinawanheroes.com/event/20231015%e3%83%af%e3%82%a4%e3%83%89%e3%83%bc%e3%82%b7%e3%83%a7%e3%83%bc/
LOCATION:【金武地区公園(きんタームランド)】\, 金武町金武7758番地
CATEGORIES:闘牛戦士ワイドー
ATTACH;FMTTYPE=image/jpeg:https://okinawanheroes.com/cms/wp-content/uploads/2023/09/第44回金武町まつり-scaled.jpg
END:VEVENT
BEGIN:VEVENT
DTSTART;VALUE=DATE:20231014
DTEND;VALUE=DATE:20231015
DTSTAMP:20260424T171121
CREATED:20231011T050320Z
LAST-MODIFIED:20231011T055215Z
UID:4341-1697241600-1697327999@okinawanheroes.com
SUMMARY:エディオン 石垣シティ店／ワイドー 握手＆撮影会
DESCRIPTION:毎週ヒーローに会える！？SPECIAL年間企画！！ \n10月14日(土曜日)は、\nエディオン 石垣シティ店に闘牛戦士ワイドーが登場！！ \nワイドーと握手をして、一緒に記念写真を撮ろう♪ \n\n\n\n開催日時\n2023年10月14日（土）\n①11：00～11：20\n②13：00～13：20\n③14：00～14：20\n④15：00～15：20\n\n\n\n会場\nエディオン 石垣シティ店　＜エディオン携帯コーナー＞\n(石垣市真栄里３２７)\n\n\nイベントWEBサイト\nhttps://www.san-a.co.jp/event/waido-20231014/\n\n\n備考\n・各回 先着10名様限りとなります\n・撮影はお客様のカメラ(スマホ等)にてお願い致します\n・お電話にて事前予約承っております。\n0980-86-0039\n（受付時間　10時～18時）\n※当日参加も受付けておりますが、上限に達し次第、終了となりますので事前予約をおすすめ致します。\n\n\n\n詳しくはイベントWEBサイトをご覧ください。
URL:https://okinawanheroes.com/event/20231014%e3%83%af%e3%82%a4%e3%83%89%e3%83%bc%e6%8f%a1%e6%89%8b%ef%bc%86%e6%92%ae%e5%bd%b1%e4%bc%9a/
LOCATION:【サンエー 石垣シティ】\, 石垣市真栄里３２７
CATEGORIES:闘牛戦士ワイドー
ATTACH;FMTTYPE=image/jpeg:https://okinawanheroes.com/cms/wp-content/uploads/2023/10/10月14日ワイドー.jpg
END:VEVENT
BEGIN:VEVENT
DTSTART;VALUE=DATE:20231014
DTEND;VALUE=DATE:20231015
DTSTAMP:20260424T171121
CREATED:20230929T034422Z
LAST-MODIFIED:20230929T041237Z
UID:4307-1697241600-1697327999@okinawanheroes.com
SUMMARY:第18回『うるま祭り』／闘牛戦士ワイドーショー
DESCRIPTION:第18回「うるま祭り」にて闘牛戦士ワイドーショー開催！！ \n闘牛戦士ワイドーのお話の舞台でもある「うるま市」のお祭りに\nワイドーやウシナー達がサブステージ・メインステージに登場するよ。 \nワイドーグッズの販売もあり♪\n販売ブースにも遊びに来てね～ \n\n\n\n開催日時\n2023年10月14日（土）\n■闘牛戦士ワイドーショー\n①サブステージ／14:20～　②メインステージ／18:10～\n\n\n会場\nうるま市具志川総合運動公園　メインステージ・サブステージ\n(沖縄県うるま市大田421)\n\n\n\nイベントWEBサイト\nうるま市(第18回うるま祭りについて)\nhttps://www.city.uruma.lg.jp/culture/1249/9113/26273\n\n\n備考\n会場には駐車場がありませんので、公共交通機関または下記臨時駐車場よりご来場お願いいたします。 \n・うるま市役所　　　　　　　　（うるま市みどり町１丁目１番１号）\n・うるま市民芸術劇場　　　　　（うるま市仲嶺１７５）\n・川田入り口旧パチンコ店　　　（うるま市具志川１４５６）\n・東照間商業等施設　第２駐車場（うるま市与那城照間１８６０） \n※各臨時駐車場からシャトルバスを運行いたします。\n\n\n\n詳しくはイベントWEBサイトをご覧ください。
URL:https://okinawanheroes.com/event/20231014%e3%83%af%e3%82%a4%e3%83%89%e3%83%bc%e3%82%b7%e3%83%a7%e3%83%bc/
LOCATION:【うるま市具志川総合運動公園】\, 沖縄県うるま市大田421
CATEGORIES:闘牛戦士ワイドー
ATTACH;FMTTYPE=image/jpeg:https://okinawanheroes.com/cms/wp-content/uploads/2023/09/urumamaturiposuta-.jpg
END:VEVENT
BEGIN:VEVENT
DTSTART;VALUE=DATE:20230923
DTEND;VALUE=DATE:20230924
DTSTAMP:20260424T171121
CREATED:20230920T060848Z
LAST-MODIFIED:20230920T062743Z
UID:4282-1695427200-1695513599@okinawanheroes.com
SUMMARY:第２回うるまの笑顔でパリピ祭り／闘牛戦士ワイドーがやってくる
DESCRIPTION:第２回うるまの笑顔でパリピ祭りに闘牛戦士ワイドーが登場！！ \nワイドーと一緒に一緒にクイズやダンスで盛り上がろう。 \nさらに、ワイドーの産みの親伊波大志さんもやってくる！闘牛とお写真も撮れるよ♪ \n他にもイベントもりだくさん！みんなで遊びに来てね～ \n\n\n\n開催日時\n2023年9月23日(土)　14：00～20：00\n闘牛戦士ワイドーの登場は17:20～\n\n\n会場\n西原第一公園\n(うるま市西原124)\n\n\nイベントWEBサイト\nhttps://www.city.uruma.lg.jp/culture/1249/30643\n\n\n備考\n雨天延期 \n第1駐車場　あげな小学校運動場\n第2駐車場　あげな中学校運動場\n※運動場の駐車スペースに限りがあります。公共交通機関をご利用の上お越し下さいます様お願い致します。\n※飲食テナントは19時45分までのはんばいとなっています。\n\n\n\n詳しくはイベントWEBサイトをご覧ください。
URL:https://okinawanheroes.com/event/20230923%e9%97%98%e7%89%9b%e6%88%a6%e5%a3%ab%e3%83%af%e3%82%a4%e3%83%89%e3%83%bc/
LOCATION:【西原第一公園】\, うるま市西原124
CATEGORIES:闘牛戦士ワイドー
ATTACH;FMTTYPE=image/jpeg:https://okinawanheroes.com/cms/wp-content/uploads/2023/09/パリピ祭り-scaled.jpg
END:VEVENT
END:VCALENDAR