BEGIN:VCALENDAR
VERSION:2.0
PRODID:-//【公式】オキナワンヒーローズ - ECPv6.15.20//NONSGML v1.0//EN
CALSCALE:GREGORIAN
METHOD:PUBLISH
X-ORIGINAL-URL:https://okinawanheroes.com
X-WR-CALDESC:【公式】オキナワンヒーローズ のイベント
REFRESH-INTERVAL;VALUE=DURATION:PT1H
X-Robots-Tag:noindex
X-PUBLISHED-TTL:PT1H
BEGIN:VTIMEZONE
TZID:Asia/Tokyo
BEGIN:STANDARD
TZOFFSETFROM:+0900
TZOFFSETTO:+0900
TZNAME:JST
DTSTART:20210101T000000
END:STANDARD
END:VTIMEZONE
BEGIN:VEVENT
DTSTART;VALUE=DATE:20221120
DTEND;VALUE=DATE:20221121
DTSTAMP:20260426T000326
CREATED:20221115T033002Z
LAST-MODIFIED:20221115T033128Z
UID:3669-1668902400-1668988799@okinawanheroes.com
SUMMARY:安慶名グスクらんたん祭り／ワイドー＆タッチュー登場！
DESCRIPTION:「安慶名グスクに光を！」をテーマに「安慶名グスクらんたん祭り」を開催！！ \nKids触れ合いTimeには\n闘牛戦士ワイドー＆タッチュータイフーンが登場♪ \n\n\n\n開催日時\n2022年11月20日（土）\n●闘牛戦士ワイドー／16:00～\n\n\n\n会場\n安慶名闘牛場\n(うるま市安慶名1076)\n\n\n\nイベントWEBサイト\n安慶名グスクらんたん祭りホームページ\nhttps://r.goope.jp/agenagusuku\n\n\n\n備考\n駐車場は、「具志川商業高等学校」または「うるま市役所市民駐車場」をご利用ください。\n祭り会場周辺への駐車はご遠慮ください。\n\n\n\n詳しくはイベントWEBサイトをご覧ください。
URL:https://okinawanheroes.com/event/%e5%ae%89%e6%85%b6%e5%90%8d%e3%82%b0%e3%82%b9%e3%82%af%e3%82%89%e3%82%93%e3%81%9f%e3%82%93%e7%a5%ad%e3%82%8a%ef%bc%8f%e9%97%98%e7%89%9b%e6%88%a6%e5%a3%ab%e3%83%af%e3%82%a4%e3%83%89%e3%83%bc%ef%bc%86/
LOCATION:【安慶名闘牛場】\, うるま市安慶名1076
CATEGORIES:闘牛戦士ワイドー
ATTACH;FMTTYPE=image/jpeg:https://okinawanheroes.com/cms/wp-content/uploads/2022/11/221015125413-634a2ee51a2f0.jpg
END:VEVENT
END:VCALENDAR