BEGIN:VCALENDAR
VERSION:2.0
PRODID:-//【公式】オキナワンヒーローズ - ECPv6.15.20//NONSGML v1.0//EN
CALSCALE:GREGORIAN
METHOD:PUBLISH
X-ORIGINAL-URL:https://okinawanheroes.com
X-WR-CALDESC:【公式】オキナワンヒーローズ のイベント
REFRESH-INTERVAL;VALUE=DURATION:PT1H
X-Robots-Tag:noindex
X-PUBLISHED-TTL:PT1H
BEGIN:VTIMEZONE
TZID:Asia/Tokyo
BEGIN:STANDARD
TZOFFSETFROM:+0900
TZOFFSETTO:+0900
TZNAME:JST
DTSTART:20220101T000000
END:STANDARD
END:VTIMEZONE
BEGIN:VEVENT
DTSTART;VALUE=DATE:20230128
DTEND;VALUE=DATE:20230129
DTSTAMP:20260425T201020
CREATED:20230123T074734Z
LAST-MODIFIED:20230123T074734Z
UID:3879-1674864000-1674950399@okinawanheroes.com
SUMMARY:【第18回】うるま市産業まつり／闘牛戦士ワイドーショー
DESCRIPTION:働くって何？働くって楽しい！　まつりだよ全員集合　【第18回】うるま市産業まつり \n今年度のうるま市産業まつりは、うるま市内のすぐりむん（1次産品、加工品等）の展示・販売だけでなく、\nこども達へ「働く」ことについて、見て、さわって、体験、学ぶことのできるコンテンツがいっぱい！！\n1月28日～29日の二日間にわたり、イオン具志川、うるマルシェ、沖縄県工業技術センターの3カ所で同時開催。 \nイオン具志川店では、28日(土)にうるま市から誕生した闘牛のヒーロー「闘牛戦士ワイドー」のヒーローショーも！！\nワイドーやウシナー達を応援しに来てねー！！ \nワイドーグッズの販売もあるよー♪ \n\n\n\n開催日時\n2023年1月28日（土）\n闘牛戦士ワイドーショー／15:30～\n\n\n会場\nイオン具志川店　１階屋外平面駐車場\n(うるま市前原 幸崎原３０３番地)\n\n\n\nイベントWEBサイト\nうるま市HP\nhttps://www.city.uruma.lg.jp/culture/1249/9113/28055\n\n\n備考\n※雨天決行・荒天決行 \n[臨時駐車場]\n沖縄県IT津梁パーク内駐車場（うるま市州崎14-17） \n※産業まつりの各会場および臨時駐車場間は「シャトルバス」が運行しております。\n※産業まつり会場内には、一般来場者用の駐車場はございませんので、臨時駐車場からシャトルバスをご利用いただきますようお願い致します。\n\n\n\n詳しくはイベントWEBサイトをご覧ください。
URL:https://okinawanheroes.com/event/20230128%e3%83%af%e3%82%a4%e3%83%89%e3%83%bc%e3%82%b7%e3%83%a7%e3%83%bc/
LOCATION:【イオン具志川店】\, うるま市字前原幸崎原303番地
CATEGORIES:闘牛戦士ワイドー
ATTACH;FMTTYPE=image/jpeg:https://okinawanheroes.com/cms/wp-content/uploads/2023/01/S__10035252.jpg
END:VEVENT
END:VCALENDAR