BEGIN:VCALENDAR
VERSION:2.0
PRODID:-//【公式】オキナワンヒーローズ - ECPv6.15.20//NONSGML v1.0//EN
CALSCALE:GREGORIAN
METHOD:PUBLISH
X-ORIGINAL-URL:https://okinawanheroes.com
X-WR-CALDESC:【公式】オキナワンヒーローズ のイベント
REFRESH-INTERVAL;VALUE=DURATION:PT1H
X-Robots-Tag:noindex
X-PUBLISHED-TTL:PT1H
BEGIN:VTIMEZONE
TZID:Asia/Tokyo
BEGIN:STANDARD
TZOFFSETFROM:+0900
TZOFFSETTO:+0900
TZNAME:JST
DTSTART:20220101T000000
END:STANDARD
END:VTIMEZONE
BEGIN:VEVENT
DTSTART;VALUE=DATE:20230923
DTEND;VALUE=DATE:20230924
DTSTAMP:20260425T043512
CREATED:20230901T070320Z
LAST-MODIFIED:20230920T062613Z
UID:4235-1695427200-1695513599@okinawanheroes.com
SUMMARY:エディオン 経塚シティ店／ワイドー 握手＆撮影会
DESCRIPTION:毎週ヒーローに会える！？SPECIAL年間企画！！ \n9月23日(土曜日・祝日)は、\nエディオン 経塚シティ店に闘牛戦士ワイドーが登場！！ \nワイドーと握手をして、一緒に記念写真を撮ろう♪ \n\n\n\n開催日時\n2023年9月23日（土・祝）\n①11：00～11：20\n②13：00～13：20\n③14：00～14：20\n④15：00～15：20\n\n\n\n会場\nエディオン 経塚シティ店　＜エディオン携帯コーナー＞\n(浦添市経塚６５２−１)\n\n\nイベントWEBサイト\nhttps://www.san-a.co.jp/event/waido-202309-2/\n\n\n備考\n※撮影はお客様のカメラ(スマホ等)にてお願い致します\n※整理券の配布はございません\n\n\n\n詳しくはイベントWEBサイトをご覧ください。
URL:https://okinawanheroes.com/event/20230923%e3%83%af%e3%82%a4%e3%83%89%e3%83%bc%e6%8f%a1%e6%89%8b%ef%bc%86%e6%92%ae%e5%bd%b1%e4%bc%9a/
LOCATION:【サンエー 経塚シティ】\, 浦添市経塚６５２−１
CATEGORIES:闘牛戦士ワイドー
ATTACH;FMTTYPE=image/jpeg:https://okinawanheroes.com/cms/wp-content/uploads/2023/09/9月23日ワイドー.jpg
END:VEVENT
BEGIN:VEVENT
DTSTART;VALUE=DATE:20230923
DTEND;VALUE=DATE:20230924
DTSTAMP:20260425T043512
CREATED:20230920T060848Z
LAST-MODIFIED:20230920T062743Z
UID:4282-1695427200-1695513599@okinawanheroes.com
SUMMARY:第２回うるまの笑顔でパリピ祭り／闘牛戦士ワイドーがやってくる
DESCRIPTION:第２回うるまの笑顔でパリピ祭りに闘牛戦士ワイドーが登場！！ \nワイドーと一緒に一緒にクイズやダンスで盛り上がろう。 \nさらに、ワイドーの産みの親伊波大志さんもやってくる！闘牛とお写真も撮れるよ♪ \n他にもイベントもりだくさん！みんなで遊びに来てね～ \n\n\n\n開催日時\n2023年9月23日(土)　14：00～20：00\n闘牛戦士ワイドーの登場は17:20～\n\n\n会場\n西原第一公園\n(うるま市西原124)\n\n\nイベントWEBサイト\nhttps://www.city.uruma.lg.jp/culture/1249/30643\n\n\n備考\n雨天延期 \n第1駐車場　あげな小学校運動場\n第2駐車場　あげな中学校運動場\n※運動場の駐車スペースに限りがあります。公共交通機関をご利用の上お越し下さいます様お願い致します。\n※飲食テナントは19時45分までのはんばいとなっています。\n\n\n\n詳しくはイベントWEBサイトをご覧ください。
URL:https://okinawanheroes.com/event/20230923%e9%97%98%e7%89%9b%e6%88%a6%e5%a3%ab%e3%83%af%e3%82%a4%e3%83%89%e3%83%bc/
LOCATION:【西原第一公園】\, うるま市西原124
CATEGORIES:闘牛戦士ワイドー
ATTACH;FMTTYPE=image/jpeg:https://okinawanheroes.com/cms/wp-content/uploads/2023/09/パリピ祭り-scaled.jpg
END:VEVENT
END:VCALENDAR