BEGIN:VCALENDAR
VERSION:2.0
PRODID:-//【公式】オキナワンヒーローズ - ECPv6.15.20//NONSGML v1.0//EN
CALSCALE:GREGORIAN
METHOD:PUBLISH
X-ORIGINAL-URL:https://okinawanheroes.com
X-WR-CALDESC:【公式】オキナワンヒーローズ のイベント
REFRESH-INTERVAL;VALUE=DURATION:PT1H
X-Robots-Tag:noindex
X-PUBLISHED-TTL:PT1H
BEGIN:VTIMEZONE
TZID:Asia/Tokyo
BEGIN:STANDARD
TZOFFSETFROM:+0900
TZOFFSETTO:+0900
TZNAME:JST
DTSTART:20220101T000000
END:STANDARD
END:VTIMEZONE
BEGIN:VEVENT
DTSTART;VALUE=DATE:20231209
DTEND;VALUE=DATE:20231210
DTSTAMP:20260424T223802
CREATED:20231130T035903Z
LAST-MODIFIED:20231130T035903Z
UID:4552-1702080000-1702166399@okinawanheroes.com
SUMMARY:実践！心のバリアフリー PRイベント／闘牛戦士ワイドー登場
DESCRIPTION:ココロつながるプロジェクト\n実践！心のバリアフリー PRイベント ～合理的配慮について学び行動へつなげましょう～ \n闘牛戦士ワイドー登場！！ \nワイド―がカナデノウツとダンスでコラボレーション♪\nみんなも元気にワイドーダンスを踊ろう☆ \n\n\n\n開催日時\n2023年12月9日(土)\nワイドーダンス／13:00～\nカナデノウツコラボ／14:30～\n\n\n\n会場\nイオンモール沖縄ライカム　１Fグランドスクエア\n(北中城村ライカム1番地)\n\n\nイベントWEBサイト\nイオンモール沖縄ライカム HP\nhttps://okinawarycom-aeonmall.com/news/event/4325\n\n\n備考\n参加無料\n\n\n\n詳しくはイベントWEBサイトをご覧ください。
URL:https://okinawanheroes.com/event/20231209%e9%97%98%e7%89%9b%e6%88%a6%e5%a3%ab%e3%83%af%e3%82%a4%e3%83%89%e3%83%bc/
LOCATION:【イオンモール沖縄ライカム】\, 北中城村ライカム1番地
CATEGORIES:闘牛戦士ワイドー
ATTACH;FMTTYPE=image/jpeg:https://okinawanheroes.com/cms/wp-content/uploads/2023/11/thumbW480_photo1.jpg
END:VEVENT
BEGIN:VEVENT
DTSTART;VALUE=DATE:20231209
DTEND;VALUE=DATE:20231210
DTSTAMP:20260424T223802
CREATED:20231207T061412Z
LAST-MODIFIED:20231207T061412Z
UID:4570-1702080000-1702166399@okinawanheroes.com
SUMMARY:ヤマダデンキ テックランド具志川店／ワイドー 握手＆撮影会
DESCRIPTION:毎週ヒーローに会える！？SPECIAL年間企画！！ \n12月9日(土曜日)は、\nヤマダデンキ テックランド具志川店に闘牛戦士ワイドーが登場！！ \nワイドーと握手をして、一緒に記念写真を撮ろう♪ \n\n\n\n開催日時\n2023年12月9日（土）\n①11：00～11：20\n②13：00～13：20\n③15：00～15：20\n④17：00～17：20\n\n\n\n会場\nヤマダデンキ テックランド具志川店\n(うるま市前原167-1-1)\n\n\nイベントWEBサイト\n\n\n\n備考\n※撮影はお客様のカメラ(スマホ等)にてお願い致します\n※整理券の配布はございません\n\n\n\n詳しくはイベントWEBサイトをご覧ください。
URL:https://okinawanheroes.com/event/20231209%e9%97%98%e7%89%9b%e6%88%a6%e5%a3%ab%e3%83%af%e3%82%a4%e3%83%89%e3%83%bc-2/
LOCATION:【ヤマダデンキ　テックランド具志川店】\, うるま市前原１６７−１−１
CATEGORIES:闘牛戦士ワイドー
ATTACH;FMTTYPE=image/jpeg:https://okinawanheroes.com/cms/wp-content/uploads/2023/12/12月9日ワイドー.jpg
END:VEVENT
END:VCALENDAR