BEGIN:VCALENDAR
VERSION:2.0
PRODID:-//【公式】オキナワンヒーローズ - ECPv6.15.20//NONSGML v1.0//EN
CALSCALE:GREGORIAN
METHOD:PUBLISH
X-WR-CALNAME:【公式】オキナワンヒーローズ
X-ORIGINAL-URL:https://okinawanheroes.com
X-WR-CALDESC:【公式】オキナワンヒーローズ のイベント
REFRESH-INTERVAL;VALUE=DURATION:PT1H
X-Robots-Tag:noindex
X-PUBLISHED-TTL:PT1H
BEGIN:VTIMEZONE
TZID:Asia/Tokyo
BEGIN:STANDARD
TZOFFSETFROM:+0900
TZOFFSETTO:+0900
TZNAME:JST
DTSTART:20220101T000000
END:STANDARD
END:VTIMEZONE
BEGIN:VEVENT
DTSTART;VALUE=DATE:20231216
DTEND;VALUE=DATE:20231217
DTSTAMP:20260424T223559
CREATED:20231207T055917Z
LAST-MODIFIED:20231207T060004Z
UID:4562-1702684800-1702771199@okinawanheroes.com
SUMMARY:第1回 うるま市農林水産まつり／闘牛戦士ワイドーショー
DESCRIPTION:初開催！\n第1回「うるま市農林水産まつり」で闘牛戦士ワイドーショー開催！ \nワイドーやウシナー達が登場。\nみんなでワイドー達に、ヒーヤイ！ヒーヤイ！元気なヤグイを送ろう！！ \nワイドーグッズの販売もあり♪ \n\n\n\n開催日時\n2023年12月16日(土)\n１回目／10:50～\n２回目／14:10～\n\n\n\n会場\nうるま市具志川総合運動公園　具志川ドーム\n(うるま市具志川２３３６)\n\n\nイベントWEBサイト\nうるま市 HP\nhttps://www.city.uruma.lg.jp/sangyou/148/31471/31534\n\n\n備考\n入場無料\n\n\n\n詳しくはイベントWEBサイトをご覧ください。
URL:https://okinawanheroes.com/event/20231216%e3%83%af%e3%82%a4%e3%83%89%e3%83%bc%e3%82%b7%e3%83%a7%e3%83%bc/
LOCATION:【具志川ドーム】\, うるま市具志川２３３６
CATEGORIES:闘牛戦士ワイドー
ATTACH;FMTTYPE=image/jpeg:https://okinawanheroes.com/cms/wp-content/uploads/2023/12/第1回うるま市農林水産まつり01.jpg
END:VEVENT
END:VCALENDAR