BEGIN:VCALENDAR
VERSION:2.0
PRODID:-//【公式】オキナワンヒーローズ - ECPv6.15.20//NONSGML v1.0//EN
CALSCALE:GREGORIAN
METHOD:PUBLISH
X-ORIGINAL-URL:https://okinawanheroes.com
X-WR-CALDESC:【公式】オキナワンヒーローズ のイベント
REFRESH-INTERVAL;VALUE=DURATION:PT1H
X-Robots-Tag:noindex
X-PUBLISHED-TTL:PT1H
BEGIN:VTIMEZONE
TZID:Asia/Tokyo
BEGIN:STANDARD
TZOFFSETFROM:+0900
TZOFFSETTO:+0900
TZNAME:JST
DTSTART:20230101T000000
END:STANDARD
END:VTIMEZONE
BEGIN:VEVENT
DTSTART;VALUE=DATE:20240103
DTEND;VALUE=DATE:20240104
DTSTAMP:20260424T210427
CREATED:20231226T091108Z
LAST-MODIFIED:20231226T091232Z
UID:4626-1704240000-1704326399@okinawanheroes.com
SUMMARY:サンエー具志川メインシティ／闘牛戦士ワイドーショー
DESCRIPTION:サンエー具志川メインシティ 新春スペシャルイベントにて\n闘牛戦士ワイドーショー開催！！ \nみんなで元気にヒーヤイ！ヒーヤイ！\nワイドー達を応援しよう☆ \n2024年もワイドー達に会いに来てね～♪ \n\n\n\n開催日時\n2024年1月3日(水)\n14:00～\n\n\n会場\nサンエー具志川メインシティ　1Fメインコート\n(うるま市江洲４５０−１)\n\n\nイベントWEBサイト\nサンエー　新春スペシャルイベント\nhttps://www.san-a.co.jp/event/waidoshow/\n\n\n備考\n観覧無料\n\n\n\n詳しくはイベントWEBサイトをご覧ください。
URL:https://okinawanheroes.com/event/20240103%e3%83%af%e3%82%a4%e3%83%89%e3%83%bc%e3%82%b7%e3%83%a7%e3%83%bc%e5%85%b7%e5%bf%97%e5%b7%9d/
LOCATION:【サンエー 具志川メインシティ】\, うるま市江洲450−1
CATEGORIES:闘牛戦士ワイドー
ATTACH;FMTTYPE=image/jpeg:https://okinawanheroes.com/cms/wp-content/uploads/2023/12/195.jpg
END:VEVENT
BEGIN:VEVENT
DTSTART;VALUE=DATE:20240103
DTEND;VALUE=DATE:20240104
DTSTAMP:20260424T210427
CREATED:20231226T091414Z
LAST-MODIFIED:20231226T091640Z
UID:4631-1704240000-1704326399@okinawanheroes.com
SUMMARY:サンエー石川シティ／闘牛戦士ワイドーショー
DESCRIPTION:サンエー石川シティ 新春スペシャルイベントにて\n闘牛戦士ワイドーショー開催！！ \nみんなで元気にヒーヤイ！ヒーヤイ！\nワイドー達を応援しよう☆ \n2024年もワイドー達に会いに来てね～♪ \n\n\n\n開催日時\n2024年1月3日(水)\n17:00～\n\n\n会場\nサンエー石川シティ　1F中央コート\n(うるま市石川2521-1)\n\n\nイベントWEBサイト\nサンエー　新春スペシャルイベント\nhttps://www.san-a.co.jp/event/waidoshow/\n\n\n備考\n観覧無料\n\n\n\n詳しくはイベントWEBサイトをご覧ください。
URL:https://okinawanheroes.com/event/%e3%82%b5%e3%83%b3%e3%82%a8%e3%83%bc%e7%9f%b3%e5%b7%9d%e3%82%b7%e3%83%86%e3%82%a3%ef%bc%8f%e9%97%98%e7%89%9b%e6%88%a6%e5%a3%ab%e3%83%af%e3%82%a4%e3%83%89%e3%83%bc%e3%82%b7%e3%83%a7%e3%83%bc/
LOCATION:【サンエー 石川シティ】\, うるま市石川２５２１−１
CATEGORIES:闘牛戦士ワイドー
ATTACH;FMTTYPE=image/jpeg:https://okinawanheroes.com/cms/wp-content/uploads/2023/12/195.jpg
END:VEVENT
BEGIN:VEVENT
DTSTART;VALUE=DATE:20240103
DTEND;VALUE=DATE:20240104
DTSTAMP:20260424T210427
CREATED:20231226T092417Z
LAST-MODIFIED:20231226T092502Z
UID:4636-1704240000-1704326399@okinawanheroes.com
SUMMARY:サンエー宜野湾コンベンションシティ／闘牛戦士ワイドー登場
DESCRIPTION:サンエー宜野湾コンベンションシティ 新春スペシャルイベント\n闘牛戦士ワイドーのクイズ・ダンス・ハイタッチ会開催！！ \n2024年もワイドーと一緒に遊ぼう♪ \n\n\n\n開催日時\n2024年1月3日(水)\n11:00～\n\n\n会場\nサンエー宜野湾コンベンションシティ　2Fはごろもコート\n(宜野湾市宇地泊558−10)\n\n\nイベントWEBサイト\nサンエー　新春スペシャルイベント\nhttps://www.san-a.co.jp/event/waidoginowan/\n\n\n備考\n観覧無料\n\n\n\n詳しくはイベントWEBサイトをご覧ください。
URL:https://okinawanheroes.com/event/20240103%e9%97%98%e7%89%9b%e6%88%a6%e5%a3%ab%e3%83%af%e3%82%a4%e3%83%89%e3%83%bc/
LOCATION:【サンエー 宜野湾コンベンションシティ】\, 宜野湾市宇地泊558−10
CATEGORIES:闘牛戦士ワイドー
ATTACH;FMTTYPE=image/png:https://okinawanheroes.com/cms/wp-content/uploads/2023/12/スクリーンショット-194.png
END:VEVENT
END:VCALENDAR