BEGIN:VCALENDAR
VERSION:2.0
PRODID:-//【公式】オキナワンヒーローズ - ECPv6.15.20//NONSGML v1.0//EN
CALSCALE:GREGORIAN
METHOD:PUBLISH
X-ORIGINAL-URL:https://okinawanheroes.com
X-WR-CALDESC:【公式】オキナワンヒーローズ のイベント
REFRESH-INTERVAL;VALUE=DURATION:PT1H
X-Robots-Tag:noindex
X-PUBLISHED-TTL:PT1H
BEGIN:VTIMEZONE
TZID:Asia/Tokyo
BEGIN:STANDARD
TZOFFSETFROM:+0900
TZOFFSETTO:+0900
TZNAME:JST
DTSTART:20230101T000000
END:STANDARD
END:VTIMEZONE
BEGIN:VEVENT
DTSTART;VALUE=DATE:20241013
DTEND;VALUE=DATE:20241014
DTSTAMP:20260424T032559
CREATED:20241001T022700Z
LAST-MODIFIED:20241001T022811Z
UID:5132-1728777600-1728863999@okinawanheroes.com
SUMMARY:第19回『うるま祭り』／闘牛戦士ワイドーショー
DESCRIPTION:第19回「うるま祭り」にて闘牛戦士ワイドーショー開催！！ \n闘牛戦士ワイドーのお話の舞台でもある「うるま市」のお祭りにワイドー登場！\nお祭り2日目の13日(日)のメインステージにてワイドーショーがあるよ。\nみんなで、ヒーヤイ！ヒーヤイ！ワイドー達を応援しよう☆ \nなんと！！\n新作のワイドーグッズの販売もあるよ♪\n販売ブースにも遊びに来てね～ \n\n\n\n開催日時\n2024年10月13日（日）\nメインステージ／17:30～\n\n\n会場\nうるま市具志川総合運動公園　メインステージ\n(沖縄県うるま市大田421)\n\n\n\nイベントWEBサイト\nうるま市(第19回うるま祭りについて)\nhttps://www.city.uruma.lg.jp/1007003000/contents/p000010.html\n\n\n備考\n\n\n\n\n詳しくはイベントWEBサイトをご覧ください。
URL:https://okinawanheroes.com/event/20241013_waido/
LOCATION:【うるま市具志川総合運動公園】\, 沖縄県うるま市大田421
CATEGORIES:闘牛戦士ワイドー
ATTACH;FMTTYPE=image/jpeg:https://okinawanheroes.com/cms/wp-content/uploads/2024/10/第19回うるま祭り.jpg
END:VEVENT
END:VCALENDAR