BEGIN:VCALENDAR
VERSION:2.0
PRODID:-//【公式】オキナワンヒーローズ - ECPv6.15.20//NONSGML v1.0//EN
CALSCALE:GREGORIAN
METHOD:PUBLISH
X-WR-CALNAME:【公式】オキナワンヒーローズ
X-ORIGINAL-URL:https://okinawanheroes.com
X-WR-CALDESC:【公式】オキナワンヒーローズ のイベント
REFRESH-INTERVAL;VALUE=DURATION:PT1H
X-Robots-Tag:noindex
X-PUBLISHED-TTL:PT1H
BEGIN:VTIMEZONE
TZID:Asia/Tokyo
BEGIN:STANDARD
TZOFFSETFROM:+0900
TZOFFSETTO:+0900
TZNAME:JST
DTSTART:20230101T000000
END:STANDARD
END:VTIMEZONE
BEGIN:VEVENT
DTSTART;VALUE=DATE:20240630
DTEND;VALUE=DATE:20240701
DTSTAMP:20260424T090645
CREATED:20240619T093625Z
LAST-MODIFIED:20240619T095520Z
UID:4891-1719705600-1719791999@okinawanheroes.com
SUMMARY:FC琉球ホームゲーム／闘牛戦士ワイドーショー開催！
DESCRIPTION:FC琉球ホームゲーム、6月30日(日) ツエーゲン金沢戦！！ \n場外ブースの「トランスコスモス スクエア」にて\n「闘牛戦士ワイドー」のヒーローショーを開催！！ \nFC琉球もワイドーも思いっきり応援しよう♪ \n\n\n\n開催日時\n2024年6月30日（日）\n●16:45～17:15 頃\n\n\n\n会場\nタピック県総ひやごんスタジアム\nトランスコスモス スクエア ※場外ブース\n(沖縄市比屋根５丁目３−１／ 沖縄県総合運動公園内)\n\n\nイベントWEBサイト\nFC琉球ホームページ\nhttps://fcryukyu.com/news/48466/\n\n\n備考\n場外ブース：観覧無料\n\n\n\n詳しくはイベントWEBサイトをご覧ください。
URL:https://okinawanheroes.com/event/20240630_waido/
LOCATION:【タピック県総ひやごんスタジアム】\, 沖縄市比屋根5丁目3−1
CATEGORIES:闘牛戦士ワイドー
ATTACH;FMTTYPE=image/jpeg:https://okinawanheroes.com/cms/wp-content/uploads/2024/06/【宣材】闘牛戦士ワイドー.jpg
END:VEVENT
BEGIN:VEVENT
DTSTART;VALUE=DATE:20240630
DTEND;VALUE=DATE:20240701
DTSTAMP:20260424T090645
CREATED:20240624T031609Z
LAST-MODIFIED:20240624T032603Z
UID:4905-1719705600-1719791999@okinawanheroes.com
SUMMARY:うるま市の物産と観光展／闘牛戦士ワイドーと一緒に踊ろう♪
DESCRIPTION:うるま市の物産と観光展inイオンスタイルライカム店 \nうるまの「まーさむん」「すぐりむん」が勢揃い！\n物産展や雑貨展、貝殻を使ったワークショップ、くがにたまごのプレゼントや闘牛戦士ワイドーのダンスイベントなど、\n大人から子供まで楽しめる内容が盛りだくさんです！ \n闘牛戦士ワイドーは30日(日)に登場！！\nワイドーと一緒に元気にワイドーダンスを踊ろう♪♪ \n \n\n\n\n日時\n◆2024年6月30日（日）\n1回目 14:00～ ／ 2回目 16:00～\n\n\n会場\nイオンモール沖縄ライカム\nイオンスタイルライカム　※イベントスペース\n(北中城村ライカム1番地)\n\n\n\nイベントWEBサイト\nうるマルシェ\nhttps://urumarche.com/17443-2/\n\n\n備考\n観覧無料\n\n\n\n詳しくはイベントWEBサイトをご覧ください。
URL:https://okinawanheroes.com/event/20240630_waido2/
LOCATION:【イオンモール沖縄ライカム】\, 北中城村ライカム1番地
CATEGORIES:闘牛戦士ワイドー
ATTACH;FMTTYPE=image/jpeg:https://okinawanheroes.com/cms/wp-content/uploads/2024/06/うるま市物産と観光展s.jpg
END:VEVENT
END:VCALENDAR