BEGIN:VCALENDAR
VERSION:2.0
PRODID:-//【公式】オキナワンヒーローズ - ECPv6.15.20//NONSGML v1.0//EN
CALSCALE:GREGORIAN
METHOD:PUBLISH
X-ORIGINAL-URL:https://okinawanheroes.com
X-WR-CALDESC:【公式】オキナワンヒーローズ のイベント
REFRESH-INTERVAL;VALUE=DURATION:PT1H
X-Robots-Tag:noindex
X-PUBLISHED-TTL:PT1H
BEGIN:VTIMEZONE
TZID:Asia/Tokyo
BEGIN:STANDARD
TZOFFSETFROM:+0900
TZOFFSETTO:+0900
TZNAME:JST
DTSTART:20210101T000000
END:STANDARD
END:VTIMEZONE
BEGIN:VEVENT
DTSTART;VALUE=DATE:20221002
DTEND;VALUE=DATE:20221003
DTSTAMP:20260425T201134
CREATED:20220921T123456Z
LAST-MODIFIED:20220921T132323Z
UID:2976-1664668800-1664755199@okinawanheroes.com
SUMMARY:広島空港『ソラミィフェスタ＠沖縄・台湾まつり』／琉神マブヤーショー＆撮影会
DESCRIPTION:広島空港の沖縄ゆかりのステージイベントにて琉神マブヤーがやってくるよ！\nヒーローショー終了後には、撮影会も予定！マブヤーグッズの販売会もあります！ \n\n\n\n開催日時\n2022年10月2日（日）\n①11:30～　②15:00～\n\n\n会場\n広島空港　ソラミィ広場(1F)\n(広島県三原市本郷町善入寺６４−３１)\nWEBサイト：https://www.hij.airport.jp/\n\n\nイベントWEBサイト\nhttps://www.hij.airport.jp/news/2022/09/hij-info202210.html\n\n\n備考\n観覧無料\n\n\n\n詳しくはイベントWEBサイトをご覧ください。
URL:https://okinawanheroes.com/event/%e5%ba%83%e5%b3%b6%e7%a9%ba%e6%b8%af%e3%80%8e%e3%82%bd%e3%83%a9%e3%83%9f%e3%82%a3%e3%83%95%e3%82%a7%e3%82%b9%e3%82%bf%ef%bc%a0%e6%b2%96%e7%b8%84%e3%83%bb%e5%8f%b0%e6%b9%be%e3%81%be%e3%81%a4%e3%82%8a/
LOCATION:【広島空港 ソラミィ広場(1F)】\, 広島県三原市本郷町善入寺６４−３１
CATEGORIES:琉神マブヤー
ATTACH;FMTTYPE=image/jpeg:https://okinawanheroes.com/cms/wp-content/uploads/2022/09/FdK6BOGaAAEv7gN-scaled.jpg
END:VEVENT
END:VCALENDAR