BEGIN:VCALENDAR
VERSION:2.0
PRODID:-//【公式】オキナワンヒーローズ - ECPv6.15.20//NONSGML v1.0//EN
CALSCALE:GREGORIAN
METHOD:PUBLISH
X-ORIGINAL-URL:https://okinawanheroes.com
X-WR-CALDESC:【公式】オキナワンヒーローズ のイベント
REFRESH-INTERVAL;VALUE=DURATION:PT1H
X-Robots-Tag:noindex
X-PUBLISHED-TTL:PT1H
BEGIN:VTIMEZONE
TZID:Asia/Tokyo
BEGIN:STANDARD
TZOFFSETFROM:+0900
TZOFFSETTO:+0900
TZNAME:JST
DTSTART:20210101T000000
END:STANDARD
END:VTIMEZONE
BEGIN:VEVENT
DTSTART;VALUE=DATE:20220507
DTEND;VALUE=DATE:20220508
DTSTAMP:20260426T000014
CREATED:20220416T092607Z
LAST-MODIFIED:20220502T083526Z
UID:2761-1651881600-1651967999@okinawanheroes.com
SUMMARY:沖縄本土復帰５０周年記念大闘牛大会／闘牛戦士ワイドーショー
DESCRIPTION:沖縄本土復帰50周年記念大闘牛大会の\nオープニングアトラクションにて闘牛戦士ワイドーショー開催！ \n\n\n\n開催日時\n2022年5月7日（土）\n闘牛戦士ワイドーショー／12:00～\n\n\n会場\nうるま市石川多目的ドーム\n(沖縄県うるま市石川２２９８−１)\nWEBサイト：https://www.city.uruma.lg.jp/iina/2394\n\n\nイベントWEBサイト\n告知動画：https://www.youtube.com/watch?v=dmqxC9hB1sE\n\n\n備考\n当日券（石川多目的ドーム券売所）\n男性3000円・女性2000円・中高生1000円・小学生以下無料\n\n\n\n詳しくはイベントWEBサイトをご覧ください。
URL:https://okinawanheroes.com/event/%e6%b2%96%e7%b8%84%e6%9c%ac%e5%9c%9f%e5%be%a9%e5%b8%b0%ef%bc%95%ef%bc%90%e5%91%a8%e5%b9%b4%e8%a8%98%e5%bf%b5%e5%a4%a7%e9%97%98%e7%89%9b%e5%a4%a7%e4%bc%9a/
LOCATION:【うるま市石川多目的ドーム】\, 沖縄県うるま市石川２２９８−１
CATEGORIES:琉神マブヤー
ATTACH;FMTTYPE=image/jpeg:https://okinawanheroes.com/cms/wp-content/uploads/2022/04/FQcyCN-aAAEAPFj.jpg
END:VEVENT
END:VCALENDAR