BEGIN:VCALENDAR
VERSION:2.0
PRODID:-//【公式】オキナワンヒーローズ - ECPv6.15.20//NONSGML v1.0//EN
CALSCALE:GREGORIAN
METHOD:PUBLISH
X-ORIGINAL-URL:https://okinawanheroes.com
X-WR-CALDESC:【公式】オキナワンヒーローズ のイベント
REFRESH-INTERVAL;VALUE=DURATION:PT1H
X-Robots-Tag:noindex
X-PUBLISHED-TTL:PT1H
BEGIN:VTIMEZONE
TZID:Asia/Tokyo
BEGIN:STANDARD
TZOFFSETFROM:+0900
TZOFFSETTO:+0900
TZNAME:JST
DTSTART:20210101T000000
END:STANDARD
END:VTIMEZONE
BEGIN:VEVENT
DTSTART;VALUE=DATE:20221119
DTEND;VALUE=DATE:20221121
DTSTAMP:20260422T055706
CREATED:20221118T112140Z
LAST-MODIFIED:20221118T112358Z
UID:3711-1668816000-1668988799@okinawanheroes.com
SUMMARY:大知建設 完成見学会／大知マン＆シュタール登場
DESCRIPTION:今週土日は見学くゎぃ！今週土日は見学くゎぃ！ \n19日(土)は大知マンが登場\n20日(日)は大知マン・シュタールが登場\n \n一緒に記念写真も撮れるぞ！遊びにきてね～♪ \n\n\n\n出演\n安全第一 大知マン\n大知マンシュタール\n\n\n開催日時\n2022年11月19日（土）・20日(日)\n11:00／13:00／15:00\n\n\n\n会場\n豊見城市字座安205番3（ココス豊見城店近く）\n\n\nイベントWEBサイト\n株式会社 大知建設 ホームページ　完成見学会のご案内\nhttps://daichi21.jp/syanetsu/\n\n\n備考\n※当日はマスクの着用をお願いします。発熱など体調に不安がある方のご来場はお控え下さい。\n\n\n\n詳しくはイベントWEBサイトをご覧ください。
URL:https://okinawanheroes.com/event/%e5%a4%a7%e7%9f%a5%e5%bb%ba%e8%a8%ad-%e5%ae%8c%e6%88%90%e8%a6%8b%e5%ad%a6%e4%bc%9a%ef%bc%8f%e5%a4%a7%e7%9f%a5%e3%83%9e%e3%83%b3%ef%bc%86%e3%82%b7%e3%83%a5%e3%82%bf%e3%83%bc%e3%83%ab%e7%99%bb-2/
LOCATION:【大知建設 完成見学会】
CATEGORIES:大知マン
ATTACH;FMTTYPE=image/jpeg:https://okinawanheroes.com/cms/wp-content/uploads/2022/11/sya_top_2022_11_14-scaled.jpg
END:VEVENT
BEGIN:VEVENT
DTSTART;VALUE=DATE:20221001
DTEND;VALUE=DATE:20221003
DTSTAMP:20260422T055706
CREATED:20220929T063442Z
LAST-MODIFIED:20220929T064754Z
UID:3029-1664582400-1664755199@okinawanheroes.com
SUMMARY:大知建設 完成見学会／大知マン＆シュタール登場
DESCRIPTION:今週土日は見学くゎぃ！今週土日は見学くゎぃ！ \n10月1(土)・2(日)は大知建設の完成見学会に大知マンとシュタールがそろって登場♪ \n一緒に記念写真も撮れるぞ！遊びにきてね～♪ \n\n\n\n出演\n安全第一 大知マン\n大知マンシュタール\n\n\n開催日時\n2022年10月1日（土）・2日(日)\n11:00／13:00／15:00\n\n\n\n会場\n那覇市宇栄原6丁目443-2(高良小学校近く)\n\n\nイベントWEBサイト\n株式会社 大知建設 ホームページ　完成見学会のご案内\nhttps://daichi21.jp/syanetsu/\n\n\n備考\n※当日はマスクの着用をお願いします。発熱など体調に不安がある方のご来場はお控え下さい。\n\n\n\n詳しくはイベントWEBサイトをご覧ください。
URL:https://okinawanheroes.com/event/%e5%a4%a7%e7%9f%a5%e5%bb%ba%e8%a8%ad-%e5%ae%8c%e6%88%90%e8%a6%8b%e5%ad%a6%e4%bc%9a%ef%bc%8f%e5%a4%a7%e7%9f%a5%e3%83%9e%e3%83%b3%ef%bc%86%e3%82%b7%e3%83%a5%e3%82%bf%e3%83%bc%e3%83%ab%e7%99%bb%e5%a0%b4/
LOCATION:【大知建設 完成見学会】
CATEGORIES:大知マン
ATTACH;FMTTYPE=image/jpeg:https://okinawanheroes.com/cms/wp-content/uploads/2022/09/20221001_見学会.jpg
END:VEVENT
BEGIN:VEVENT
DTSTART;VALUE=DATE:20220515
DTEND;VALUE=DATE:20220516
DTSTAMP:20260422T055706
CREATED:20220411T032858Z
LAST-MODIFIED:20220421T090455Z
UID:2690-1652572800-1652659199@okinawanheroes.com
SUMMARY:琉神マブヤーと学ぼう！おきなわの歴史と美術
DESCRIPTION:沖縄復帰50年記念 特別展「琉球」　東京国立博物館でのイベントに琉神マブヤーが登場！ \nマブヤーと一緒に、琉球・沖縄の歴史・文化を、本展出品作品を見ながら楽しく学ぶレクチャーです。\n東京国立博物館の担当研究員が展覧会や出展作品を紹介。レクチャー終了後にマブヤーとの記念撮影会も予定！ \n\n\n\n出演\n琉神マブヤー \n[展覧会解説]\n企画課出版企画室 主任研究員　三笠 景子\n\n\n開催日時\n2022年5月15日（日）\n午後1時（約40分）\n※受付時間は30分前から\n\n\n会場\n東京国立博物館　平成館1階　大講堂\n(〒110-8712 東京都台東区上野公園１３−９)\n\n\nイベントWEBサイト\n沖縄復帰50年記念 特別展「琉球」\nhttps://tsumugu.yomiuri.co.jp/ryukyu2022/\nイベント詳細\nhttps://tsumugu.yomiuri.co.jp/ryukyu2022/event/\n\n\n備考\n≪事前申込制≫\n受付：4月25日～5月5日\n＊小学生以下の入場には、保護者（高校生以上）の同伴が必要。  \n≪聴講料≫\n無料\n＊ただし、特別展「琉球」の観覧券が必要。\n（イベント当日以前に使用済みの観覧券でも可。その場合は当日の入館料が必要）。\n＊中学生以下、障がい者手帳をお持ちの方とその介護者１名は特別展「琉球」の観覧券は不要。\n\n\n\n詳しくはイベントWEBサイトをご覧ください。
URL:https://okinawanheroes.com/event/%e7%89%b9%e5%88%a5%e5%b1%95%e3%80%8c%e7%90%89%e7%90%83%e3%80%8d%e7%90%89%e7%a5%9e%e3%83%9e%e3%83%96%e3%83%a4%e3%83%bc%e3%81%a8%e5%ad%a6%e3%81%bc%e3%81%86%ef%bc%81/
LOCATION:【東京国立博物館】\, 東京都台東区上野公園１３−９
CATEGORIES:琉神マブヤー
ATTACH;FMTTYPE=image/jpeg:https://okinawanheroes.com/cms/wp-content/uploads/2022/04/琉球展.jpg
END:VEVENT
BEGIN:VEVENT
DTSTART;VALUE=DATE:20220108
DTEND;VALUE=DATE:20220111
DTSTAMP:20260422T055706
CREATED:20211230T070037Z
LAST-MODIFIED:20220421T091004Z
UID:1725-1641600000-1641859199@okinawanheroes.com
SUMMARY:海洋博公園　オキナワンヒーロー３Days
DESCRIPTION:お正月は海洋博公園でヒーローショー！！\n3日間にわたって毎日違うヒーローが登場するよ♪ \n  \n\n\n\n開催日時\n2022年1月8日（土）・9日（日）・10日（月・祝）\n11:00～／14:00～\n※ステージの時間は変更になる場合がございます。\n\n\n会場\n会場海洋博公園　中央噴水広場特設ステージ\n(沖縄県国頭郡本部町石川424番地)\nWEBサイト：https://oki-park.jp/kaiyohaku/\n\n\n出演\n・1/8「琉神マブヤー」\n・1/9「闘牛戦士ワイドー」\n・1/10「エイカーズ」\n3日間の司会は「安全＋第一大知マン」\n\n\nイベントWEBサイト\nhttps://oki-park.jp/kaiyohaku/events/detail/6505\n\n\n備考\n観覧無料
URL:https://okinawanheroes.com/event/%e6%b5%b7%e6%b4%8b%e5%8d%9a%e5%85%ac%e5%9c%92/
LOCATION:【海洋博公園】\, 沖縄県国頭郡本部町石川424番地
CATEGORIES:エイカーズ,大知マン,琉神マブヤー,闘牛戦士ワイドー
ATTACH;FMTTYPE=image/jpeg:https://okinawanheroes.com/cms/wp-content/uploads/2021/12/2022010810_海洋博3日間-scaled.jpg
END:VEVENT
END:VCALENDAR