BEGIN:VCALENDAR
VERSION:2.0
PRODID:-//【公式】オキナワンヒーローズ - ECPv6.15.20//NONSGML v1.0//EN
CALSCALE:GREGORIAN
METHOD:PUBLISH
X-ORIGINAL-URL:https://okinawanheroes.com
X-WR-CALDESC:【公式】オキナワンヒーローズ のイベント
REFRESH-INTERVAL;VALUE=DURATION:PT1H
X-Robots-Tag:noindex
X-PUBLISHED-TTL:PT1H
BEGIN:VTIMEZONE
TZID:Asia/Tokyo
BEGIN:STANDARD
TZOFFSETFROM:+0900
TZOFFSETTO:+0900
TZNAME:JST
DTSTART:20210101T000000
END:STANDARD
END:VTIMEZONE
BEGIN:VEVENT
DTSTART;VALUE=DATE:20221105
DTEND;VALUE=DATE:20221106
DTSTAMP:20260425T200522
CREATED:20221028T021955Z
LAST-MODIFIED:20221028T022944Z
UID:3360-1667606400-1667692799@okinawanheroes.com
SUMMARY:うるまハロウィンコスプレフェス2022／闘牛戦士ワイドークイズ＆ダンス、ハイタッチ会
DESCRIPTION:着ても楽しい、見ても楽しい　変身あり、撮影あり、みんな一緒に楽しもう！\n「うるまハロウィンコスプレフェス2022 」に闘牛戦士ワイドーが登場！！ \n世界遺産の勝連城跡でワイドー達とクイズ＆ダンスで楽しもう♪\nハイタッチ会もあるから、みんな遊びに来てね！！ \n\n\n\n出演\n・闘牛戦士ワイドー\n・シンカーワイドー\n・グマーワイドー\n\n\n開催日時\n2022年11月5日（土）15:00～\n伝統神ウルマー＆闘牛戦士ワイドーステージ\n(ダンス＆クイズ、ハイタッチ会)\n\n\n\n会場\n勝連城跡\n(うるま市勝連南風原3807-2)\n\n\n\nイベントWEBサイト\n・特設ページ\nhttps://sites.google.com/lategra.com/uruhalo2022\n\n・Twitter\nhttps://twitter.com/uruhallow\n\n\n備考\nイベント会場には、一般の方の駐車場がございません。\nご来場の際には、臨時駐車場とシャトルバスをご利用ください。 \n＜臨時駐車場＞\n①海中道路ロードパーク\n②与那城多種目球技場\n③TERUMA～east coast～第2駐車場 \n＜シャトルバス運行情報＞\n11月5日(土)・6日(日)\n9:00～19:00（随時運行）\n\n\n\n詳しくはイベントWEBサイトをご覧ください。
URL:https://okinawanheroes.com/event/%e3%81%86%e3%82%8b%e3%81%be%e3%83%8f%e3%83%ad%e3%82%a6%e3%82%a3%e3%83%b3%e3%82%b3%e3%82%b9%e3%83%97%e3%83%ac%e3%83%95%e3%82%a7%e3%82%b92022/
LOCATION:【勝連城跡】\, うるま市勝連南風原3807-2
CATEGORIES:闘牛戦士ワイドー
ATTACH;FMTTYPE=image/jpeg:https://okinawanheroes.com/cms/wp-content/uploads/2022/10/うるハロ.jpg
END:VEVENT
BEGIN:VEVENT
DTSTART;VALUE=DATE:20221106
DTEND;VALUE=DATE:20221107
DTSTAMP:20260425T200522
CREATED:20221028T032154Z
LAST-MODIFIED:20221115T022123Z
UID:3380-1667692800-1667779199@okinawanheroes.com
SUMMARY:うちなー地域づくりフェスタ／琉神マブヤーショー
DESCRIPTION:復帰50周年記念事業として開催する「うちなー地域づくりフェスタ」。 \n地域の活性化に積極的に取り組む団体への授賞式や\n有識者による パネルディスカッションなど、\n私たちの街をより良い未来へとつなげるために考え、語り合うイベントです。 \n琉神マブヤー ステージアトラクション\n沖縄が生んだローカルヒーローと一緒に、地域づくりを盛り上げよう！ \n\n\n\n開催日時\n2022年11月6日（日）13:00～16:00\n●琉神マブヤーショー／14:15～\n\n\n\n会場\n沖縄県立博物館・美術館　講堂\n(那覇市おもろまち3丁目1-1)\n\n\n\nイベントWEBサイト\n特設ページ\nhttps://okinawaken2022.wixsite.com/okinawa\n\n\n備考\n観覧には申し込みが必要です。\n詳しくは特設ページをご覧ください。\n\n\n\n詳しくはイベントWEBサイトをご覧ください。
URL:https://okinawanheroes.com/event/%e3%81%86%e3%81%a1%e3%81%aa%e3%83%bc%e5%9c%b0%e5%9f%9f%e3%81%a5%e3%81%8f%e3%82%8a%e3%83%95%e3%82%a7%e3%82%b9%e3%82%bf/
LOCATION:【沖縄県立博物館・美術館】\, 那覇市おもろまち3丁目1-1
CATEGORIES:琉神マブヤー
ATTACH;FMTTYPE=image/jpeg:https://okinawanheroes.com/cms/wp-content/uploads/2022/10/うちなー地域づくり.jpg
END:VEVENT
BEGIN:VEVENT
DTSTART;VALUE=DATE:20221117
DTEND;VALUE=DATE:20221118
DTSTAMP:20260425T200522
CREATED:20221116T083221Z
LAST-MODIFIED:20221116T083401Z
UID:3677-1668643200-1668729599@okinawanheroes.com
SUMMARY:イオン南風原 BLACK FRIDAY フライングセール／ハブクラーゲン・クーバー・ブラックガナシーが登場！
DESCRIPTION:本当は11/18(金)からだけど、南風原店だけ先にやっちゃう\nBLACK FRIDAY フライングセール！！ \nカウントダウンセレモニーイベントにハブクラーゲン、クーバー\nそして…ブラックガナシーが登場！？ \n年に一度のスペシャルなセールの開幕を黒い彼らが盛り上げます！！ \n\n\n\n出演\n・ハブクラーゲン\n・クーバー 1号 2号\n・ブラックガナシー\n\n\n開催日時\n2022年11月16日（木）\n19:30～\n\n\n\n会場\nイオン南⾵原店 ⾷品催事場 特設ステージ\n(南風原町宮平２６４)\n\n\n\nイベントWEBサイト\n特設ページ\nhttps://www.aeon-ryukyu.jp/shopping/202211_bf_fs_lp/\n\n\n備考\n\n\n\n\n詳しくはイベントWEBサイトをご覧ください。
URL:https://okinawanheroes.com/event/%e3%82%a4%e3%82%aa%e3%83%b3%e5%8d%97%e9%a2%a8%e5%8e%9f-black-friday-%e3%83%95%e3%83%a9%e3%82%a4%e3%83%b3%e3%82%b0%e3%82%bb%e3%83%bc%e3%83%ab%ef%bc%8f%e3%83%8f%e3%83%96%e3%82%af%e3%83%a9%e3%83%bc/
LOCATION:【イオン南風原店】\, 南風原町宮平２６４
CATEGORIES:琉神マブヤー
ATTACH;FMTTYPE=image/jpeg:https://okinawanheroes.com/cms/wp-content/uploads/2022/11/イオン南風原_ブラックフライデーフライングセール.jpg
END:VEVENT
BEGIN:VEVENT
DTSTART;VALUE=DATE:20221119
DTEND;VALUE=DATE:20221120
DTSTAMP:20260425T200522
CREATED:20221115T021532Z
LAST-MODIFIED:20221118T103847Z
UID:3653-1668816000-1668902399@okinawanheroes.com
SUMMARY:闘牛戦士ワイドーが石垣島にやってくる！
DESCRIPTION:闘牛戦士ワイドーが「ウィンターフェスinラバールカナン新川」に出演決定！！！\nカナホームから少し早いクリスマスプレゼント🎁です！ \nワイドーと一緒にワイドーダンスを踊ろう！！ \n\n\n\n開催日時\n2022年11月19日（土）12:30～20:00\n●闘牛戦士ワイドー／15:15～\n\n\n\n会場\nラバールカナン新川　KIDSLANDファンタジーワールド石垣島前特設ステージ\n(石垣市字新川418-1)\n\n\n\nイベントWEBサイト\n\n\n\n備考\n■観覧無料\n■小雨の場合雨天決行ですがスケジュール変更有、また台風など悪天候の場合予告なく当日中止有\n■周辺道路・駐車場が大変混雑いたします。また駐車場の駐車可能台数には限り があります。できる限りタクシーや送迎でお越しください。\n※雨の場合 出演の順番入れ替え時間調整などの変更有【主催】\nCreative Kana-home株式会社\n連絡先：0980-87-9511\n\n\n\n詳しくはイベントWEBサイトをご覧ください。
URL:https://okinawanheroes.com/event/%e3%82%a6%e3%82%a3%e3%83%b3%e3%82%bf%e3%83%bc%e3%83%95%e3%82%a7%e3%82%b9in%e3%83%a9%e3%83%90%e3%83%bc%e3%83%ab%e3%82%ab%e3%83%8a%e3%83%b3%e6%96%b0%e5%b7%9d/
LOCATION:【ラバールカナン新川】\, 石垣市字新川418-1
CATEGORIES:闘牛戦士ワイドー
ATTACH;FMTTYPE=image/jpeg:https://okinawanheroes.com/cms/wp-content/uploads/2022/11/FhzflCMagAEnGeC.jpg
END:VEVENT
BEGIN:VEVENT
DTSTART;VALUE=DATE:20221119
DTEND;VALUE=DATE:20221120
DTSTAMP:20260425T200522
CREATED:20221115T024222Z
LAST-MODIFIED:20221115T024315Z
UID:3663-1668816000-1668902399@okinawanheroes.com
SUMMARY:第29回具商デパート／闘牛戦士ワイドー登場！
DESCRIPTION:具志川商業の具商デパートが3年ぶりに通常開催！！ \n19日(土)は闘牛戦士ワイドーが登場するよ！\nワイドーダンスやクイズで一緒に盛り上がってね♪ \n\n\n\n開催日時\n2022年11月19日（土）\n●闘牛戦士ワイドー／12:30～\n\n\n\n会場\n沖縄県立具志川商業高等学校\n(うるま市字みどり町6丁目10-1)\n\n\n\nイベントWEBサイト\n沖縄県立具志川商業高等学校ホームページ\nhttp://www.gushikawa-ch.open.ed.jp/\n\n\n\n備考\n当日は、感染防止の為マスク着用での参加をお願い致します\n\n\n\n詳しくはイベントWEBサイトをご覧ください。
URL:https://okinawanheroes.com/event/%e7%ac%ac29%e5%9b%9e%e5%85%b7%e5%95%86%e3%83%87%e3%83%91%e3%83%bc%e3%83%88%ef%bc%8f%e9%97%98%e7%89%9b%e6%88%a6%e5%a3%ab%e3%83%af%e3%82%a4%e3%83%89%e3%83%bc%e7%99%bb%e5%a0%b4%ef%bc%81/
LOCATION:【沖縄県立具志川商業高等学校】\, うるま市字みどり町6丁目10-1
CATEGORIES:闘牛戦士ワイドー
ATTACH;FMTTYPE=image/jpeg:https://okinawanheroes.com/cms/wp-content/uploads/2022/11/具商デパート.jpg
END:VEVENT
BEGIN:VEVENT
DTSTART;VALUE=DATE:20221119
DTEND;VALUE=DATE:20221121
DTSTAMP:20260425T200522
CREATED:20221118T112140Z
LAST-MODIFIED:20221118T112358Z
UID:3711-1668816000-1668988799@okinawanheroes.com
SUMMARY:大知建設 完成見学会／大知マン＆シュタール登場
DESCRIPTION:今週土日は見学くゎぃ！今週土日は見学くゎぃ！ \n19日(土)は大知マンが登場\n20日(日)は大知マン・シュタールが登場\n \n一緒に記念写真も撮れるぞ！遊びにきてね～♪ \n\n\n\n出演\n安全第一 大知マン\n大知マンシュタール\n\n\n開催日時\n2022年11月19日（土）・20日(日)\n11:00／13:00／15:00\n\n\n\n会場\n豊見城市字座安205番3（ココス豊見城店近く）\n\n\nイベントWEBサイト\n株式会社 大知建設 ホームページ　完成見学会のご案内\nhttps://daichi21.jp/syanetsu/\n\n\n備考\n※当日はマスクの着用をお願いします。発熱など体調に不安がある方のご来場はお控え下さい。\n\n\n\n詳しくはイベントWEBサイトをご覧ください。
URL:https://okinawanheroes.com/event/%e5%a4%a7%e7%9f%a5%e5%bb%ba%e8%a8%ad-%e5%ae%8c%e6%88%90%e8%a6%8b%e5%ad%a6%e4%bc%9a%ef%bc%8f%e5%a4%a7%e7%9f%a5%e3%83%9e%e3%83%b3%ef%bc%86%e3%82%b7%e3%83%a5%e3%82%bf%e3%83%bc%e3%83%ab%e7%99%bb-2/
LOCATION:【大知建設 完成見学会】
CATEGORIES:大知マン
ATTACH;FMTTYPE=image/jpeg:https://okinawanheroes.com/cms/wp-content/uploads/2022/11/sya_top_2022_11_14-scaled.jpg
END:VEVENT
BEGIN:VEVENT
DTSTART;VALUE=DATE:20221120
DTEND;VALUE=DATE:20221121
DTSTAMP:20260425T200522
CREATED:20221115T033002Z
LAST-MODIFIED:20221115T033128Z
UID:3669-1668902400-1668988799@okinawanheroes.com
SUMMARY:安慶名グスクらんたん祭り／ワイドー＆タッチュー登場！
DESCRIPTION:「安慶名グスクに光を！」をテーマに「安慶名グスクらんたん祭り」を開催！！ \nKids触れ合いTimeには\n闘牛戦士ワイドー＆タッチュータイフーンが登場♪ \n\n\n\n開催日時\n2022年11月20日（土）\n●闘牛戦士ワイドー／16:00～\n\n\n\n会場\n安慶名闘牛場\n(うるま市安慶名1076)\n\n\n\nイベントWEBサイト\n安慶名グスクらんたん祭りホームページ\nhttps://r.goope.jp/agenagusuku\n\n\n\n備考\n駐車場は、「具志川商業高等学校」または「うるま市役所市民駐車場」をご利用ください。\n祭り会場周辺への駐車はご遠慮ください。\n\n\n\n詳しくはイベントWEBサイトをご覧ください。
URL:https://okinawanheroes.com/event/%e5%ae%89%e6%85%b6%e5%90%8d%e3%82%b0%e3%82%b9%e3%82%af%e3%82%89%e3%82%93%e3%81%9f%e3%82%93%e7%a5%ad%e3%82%8a%ef%bc%8f%e9%97%98%e7%89%9b%e6%88%a6%e5%a3%ab%e3%83%af%e3%82%a4%e3%83%89%e3%83%bc%ef%bc%86/
LOCATION:【安慶名闘牛場】\, うるま市安慶名1076
CATEGORIES:闘牛戦士ワイドー
ATTACH;FMTTYPE=image/jpeg:https://okinawanheroes.com/cms/wp-content/uploads/2022/11/221015125413-634a2ee51a2f0.jpg
END:VEVENT
BEGIN:VEVENT
DTSTART;VALUE=DATE:20221126
DTEND;VALUE=DATE:20221127
DTSTAMP:20260425T200522
CREATED:20221122T101204Z
LAST-MODIFIED:20221122T102019Z
UID:3751-1669420800-1669507199@okinawanheroes.com
SUMMARY:イオンモール沖縄ライカム／闘牛戦士ワイドーショー
DESCRIPTION:闘牛戦士ワイドーがイオンモール沖縄ライカムに初登場！！！ \nハラハラドキドキなキャラクターショーをおたのしみください！ \n\n\n\n開催日時\n2022年11月26日（土）\n1回目 11:00〜／2回目14:00〜\n\n\n\n会場\nイオンモール沖縄ライカム　1F グランドスクエア\n(北中城村ライカム1番地)\n\n\n\nイベントWEBサイト\nhttps://okinawarycom-aeonmall.com/news/event/3781\n\n\n\n備考\n●ステージ前客席にご入場いただける整理券を10:00より、\nイオンモール沖縄ライカム正面入口外にて配布いたします。 \n●イオンモールアプリ会員1名さまにつき、お子さまお1人の参加が可能。\nさらに、ブラックフライデー期間中（11/18〜11/27）の専門店にて\nお買い物・お食事のレシート3\,000円（税込）毎に1名さま追加で参加可能となります。 \n※イオンスタイルのレシートは対象外。\n※レシートの合算可。\n※イオンモールアプリの「イオンモール沖縄ライカム」TOP画面と対象レシートを当日イベントスタッフまでご提示下さい。\n\n\n\n詳しくはイベントWEBサイトをご覧ください。
URL:https://okinawanheroes.com/event/20221126%e3%82%a4%e3%82%aa%e3%83%b3%e3%83%a2%e3%83%bc%e3%83%ab%e6%b2%96%e7%b8%84%e3%83%a9%e3%82%a4%e3%82%ab%e3%83%a0/
LOCATION:【イオンモール沖縄ライカム】\, 北中城村ライカム1番地
CATEGORIES:闘牛戦士ワイドー
ATTACH;FMTTYPE=image/jpeg:https://okinawanheroes.com/cms/wp-content/uploads/2022/02/ワイドー1.jpg
END:VEVENT
END:VCALENDAR