BEGIN:VCALENDAR
VERSION:2.0
PRODID:-//【公式】オキナワンヒーローズ - ECPv6.15.20//NONSGML v1.0//EN
CALSCALE:GREGORIAN
METHOD:PUBLISH
X-WR-CALNAME:【公式】オキナワンヒーローズ
X-ORIGINAL-URL:https://okinawanheroes.com
X-WR-CALDESC:【公式】オキナワンヒーローズ のイベント
REFRESH-INTERVAL;VALUE=DURATION:PT1H
X-Robots-Tag:noindex
X-PUBLISHED-TTL:PT1H
BEGIN:VTIMEZONE
TZID:Asia/Tokyo
BEGIN:STANDARD
TZOFFSETFROM:+0900
TZOFFSETTO:+0900
TZNAME:JST
DTSTART:20230101T000000
END:STANDARD
END:VTIMEZONE
BEGIN:VEVENT
DTSTART;VALUE=DATE:20240427
DTEND;VALUE=DATE:20240507
DTSTAMP:20260424T090351
CREATED:20240308T111532Z
LAST-MODIFIED:20240426T025051Z
UID:4780-1714176000-1715039999@okinawanheroes.com
SUMMARY:[東京] よみうりランド遊園地『沖縄＆九州WEEK!!2024』
DESCRIPTION:昨年も大好評だった、よみうりランド遊園地の沖縄WEEK!!に九州も加わって今年も開催！ \nよみうりランド遊園地『沖縄＆九州WEEK!!2024』 \n今年は、なんと！ヒーローショーが盛り沢山！！\n・琉神マブヤーショー\n・闘牛戦士ワイドーショー\n・大知マン＆キタキュウマンコラボショー \nさらに！\n・チョンダラーズ（県産パフォーマンス集団）\n・リミカン（おじさんアイドル）\nのステージパフォーマンスもあり！！\nヒーローの時とは違った彼らは必見です♪♪ \n今年は、太陽の広場ステージ、波のプール特設ステージ、流れるプール特設ステージ\nステージが3つに分かれてるから気を付けてね☆ \n \nヒーロー達のグッズ販売決定！\n✨先行販売グッズもあり✨ \nヒーローショー同様、販売場所が4月と5月で異なります！\n■4/27・28・29　太陽の広場ステージ側\n■5/3・4・5・6　波のプール特設ステージ側 \nお支払いは現金のみになります🙇 \n \n\n\n\n開催日時\n2024年4月27日(土) ～ 5月6日(月祝)\n※時間は上の画像をご参照ください。\n\n\n会場\nよみうりランド遊園地\n(東京都稲城市矢野口４０１５−１)\n\n\nイベントWEBサイト\nよみうりランド遊園地\nhttps://www.yomiuriland.com/sp/gw2024/\n\n\n備考\n観覧・参加無料(別途遊園地入園料)\n\n\n\n詳しくはイベントWEBサイトをご覧ください。
URL:https://okinawanheroes.com/event/20240427%e3%82%88%e3%81%bf%e3%81%86%e3%82%8a%e3%83%a9%e3%83%b3%e3%83%89/
LOCATION:【よみうりランド遊園地】\, 東京都稲城市矢野口４０１５−１
CATEGORIES:大知マン,琉神マブヤー,闘牛戦士ワイドー
ATTACH;FMTTYPE=image/jpeg:https://okinawanheroes.com/cms/wp-content/uploads/2024/03/bnr_w1024H768-1.jpg
END:VEVENT
BEGIN:VEVENT
DTSTART;VALUE=DATE:20240504
DTEND;VALUE=DATE:20240505
DTSTAMP:20260424T090351
CREATED:20240419T023546Z
LAST-MODIFIED:20240419T023546Z
UID:4816-1714780800-1714867199@okinawanheroes.com
SUMMARY:海洋博公園 GWスペシャル2024／琉神マブヤーショー
DESCRIPTION:海洋博公園GWスペシャル2024！！ \n5月4日は琉神マブヤーショー開催 \nみんなで、マブヤー・ガナシーを応援しよう！\n大迫力のステージショーをお楽しみに♪ \n\n\n\n開催日時\n2024年5月4日(土・祝)\n①11:00～　②14:00～\n\n\n会場\n海洋博公園　おきなわ郷土村 ゆくい処 舞台\n(本部町石川424番地)\n\n\nイベントWEBサイト\n海洋博公園　「海洋博公園GWスペシャル2024」\nhttps://oki-park.jp/kaiyohaku/newsrelease/detail/8779\n\n\n備考\n観覧無料\n※天候などにより内容や場所が変更になる場合がございます、ご了承ください。\n\n\n\n詳しくはイベントWEBサイトをご覧ください。
URL:https://okinawanheroes.com/event/20240504_mabuyer/
LOCATION:【海洋博公園】\, 沖縄県国頭郡本部町石川424番地
CATEGORIES:琉神マブヤー
ATTACH;FMTTYPE=image/jpeg:https://okinawanheroes.com/cms/wp-content/uploads/2024/04/海洋博2024GW_マブヤー.jpg
END:VEVENT
BEGIN:VEVENT
DTSTART;VALUE=DATE:20240504
DTEND;VALUE=DATE:20240505
DTSTAMP:20260424T090351
CREATED:20240419T024914Z
LAST-MODIFIED:20240422T110133Z
UID:4821-1714780800-1714867199@okinawanheroes.com
SUMMARY:第2回 石川みほそまつり／闘牛戦士ワイドー登場！
DESCRIPTION:第2回 石川みほそまつり \n地域のみんなで創る　笑顔あふれる石川のまつり \n5月4日(土・祝)は闘牛戦士ワイドーが登場！！\nワイドーと一緒にクイズ・ダンスで盛り上がろう☆ \n司会はワイドーの産みの親、伊波大志さんだよ！ \n\n\n\n開催日時\n2024年5月4日（土・祝）\n●クイズ＆ダンス／12:10～\n●ヤグイコンテスト／12:30～\n\n\n会場\n石川多目的広場　＜石川運動場＞\n(うるま市石川石崎１丁目)\n\n\n\nイベントWEBサイト\n公式サイト\nhttps://ishikawa-mihoso-matsuri-2023.jimdofree.com/\n\n\n備考\n入場無料\n\n\n\n詳しくはイベントWEBサイトをご覧ください。
URL:https://okinawanheroes.com/event/20240504_waido/
LOCATION:【石川多目的広場】\, 沖縄県うるま市石川石崎１丁目
CATEGORIES:闘牛戦士ワイドー
ATTACH;FMTTYPE=image/jpeg:https://okinawanheroes.com/cms/wp-content/uploads/2024/04/S__18980938.jpg
END:VEVENT
BEGIN:VEVENT
DTSTART;VALUE=DATE:20240505
DTEND;VALUE=DATE:20240506
DTSTAMP:20260424T090351
CREATED:20240419T022951Z
LAST-MODIFIED:20240419T022951Z
UID:4813-1714867200-1714953599@okinawanheroes.com
SUMMARY:海洋博公園 GWスペシャル2024／闘牛戦士ワイドーショー
DESCRIPTION:海洋博公園GWスペシャル2024！！ \n5月5日は闘牛戦士ワイドーショー開催 \n新作ショーを初披露♪ \nみんなで元気にヒーヤイ！ヒーヤイ！\nワイドー達を応援しよう☆ \n\n\n\n開催日時\n2024年5月5日(日・祝)\n①11:00～　②14:00～\n\n\n会場\n海洋博公園　おきなわ郷土村 ゆくい処 舞台\n(本部町石川424番地)\n\n\nイベントWEBサイト\n海洋博公園　「海洋博公園GWスペシャル2024」\nhttps://oki-park.jp/kaiyohaku/newsrelease/detail/8779\n\n\n備考\n観覧無料\n※天候などにより内容や場所が変更になる場合がございます、ご了承ください。\n\n\n\n詳しくはイベントWEBサイトをご覧ください。
URL:https://okinawanheroes.com/event/20240505_waido/
LOCATION:【海洋博公園】\, 沖縄県国頭郡本部町石川424番地
CATEGORIES:闘牛戦士ワイドー
ATTACH;FMTTYPE=image/jpeg:https://okinawanheroes.com/cms/wp-content/uploads/2024/04/海洋博2024GW_ワイドー.jpg
END:VEVENT
BEGIN:VEVENT
DTSTART;VALUE=DATE:20240505
DTEND;VALUE=DATE:20240506
DTSTAMP:20260424T090351
CREATED:20240426T021618Z
LAST-MODIFIED:20240426T022948Z
UID:4849-1714867200-1714953599@okinawanheroes.com
SUMMARY:サンエー3店舗／琉神マブヤーショー
DESCRIPTION:サンエー　ゴールデンウィークスペシャル！！ \n5月5日（日）は\n「経塚シティ」\n「宜野湾コンベンションシティ」\n「西原シティ」にて\n琉神マブヤーショー開催！！ \nみんなで、マブヤー・ガナシーを応援しよう！\n大迫力のステージショーをお楽しみに♪ \nGWの思い出にマブヤー達に会いに来てね！ \n\n\n\n開催日時\n2024年5月5日(日・祝)\n①経塚シティ／11:00～\n②宜野湾コンベンションシティ／14:00～\n③西原シティ／17:00～\n\n\n会場\n①サンエー経塚シティ　1F中央コート\n（浦添市経塚６５２−１） \n②サンエー宜野湾コンベンションシティ　2Fはごろもコート\n（宜野湾市宇地泊５５８−１０） \n③サンエー西原シティ　1Fエディオン側コート\n（西原町嘉手苅１３０）\n\n\nイベントWEBサイト\nhttps://www.san-a.co.jp/event/ryujinmabuyer-2505/\n\n\n備考\n観覧無料\n\n\n\n詳しくはイベントWEBサイトをご覧ください。
URL:https://okinawanheroes.com/event/20240505_mabuyer/
LOCATION:【サンエー 経塚シティ】\, 浦添市経塚６５２−１
CATEGORIES:琉神マブヤー
ATTACH;FMTTYPE=image/jpeg:https://okinawanheroes.com/cms/wp-content/uploads/2024/02/thumbW480_photo1.jpg
END:VEVENT
BEGIN:VEVENT
DTSTART;VALUE=DATE:20240506
DTEND;VALUE=DATE:20240507
DTSTAMP:20260424T090351
CREATED:20240426T020712Z
LAST-MODIFIED:20240426T023111Z
UID:4845-1714953600-1715039999@okinawanheroes.com
SUMMARY:サンエー２店舗／闘牛戦士ワイドーショー
DESCRIPTION:サンエー　ゴールデンウィークスペシャル！！ \n５月６日（月・祝）は\n「具志川メインシティ」と「石川シティ」にて\n闘牛戦士ワイドーショー開催！！ \nみんなで元気にヒーヤイ！ヒーヤイ！\nワイドー達を応援しよう☆ \n各会場ではワイドーグッズの販売も予定してます♪ \nGWの思い出にワイドー達に会いに来てね！ \n\n\n\n開催日時\n2024年5月6日(月・祝)\n①具志川メインシティ／13:30～\n②石川シティ／16:30～\n\n\n会場\n①サンエー 具志川メインシティ　1Fメインコート\n（うるま市江洲４５０−１） \n②サンエー 石川シティ　1F中央コート\n（うるま市石川２５２１−１）\n\n\nイベントWEBサイト\nhttps://www.san-a.co.jp/event/waidoshow506/\n\n\n備考\n観覧無料\n\n\n\n詳しくはイベントWEBサイトをご覧ください。
URL:https://okinawanheroes.com/event/20240506_waido/
LOCATION:【サンエー 具志川メインシティ】\, うるま市江洲450−1
CATEGORIES:闘牛戦士ワイドー
ATTACH;FMTTYPE=image/jpeg:https://okinawanheroes.com/cms/wp-content/uploads/2023/12/195.jpg
END:VEVENT
END:VCALENDAR