BEGIN:VCALENDAR
VERSION:2.0
PRODID:-//【公式】オキナワンヒーローズ - ECPv6.15.20//NONSGML v1.0//EN
CALSCALE:GREGORIAN
METHOD:PUBLISH
X-ORIGINAL-URL:https://okinawanheroes.com
X-WR-CALDESC:【公式】オキナワンヒーローズ のイベント
REFRESH-INTERVAL;VALUE=DURATION:PT1H
X-Robots-Tag:noindex
X-PUBLISHED-TTL:PT1H
BEGIN:VTIMEZONE
TZID:Asia/Tokyo
BEGIN:STANDARD
TZOFFSETFROM:+0900
TZOFFSETTO:+0900
TZNAME:JST
DTSTART:20210101T000000
END:STANDARD
END:VTIMEZONE
BEGIN:VEVENT
DTSTART;VALUE=DATE:20221008
DTEND;VALUE=DATE:20221010
DTSTAMP:20260426T000003
CREATED:20221003T024340Z
LAST-MODIFIED:20221003T025028Z
UID:3041-1665187200-1665359999@okinawanheroes.com
SUMMARY:富士葬祭『糸満西崎ホール』OPENイベント／オキナワンヒーローズが登場！
DESCRIPTION:富士葬祭の「糸満西崎ホール」がグランドオープン！！ ８日、９日の２日間はOPENイベント開催♪ \n8日(土)は、琉神マブヤー・龍神ガナシーが登場！\n9日(日)は、安全第一大知マン・闘牛戦士ワイドーが登場！ \n家族みんなで会いにきてね！ \n\n\n\n出演\n8日(土)：琉神マブヤー・龍神ガナシー\n9日(日)：安全第一大知マン・闘牛戦士ワイドー\n\n\n開催日時\n2022年10月8日(土)・９日(日)\n１回目／１１:００～\n２回目／１４:００～\n\n\n会場\n富士葬祭　メモリアルホール富士会館 糸満西崎ホール\n(糸満市西崎町5-12-8)\nWEBサイト：https://www.fuji-sosai.co.jp/\n\n\nイベントWEBサイト\n\n\n\n備考\n駐車場 12台\n\n\n\n詳しくはイベントWEBサイトをご覧ください。
URL:https://okinawanheroes.com/event/%e5%af%8c%e5%a3%ab%e8%91%ac%e7%a5%ad%e3%80%8e%e7%b3%b8%e6%ba%80%e8%a5%bf%e5%b4%8e%e3%83%9b%e3%83%bc%e3%83%ab%e3%80%8fopen%e3%82%a4%e3%83%99%e3%83%b3%e3%83%88/
LOCATION:【富士葬祭　メモリアルホール富士会館 糸満西崎ホール】\, 糸満市西崎町5-12-8
CATEGORIES:大知マン,琉神マブヤー,闘牛戦士ワイドー
ATTACH;FMTTYPE=image/jpeg:https://okinawanheroes.com/cms/wp-content/uploads/2022/10/富士葬祭10月8・9日-1.jpg
END:VEVENT
END:VCALENDAR