BEGIN:VCALENDAR
VERSION:2.0
PRODID:-//【公式】オキナワンヒーローズ - ECPv6.15.20//NONSGML v1.0//EN
CALSCALE:GREGORIAN
METHOD:PUBLISH
X-WR-CALNAME:【公式】オキナワンヒーローズ
X-ORIGINAL-URL:https://okinawanheroes.com
X-WR-CALDESC:【公式】オキナワンヒーローズ のイベント
REFRESH-INTERVAL;VALUE=DURATION:PT1H
X-Robots-Tag:noindex
X-PUBLISHED-TTL:PT1H
BEGIN:VTIMEZONE
TZID:Asia/Tokyo
BEGIN:STANDARD
TZOFFSETFROM:+0900
TZOFFSETTO:+0900
TZNAME:JST
DTSTART:20210101T000000
END:STANDARD
END:VTIMEZONE
BEGIN:VEVENT
DTSTART;VALUE=DATE:20221211
DTEND;VALUE=DATE:20221212
DTSTAMP:20260425T200526
CREATED:20221207T123508Z
LAST-MODIFIED:20221207T123717Z
UID:3784-1670716800-1670803199@okinawanheroes.com
SUMMARY:闘牛入門ワイドーフェスタ／闘牛戦士ワイドーショー
DESCRIPTION:家族・友達・カップル・観光客みんな集まれ！\n闘牛って興味あるけど見たこと無い、そんなアナタの為のイベント！ \n闘牛から生まれた「闘牛戦士ワイドー」のヒーローショーもあるよ！！\nワイドーダンスはみんなも一緒に踊ってね♪ \n\n\n\n開催日時\n2022年12月11日（日）\n・ワイドーショー／15：15～\n・ワイドーダンス／17：05～\n\n\n会場\nうるま市石川多目的ドーム\n(沖縄県うるま市石川２２９８−１)\n\n\n\nイベントWEBサイト\nPR動画／https://youtu.be/uydJ7MHwWeM\n\n\n備考\n入場無料\n※駐車場に限りがありますので、乗り合わせやタクシーなどの交通機関をご利用ください。\n※シャトルバスの運行はございません。\n\n\n\n\n詳しくはイベントWEBサイトをご覧ください。
URL:https://okinawanheroes.com/event/%e9%97%98%e7%89%9b%e5%85%a5%e9%96%80%e3%83%af%e3%82%a4%e3%83%89%e3%83%bc%e3%83%95%e3%82%a7%e3%82%b9%e3%82%bf/
LOCATION:【うるま市石川多目的ドーム】\, 沖縄県うるま市石川２２９８−１
CATEGORIES:闘牛戦士ワイドー
ATTACH;FMTTYPE=image/jpeg:https://okinawanheroes.com/cms/wp-content/uploads/2022/12/ワイドーフェスタ-scaled.jpg
END:VEVENT
END:VCALENDAR