BEGIN:VCALENDAR
VERSION:2.0
PRODID:-//【公式】オキナワンヒーローズ - ECPv6.15.20//NONSGML v1.0//EN
CALSCALE:GREGORIAN
METHOD:PUBLISH
X-ORIGINAL-URL:https://okinawanheroes.com
X-WR-CALDESC:【公式】オキナワンヒーローズ のイベント
REFRESH-INTERVAL;VALUE=DURATION:PT1H
X-Robots-Tag:noindex
X-PUBLISHED-TTL:PT1H
BEGIN:VTIMEZONE
TZID:Asia/Tokyo
BEGIN:STANDARD
TZOFFSETFROM:+0900
TZOFFSETTO:+0900
TZNAME:JST
DTSTART:20220101T000000
END:STANDARD
END:VTIMEZONE
BEGIN:VEVENT
DTSTART;VALUE=DATE:20230917
DTEND;VALUE=DATE:20230918
DTSTAMP:20260425T021440
CREATED:20230908T025944Z
LAST-MODIFIED:20230920T062854Z
UID:4249-1694908800-1694995199@okinawanheroes.com
SUMMARY:第10回 しまくとぅば県民大会 2023／闘牛戦士ワイドーがやってくる
DESCRIPTION:次世代に残そう・つなげよう！ちゅらくとぅば・しまくとぅば \n第10回 しまくとぅば県民大会「第1部」開催 \n子どもたちに人気の闘牛戦士ワイド―、サンシンレンジャーがやって来る！ \nワイドーとサンシンレンジャーと一緒にクイズやダンスで盛り上がろう♪ \nその他、U18島唄者コンテストや島唄ライブもあるよ\nご来場の方にはプレゼントもありますので、ぜひお越しください！ \n  \n\n\n\n開催日時\n2023年9月17日（日）13:00～16:00\n※闘牛戦士ワイドーの登場時間は確定次第お知らせします。\n\n\n会場\nかでな文化センター\n(嘉手納町嘉手納588)\n\n\nイベントWEBサイト\nhttps://shimakutuba2023.studio.site/\n\n\n備考\n入場無料\n\n\n\n詳しくはイベントWEBサイトをご覧ください。
URL:https://okinawanheroes.com/event/20230917%e9%97%98%e7%89%9b%e6%88%a6%e5%a3%ab%e3%83%af%e3%82%a4%e3%83%89%e3%83%bc/
LOCATION:【かでな文化センター】\, 嘉手納町嘉手納588
CATEGORIES:闘牛戦士ワイドー
ATTACH;FMTTYPE=image/png:https://okinawanheroes.com/cms/wp-content/uploads/2023/09/しまくとぅば県民大会.png
END:VEVENT
BEGIN:VEVENT
DTSTART;VALUE=DATE:20230917
DTEND;VALUE=DATE:20230918
DTSTAMP:20260425T021440
CREATED:20230908T031949Z
LAST-MODIFIED:20230920T062827Z
UID:4255-1694908800-1694995199@okinawanheroes.com
SUMMARY:FC琉球 vs 愛媛FC戦／大知マン＆ワイドー登場！
DESCRIPTION:9月17日（日）に開催される\n2023明治安田生命Ｊ３リーグ第27節 愛媛FC戦 \nFC琉球のホームゲームの場外ステージイベントに \n安全＋第一 大知マン＆闘牛戦士ワイドーの登場が決定！！ \n大知マントークショー＆握手会には\n大知マン／大知建広役の翁長大輔さんとシュタール／中割力也役の比嘉恭平さんが登場！！ \n闘牛戦士ワイドーショーは新作ショー初お披露目！！ \n久しぶりにTシャツやグッズの販売ブースもあるよ♪ \n\n\n\n開催日時\n2023年9月17日（日）18:30キックオフ\n●大知マントークショー＋握手会　16:40\n●闘牛戦士ワイドーショー　17:00\n\n\n\n会場\nタピック県総ひやごんスタジアム　野外ステージ\n(沖縄市比屋根5丁目3−1)\n\n\nイベントWEBサイト\nhttps://fcryukyu.com/news/42214/\n\n\n備考\n\n\n\n\n詳しくはイベントWEBサイトをご覧ください。
URL:https://okinawanheroes.com/event/20230917%e5%a4%a7%e7%9f%a5%e3%83%9e%e3%83%b3%ef%bc%86%e3%83%af%e3%82%a4%e3%83%89%e3%83%bc/
LOCATION:【タピック県総ひやごんスタジアム】\, 沖縄市比屋根5丁目3−1
CATEGORIES:大知マン,闘牛戦士ワイドー
ATTACH;FMTTYPE=image/jpeg:https://okinawanheroes.com/cms/wp-content/uploads/2023/09/20230917_FC琉球.jpg
END:VEVENT
END:VCALENDAR