BEGIN:VCALENDAR
VERSION:2.0
PRODID:-//【公式】オキナワンヒーローズ - ECPv6.15.20//NONSGML v1.0//EN
CALSCALE:GREGORIAN
METHOD:PUBLISH
X-WR-CALNAME:【公式】オキナワンヒーローズ
X-ORIGINAL-URL:https://okinawanheroes.com
X-WR-CALDESC:【公式】オキナワンヒーローズ のイベント
REFRESH-INTERVAL;VALUE=DURATION:PT1H
X-Robots-Tag:noindex
X-PUBLISHED-TTL:PT1H
BEGIN:VTIMEZONE
TZID:Asia/Tokyo
BEGIN:STANDARD
TZOFFSETFROM:+0900
TZOFFSETTO:+0900
TZNAME:JST
DTSTART:20220101T000000
END:STANDARD
END:VTIMEZONE
BEGIN:VEVENT
DTSTART;VALUE=DATE:20231015
DTEND;VALUE=DATE:20231016
DTSTAMP:20260425T001815
CREATED:20230929T035933Z
LAST-MODIFIED:20230929T040048Z
UID:4310-1697328000-1697414399@okinawanheroes.com
SUMMARY:第44回『金武町まつり』／闘牛戦士ワイドーショー
DESCRIPTION:金武町魂を我が心に 第44回「金武町まつり」！！ \n金武町まつり2日目に闘牛戦士ワイドーショー開催！ワイドーやウシナー達を応援しよう！！ \n販売ブースワイドーグッズの販売もあり♪ \n \n\n\n\n開催日時\n2023年10月15日（日）\n■闘牛戦士ワイドーショー／16:30～\n\n\n会場\n金武地区公園\n(金武町金武7758番地)\n\n\n\nイベントWEBサイト\n金武町ホームページ\n第44回金武町まつり プログラムについて\n\n\n備考\n臨時駐車場からの無料送迎バス運行！！\n駐車場は台数に限りがありますので公共交通機関をご利用ください。\n\n\n\n詳しくはイベントWEBサイトをご覧ください。
URL:https://okinawanheroes.com/event/20231015%e3%83%af%e3%82%a4%e3%83%89%e3%83%bc%e3%82%b7%e3%83%a7%e3%83%bc/
LOCATION:【金武地区公園(きんタームランド)】\, 金武町金武7758番地
CATEGORIES:闘牛戦士ワイドー
ATTACH;FMTTYPE=image/jpeg:https://okinawanheroes.com/cms/wp-content/uploads/2023/09/第44回金武町まつり-scaled.jpg
END:VEVENT
BEGIN:VEVENT
DTSTART;VALUE=DATE:20231015
DTEND;VALUE=DATE:20231016
DTSTAMP:20260425T001815
CREATED:20231011T051056Z
LAST-MODIFIED:20231011T051150Z
UID:4345-1697328000-1697414399@okinawanheroes.com
SUMMARY:ヤマダデンキ テックランド具志川店／ワイドー 握手＆撮影会
DESCRIPTION:毎週ヒーローに会える！？SPECIAL年間企画！！ \n10月15日(日曜日)は、\nヤマダデンキ テックランド具志川店に闘牛戦士ワイドーが登場！！ \nワイドーと握手をして、一緒に記念写真を撮ろう♪ \n\n\n\n開催日時\n2023年10月15日（日）\n①11：00～11：20\n②13：00～13：20\n③15：00～15：20\n④17：00～17：20\n\n\n\n会場\nヤマダデンキ テックランド具志川店\n(うるま市前原167-1-1)\n\n\nイベントWEBサイト\n\n\n\n備考\n※撮影はお客様のカメラ(スマホ等)にてお願い致します\n※整理券の配布はございません\n\n\n\n詳しくはイベントWEBサイトをご覧ください。
URL:https://okinawanheroes.com/event/20231015%e3%83%af%e3%82%a4%e3%83%89%e3%83%bc%e6%8f%a1%e6%89%8b%ef%bc%86%e6%92%ae%e5%bd%b1%e4%bc%9a/
LOCATION:【ヤマダデンキ　テックランド具志川店】\, うるま市前原１６７−１−１
CATEGORIES:闘牛戦士ワイドー
ATTACH;FMTTYPE=image/jpeg:https://okinawanheroes.com/cms/wp-content/uploads/2023/10/10月15日ワイドー.jpg
END:VEVENT
BEGIN:VEVENT
DTSTART;VALUE=DATE:20231015
DTEND;VALUE=DATE:20231017
DTSTAMP:20260425T001815
CREATED:20231013T014005Z
LAST-MODIFIED:20231013T014314Z
UID:4375-1697328000-1697500799@okinawanheroes.com
SUMMARY:粟国島「ア」の国まつり2023／琉神マブヤーショー
DESCRIPTION:粟国島「ア」の国まつり2023にて「琉神マブヤーショー」開催！ \n琉神マブヤー！龍神ガナシーも登場！\nもちろん！ハブクラ―ゲンやクーバー、オニヒトデービルも！ \nご家族みんなで遊びに来てね！ \n\n\n\n開催日時\n2023年10月15日（日）\n琉神マブヤーショー／16:00～\n\n\n会場\n粟国港 内 特設ステージ\n(沖縄県島尻郡 粟国村)\n\n\nイベントWEBサイト\n粟国村ホームページ\n粟国島「ア」の国まつり2023の開催について\n\n\n備考\n延期の場合は\n10月28日（土曜日）、29日（日曜日）となります。\n\n\n\n詳しくはイベントWEBサイトをご覧ください。
URL:https://okinawanheroes.com/event/20231015%e3%83%9e%e3%83%96%e3%83%a4%e3%83%bc%e3%82%b7%e3%83%a7%e3%83%bc/
LOCATION:【粟国港】\, 沖縄県島尻郡 粟国村
CATEGORIES:琉神マブヤー
ATTACH;FMTTYPE=image/jpeg:https://okinawanheroes.com/cms/wp-content/uploads/2023/10/粟国島アの国まつり.jpg
END:VEVENT
END:VCALENDAR