BEGIN:VCALENDAR
VERSION:2.0
PRODID:-//【公式】オキナワンヒーローズ - ECPv6.15.20//NONSGML v1.0//EN
CALSCALE:GREGORIAN
METHOD:PUBLISH
X-ORIGINAL-URL:https://okinawanheroes.com
X-WR-CALDESC:【公式】オキナワンヒーローズ のイベント
REFRESH-INTERVAL;VALUE=DURATION:PT1H
X-Robots-Tag:noindex
X-PUBLISHED-TTL:PT1H
BEGIN:VTIMEZONE
TZID:Asia/Tokyo
BEGIN:STANDARD
TZOFFSETFROM:+0900
TZOFFSETTO:+0900
TZNAME:JST
DTSTART:20220101T000000
END:STANDARD
END:VTIMEZONE
BEGIN:VEVENT
DTSTART;VALUE=DATE:20231022
DTEND;VALUE=DATE:20231023
DTSTAMP:20260425T001813
CREATED:20231020T025725Z
LAST-MODIFIED:20231020T030625Z
UID:4386-1697932800-1698019199@okinawanheroes.com
SUMMARY:ティガニーフェス2023／闘牛戦士ワイドーショー
DESCRIPTION:子ども達を全力で遊ばせるイベント！！ \n「来てくれた子どもたち全員を楽しませる」ことを目指し、\nこれまで以上の規模で、すべての子どもたちが思う存分楽しめる「ティガニーフェス2023」開催！！ \nティガニーフェスの司会は、なんと\n「琉神マブヤー」ではマヤ役の喜舎場泉さんと\n「安全＋第一 大知マン」では津波信一役の津波信一さん。 \n子供たちがワクワクするようなイベントラインナップには闘牛戦士ワイドーショーも♪\nみんなで、ワイドー達を元気に応援しよう！ \n他にも楽しさ盛り沢山！！遊びにきてね★ \n　 \n\n\n\n開催日時\n2023年10月22日（日）\n■闘牛戦士ワイドーショー／16:20頃～\n\n\n会場\n与那原MICE予定地\n(沖縄県与那原町東浜66番地)\n※与那原マリーナ向かい・東浜マリンタウンプラザかねひで東浜市場裏側\n\n\n\nイベントWEBサイト\nティガニーフェス2023\nhttps://tigany-festival.com/\n\n\n備考\n【入場料】\n中学生以下： 無料・チケットを1人1\,000円分配布します。\n高校生： 無料（チケット配布はなし）です。\n大人： 1\,000円　※大人の方の入場料は当日会場入り口にてお支払いください。\n\n\n\n詳しくはイベントWEBサイトをご覧ください。
URL:https://okinawanheroes.com/event/20231022%e3%83%af%e3%82%a4%e3%83%89%e3%83%bc%e3%82%b7%e3%83%a7%e3%83%bc/
LOCATION:【与那原MICE予定地】\, 与那原町東浜66番地
CATEGORIES:闘牛戦士ワイドー
ATTACH;FMTTYPE=image/jpeg:https://okinawanheroes.com/cms/wp-content/uploads/2023/10/IMG_8263.jpg
END:VEVENT
END:VCALENDAR