BEGIN:VCALENDAR
VERSION:2.0
PRODID:-//【公式】オキナワンヒーローズ - ECPv6.15.20//NONSGML v1.0//EN
CALSCALE:GREGORIAN
METHOD:PUBLISH
X-ORIGINAL-URL:https://okinawanheroes.com
X-WR-CALDESC:【公式】オキナワンヒーローズ のイベント
REFRESH-INTERVAL;VALUE=DURATION:PT1H
X-Robots-Tag:noindex
X-PUBLISHED-TTL:PT1H
BEGIN:VTIMEZONE
TZID:Asia/Tokyo
BEGIN:STANDARD
TZOFFSETFROM:+0900
TZOFFSETTO:+0900
TZNAME:JST
DTSTART:20220101T000000
END:STANDARD
END:VTIMEZONE
BEGIN:VEVENT
DTSTART;VALUE=DATE:20231104
DTEND;VALUE=DATE:20231106
DTSTAMP:20260424T221655
CREATED:20231031T060817Z
LAST-MODIFIED:20231031T062904Z
UID:4413-1699056000-1699228799@okinawanheroes.com
SUMMARY:大知建設 完成見学会／大知マン＆シュタール登場
DESCRIPTION:今週、土・日は見学くゎぃ！今週、土・日は見学くゎぃ！ \n大知マン・シュタールが登場\n \n一緒に記念写真も撮れるぞ！遊びにきてね～♪ \n\n\n\n出演\n安全第一 大知マン\n大知マンシュタール\n\n\n開催日時\n2023年11月4日（土）・5日(日)\n11:00／13:00／15:00\n\n\n\n会場\n北谷町字北前1-7-11\n（千代田ブライダルハウス北谷店・裏手）\n\n\nイベントWEBサイト\n株式会社 大知建設 ホームページ　完成見学会のご案内\nhttps://daichi21.jp/syanetsu/\n\n\n備考\n\n\n\n\n詳しくはイベントWEBサイトをご覧ください。
URL:https://okinawanheroes.com/event/%e5%a4%a7%e7%9f%a5%e5%bb%ba%e8%a8%ad-%e5%ae%8c%e6%88%90%e8%a6%8b%e5%ad%a6%e4%bc%9a%ef%bc%8f%e5%a4%a7%e7%9f%a5%e3%83%9e%e3%83%b3%ef%bc%86%e3%82%b7%e3%83%a5%e3%82%bf%e3%83%bc%e3%83%ab%e7%99%bb-3/
LOCATION:【大知建設 完成見学会】
CATEGORIES:大知マン
ATTACH;FMTTYPE=image/jpeg:https://okinawanheroes.com/cms/wp-content/uploads/2023/10/20231104_見学会.jpg
END:VEVENT
END:VCALENDAR