BEGIN:VCALENDAR
VERSION:2.0
PRODID:-//【公式】オキナワンヒーローズ - ECPv6.15.20//NONSGML v1.0//EN
CALSCALE:GREGORIAN
METHOD:PUBLISH
X-ORIGINAL-URL:https://okinawanheroes.com
X-WR-CALDESC:【公式】オキナワンヒーローズ のイベント
REFRESH-INTERVAL;VALUE=DURATION:PT1H
X-Robots-Tag:noindex
X-PUBLISHED-TTL:PT1H
BEGIN:VTIMEZONE
TZID:Asia/Tokyo
BEGIN:STANDARD
TZOFFSETFROM:+0900
TZOFFSETTO:+0900
TZNAME:JST
DTSTART:20220101T000000
END:STANDARD
END:VTIMEZONE
BEGIN:VEVENT
DTSTART;VALUE=DATE:20231111
DTEND;VALUE=DATE:20231112
DTSTAMP:20260424T221738
CREATED:20231107T015325Z
LAST-MODIFIED:20231107T015523Z
UID:4452-1699660800-1699747199@okinawanheroes.com
SUMMARY:第30回記念具商デパート／闘牛戦士ワイドー登場！
DESCRIPTION:地域に見守られてき具志川商業の具商デパートもついに30回を迎えました！ \n去年に引き続き、今年も闘牛戦士ワイドーが登場！！\nワイドーダンスやクイズで一緒に盛り上がってね♪ \n\n\n\n開催日時\n2023年11月11日（土）\n●闘牛戦士ワイドー／12:10～12:40\n\n\n\n会場\n沖縄県立具志川商業高等学校\n(うるま市字みどり町6丁目10-1)\n\n\n\nイベントWEBサイト\n沖縄県立具志川商業高等学校ホームページ\nhttp://www.gushikawa-ch.open.ed.jp/\n\n\n\n備考\n\n\n\n\n詳しくはイベントWEBサイトをご覧ください。
URL:https://okinawanheroes.com/event/20231111%e9%97%98%e7%89%9b%e6%88%a6%e5%a3%ab%e3%83%af%e3%82%a4%e3%83%89%e3%83%bc/
LOCATION:【沖縄県立具志川商業高等学校】\, うるま市字みどり町6丁目10-1
CATEGORIES:闘牛戦士ワイドー
ATTACH;FMTTYPE=image/jpeg:https://okinawanheroes.com/cms/wp-content/uploads/2023/11/r5_gudepa_poster-scaled.jpg
END:VEVENT
END:VCALENDAR