BEGIN:VCALENDAR
VERSION:2.0
PRODID:-//【公式】オキナワンヒーローズ - ECPv6.15.20//NONSGML v1.0//EN
CALSCALE:GREGORIAN
METHOD:PUBLISH
X-ORIGINAL-URL:https://okinawanheroes.com
X-WR-CALDESC:【公式】オキナワンヒーローズ のイベント
REFRESH-INTERVAL;VALUE=DURATION:PT1H
X-Robots-Tag:noindex
X-PUBLISHED-TTL:PT1H
BEGIN:VTIMEZONE
TZID:Asia/Tokyo
BEGIN:STANDARD
TZOFFSETFROM:+0900
TZOFFSETTO:+0900
TZNAME:JST
DTSTART:20220101T000000
END:STANDARD
END:VTIMEZONE
BEGIN:VEVENT
DTSTART;VALUE=DATE:20231116
DTEND;VALUE=DATE:20231117
DTSTAMP:20260424T221655
CREATED:20231114T075811Z
LAST-MODIFIED:20231114T081046Z
UID:4500-1700092800-1700179199@okinawanheroes.com
SUMMARY:イオンブラックフライデー／ハブクラーゲン・クーバー・ブラックガナシー・琉神マブヤーが登場！
DESCRIPTION:本当は11/17(金)からだけど、ちょっと先にやっちゃうンダ\nBLACK FRIDAY フライングセール！！ \nカウントダウンセレモニーイベントが那覇・石垣・宮古の3ヶ所で開催♪\n年に一度のスペシャルなセールの開幕を黒い彼らが盛り上げます！！ \n\n\n\n出演\n ＜那覇／イオン那覇店＞\nハブクラーゲン＆クーバー　　MC：じゅん選手 \n＜石垣／マックスバリュやいま店＞\n琉神マブヤー＆クーバー　　MC：真栄城美鈴 \n＜宮古／マックスバリュ宮古南店＞\nブラックガナシー＆クーバー　　MC：宝眞榮日也美\n\n\n開催日時\n2023年11月16日（木）\n●撮影会／18:00～（先着40名）\n●セレモニー／19:30～\n\n\n会場\n＜イオン那覇店＞\n那覇市金城５丁目１０−２ \n＜マックスバリュやいま店＞\n石垣市真栄里２９２−１ \n＜マックスバリュ宮古南店＞\n宮古島市平良松原６３１\n\n\nイベントWEBサイト\n特設ページ\nhttps://www.aeon-ryukyu.jp/shopping/2023_blackfriday_flyingsale/\n\n\n備考\n\n\n\n\n詳しくはイベントWEBサイトをご覧ください。
URL:https://okinawanheroes.com/event/%e3%82%a4%e3%82%aa%e3%83%b3%e3%83%96%e3%83%a9%e3%83%83%e3%82%af%e3%83%95%e3%83%a9%e3%82%a4%e3%83%87%e3%83%bc%ef%bc%8f%e3%83%8f%e3%83%96%e3%82%af%e3%83%a9%e3%83%bc%e3%82%b2%e3%83%b3%e3%83%bb%e3%82%af/
LOCATION:【イオン那覇店】\, 那覇市金城５丁目１０−２
CATEGORIES:琉神マブヤー
ATTACH;FMTTYPE=image/jpeg:https://okinawanheroes.com/cms/wp-content/uploads/2023/11/2023ブラックフライデー.jpg
END:VEVENT
END:VCALENDAR