BEGIN:VCALENDAR
VERSION:2.0
PRODID:-//【公式】オキナワンヒーローズ - ECPv6.15.20//NONSGML v1.0//EN
CALSCALE:GREGORIAN
METHOD:PUBLISH
X-WR-CALNAME:【公式】オキナワンヒーローズ
X-ORIGINAL-URL:https://okinawanheroes.com
X-WR-CALDESC:【公式】オキナワンヒーローズ のイベント
REFRESH-INTERVAL;VALUE=DURATION:PT1H
X-Robots-Tag:noindex
X-PUBLISHED-TTL:PT1H
BEGIN:VTIMEZONE
TZID:Asia/Tokyo
BEGIN:STANDARD
TZOFFSETFROM:+0900
TZOFFSETTO:+0900
TZNAME:JST
DTSTART:20220101T000000
END:STANDARD
END:VTIMEZONE
BEGIN:VEVENT
DTSTART;VALUE=DATE:20231123
DTEND;VALUE=DATE:20231125
DTSTAMP:20260424T221615
CREATED:20231121T054708Z
LAST-MODIFIED:20231121T055409Z
UID:4524-1700697600-1700870399@okinawanheroes.com
SUMMARY:快適生活 応援祭／大知マン握手会＆撮影会
DESCRIPTION:11月22日(水)・23日(木・祝)に\n「快適生活 応援祭　～知って得する２日間、ガスと一緒に快適な暮らしを～」開催 \n２日目の23日は安全＋第一 大知マンが登場！\n握手会＆撮影会をするよ♪ \n他にもキッチンカーやグリル実演、お菓子販売などのほか、来場記念品も貰えちゃう★ \n家族みんなで遊びに来てね！！ \n\n\n\n開催日時\n2023年11月23日（木・祝）\n１回目　11:00～ ／ ２回目　14:00～\n\n\n\n会場\n沖縄市産業交流センター\n(沖縄市泡瀬１丁目１１−２５)\n\n\nイベントWEBサイト\n\n\n\n備考\n※イベントは当日変更する場合があります。予めご了承ください。\n\n\n\n詳しくはイベントWEBサイトをご覧ください。
URL:https://okinawanheroes.com/event/20231123%e5%a4%a7%e7%9f%a5%e3%83%9e%e3%83%b3/
LOCATION:【沖縄市産業交流センター】\, 沖縄市泡瀬１丁目１１−２５
CATEGORIES:大知マン
ATTACH;FMTTYPE=image/jpeg:https://okinawanheroes.com/cms/wp-content/uploads/2023/11/エコア沖縄展示会チラシ-1-scaled.jpg
END:VEVENT
END:VCALENDAR