BEGIN:VCALENDAR
VERSION:2.0
PRODID:-//【公式】オキナワンヒーローズ - ECPv6.15.20//NONSGML v1.0//EN
CALSCALE:GREGORIAN
METHOD:PUBLISH
X-ORIGINAL-URL:https://okinawanheroes.com
X-WR-CALDESC:【公式】オキナワンヒーローズ のイベント
REFRESH-INTERVAL;VALUE=DURATION:PT1H
X-Robots-Tag:noindex
X-PUBLISHED-TTL:PT1H
BEGIN:VTIMEZONE
TZID:Asia/Tokyo
BEGIN:STANDARD
TZOFFSETFROM:+0900
TZOFFSETTO:+0900
TZNAME:JST
DTSTART:20220101T000000
END:STANDARD
END:VTIMEZONE
BEGIN:VEVENT
DTSTART;VALUE=DATE:20231217
DTEND;VALUE=DATE:20231218
DTSTAMP:20260424T202529
CREATED:20231207T061005Z
LAST-MODIFIED:20231207T061005Z
UID:4567-1702771200-1702857599@okinawanheroes.com
SUMMARY:サンタランドでのどじまん／闘牛戦士ワイドー登場
DESCRIPTION:みほそあきない組合主催のクリスマスイベントが今年も開催！！ \n闘牛戦士ワイドーもスペシャルゲストとして登場♪\nワイドーと一緒にワイドーダンスを踊ろう！！ \n他にも楽しい企画盛り沢山！\nみんなで遊びに来てねー☆ \n\n\n\n開催日時\n2023年12月17日(日)\nワイドーダンス／14:00～\n\n\n会場\n石川運動広場　※闘牛場となり\n(うるま市石川２３１６)\n\n\nイベントWEBサイト\n\n\n\n備考\n\n\n\n\n詳しくはイベントWEBサイトをご覧ください。
URL:https://okinawanheroes.com/event/20231217%e9%97%98%e7%89%9b%e6%88%a6%e5%a3%ab%e3%83%af%e3%82%a4%e3%83%89%e3%83%bc/
LOCATION:【石川運動広場】\, うるま市石川２３１６　※石川多目的ドームとなり
CATEGORIES:闘牛戦士ワイドー
ATTACH;FMTTYPE=image/jpeg:https://okinawanheroes.com/cms/wp-content/uploads/2023/12/S__2646036.jpg
END:VEVENT
END:VCALENDAR