BEGIN:VCALENDAR
VERSION:2.0
PRODID:-//【公式】オキナワンヒーローズ - ECPv6.15.20//NONSGML v1.0//EN
CALSCALE:GREGORIAN
METHOD:PUBLISH
X-ORIGINAL-URL:https://okinawanheroes.com
X-WR-CALDESC:【公式】オキナワンヒーローズ のイベント
REFRESH-INTERVAL;VALUE=DURATION:PT1H
X-Robots-Tag:noindex
X-PUBLISHED-TTL:PT1H
BEGIN:VTIMEZONE
TZID:Asia/Tokyo
BEGIN:STANDARD
TZOFFSETFROM:+0900
TZOFFSETTO:+0900
TZNAME:JST
DTSTART:20230101T000000
END:STANDARD
END:VTIMEZONE
BEGIN:VEVENT
DTSTART;VALUE=DATE:20240101
DTEND;VALUE=DATE:20240102
DTSTAMP:20260424T185335
CREATED:20231226T074912Z
LAST-MODIFIED:20231227T045001Z
UID:4609-1704067200-1704153599@okinawanheroes.com
SUMMARY:新春 餅つき撮影会／ワイドー＆タッチュー登場
DESCRIPTION:闘牛戦士ワイドーと餅つきに挑戦！！\nワイドー＆タッチューと写真も撮ろうね☆ \nなんと、獅子舞も登場♪ \n\n\n\n開催日時\n2024年1月1日(月)\n①11:30～　②15:00～\n※開始30分前に整理券を配布致します。\n\n\n会場\nイオン北谷ショッピングセンター　2Fイベント広場\n(北谷町美浜８−３)\n\n\nイベントWEBサイト\nイオン琉球HP\nhttps://www.aeon-ryukyu.jp/event/\n\n\n備考\n参加無料\n※撮影会参加は整理券が必要です。\n※カメラ・スマホ等機材は事前にご準備下さい。\n※諸般の事情によりイベントが中止・変更となる場合があります。\n\n\n\n詳しくはイベントWEBサイトをご覧ください。
URL:https://okinawanheroes.com/event/20240101%e3%83%af%e3%82%a4%e3%83%89%e3%83%bc%e9%a4%85%e3%81%a4%e3%81%8d/
LOCATION:【イオン北谷店】\, 北谷町美浜８−３
CATEGORIES:闘牛戦士ワイドー
ATTACH;FMTTYPE=image/jpeg:https://okinawanheroes.com/cms/wp-content/uploads/2023/12/chatan01-4.jpg
END:VEVENT
BEGIN:VEVENT
DTSTART;VALUE=DATE:20240101
DTEND;VALUE=DATE:20240102
DTSTAMP:20260424T185335
CREATED:20231226T075325Z
LAST-MODIFIED:20231227T045013Z
UID:4612-1704067200-1704153599@okinawanheroes.com
SUMMARY:新春 餅つき撮影会／マブヤー＆マヤ登場
DESCRIPTION:琉神マブヤーと餅つきに挑戦！！\nマブヤー＆マヤと写真も撮ろうね☆ \nなんと、獅子舞も登場♪ \n\n\n\n開催日時\n2024年1月1日(月)\n①11:00～　②15:00～\n※開始30分前に整理券を配布致します。\n\n\n会場\nイオン南風原ショッピングセンター　1Fイベント広場\n(南風原町宮平２６４)\n\n\nイベントWEBサイト\nイオン琉球HP\nhttps://www.aeon-ryukyu.jp/event/\n\n\n備考\n参加無料\n※撮影会参加は整理券が必要です。\n※カメラ・スマホ等機材は事前にご準備下さい。\n※諸般の事情によりイベントが中止・変更となる場合があります。\n\n\n\n詳しくはイベントWEBサイトをご覧ください。
URL:https://okinawanheroes.com/event/20240101%e3%83%9e%e3%83%96%e3%83%a4%e3%83%bc%e9%a4%85%e3%81%a4%e3%81%8d/
LOCATION:【イオン南風原店】\, 南風原町宮平２６４
CATEGORIES:琉神マブヤー
ATTACH;FMTTYPE=image/jpeg:https://okinawanheroes.com/cms/wp-content/uploads/2023/12/haebaru02-3.jpg
END:VEVENT
END:VCALENDAR