BEGIN:VCALENDAR
VERSION:2.0
PRODID:-//【公式】オキナワンヒーローズ - ECPv6.15.20//NONSGML v1.0//EN
CALSCALE:GREGORIAN
METHOD:PUBLISH
X-ORIGINAL-URL:https://okinawanheroes.com
X-WR-CALDESC:【公式】オキナワンヒーローズ のイベント
REFRESH-INTERVAL;VALUE=DURATION:PT1H
X-Robots-Tag:noindex
X-PUBLISHED-TTL:PT1H
BEGIN:VTIMEZONE
TZID:Asia/Tokyo
BEGIN:STANDARD
TZOFFSETFROM:+0900
TZOFFSETTO:+0900
TZNAME:JST
DTSTART:20230101T000000
END:STANDARD
END:VTIMEZONE
BEGIN:VEVENT
DTSTART;VALUE=DATE:20240803
DTEND;VALUE=DATE:20240805
DTSTAMP:20260424T052222
CREATED:20240724T105036Z
LAST-MODIFIED:20240802T064452Z
UID:5065-1722643200-1722815999@okinawanheroes.com
SUMMARY:イオンモール沖縄ライカムにヒーローがやってくる！／闘牛戦士ワイドー
DESCRIPTION:イオンモール沖縄ライカムにヒーローがやってくる！スペシャルな2日間！！ \n夏休みの8月3日(土)・4日(日)はイオンモール沖縄ライカムに闘牛戦士ワイドーが登場！\nヒーローショーとキャラクター撮影会を開催♪\nなんと！ウシナー達も撮影会に参加しちゃうよ！！ \nさらに、来場者はイベント限定シールをプレゼント！\n（簡単なアンケートにご協力ください） \nワイドー達を元気に応援して、一緒に記念写真を撮ろう♪\n楽しい2日間を過ごしてね★ \n\n\n\n日時\n◆2024年8月3日（土）\n11:00～ ／撮影会：ワイドー＆シンカー＆グマー\n13:30～ ／ヒーローショー\n15:30～ ／撮影会：ワイドー＆タッチュー＆ドクドク \n◆2024年8月4日（日）\n11:00～ ／撮影会：ワイドー＆シンカー＆グマー\n13:30～ ／ヒーローショー\n15:30～ ／撮影会：ワイドー＆カブラー＆カミヤー\n\n\n会場\nイオンモール沖縄ライカム　１Fグランドスクエア\n(北中城村ライカム1番地)\n\n\n\nイベントWEBサイト\nイオンモール沖縄ライカム\nhttps://okinawarycom-aeonmall.com/news/event/4671\n\n\n備考\n観覧無料 \n※整理券の配布などは特にございませんので、直接会場においで下さい。\n※各回1時間前より、先着順に客席にお入りいただけます。\n\n\n\n詳しくはイベントWEBサイトをご覧ください。
URL:https://okinawanheroes.com/event/20240803_waido/
LOCATION:【イオンモール沖縄ライカム】\, 北中城村ライカム1番地
CATEGORIES:闘牛戦士ワイドー
ATTACH;FMTTYPE=image/jpeg:https://okinawanheroes.com/cms/wp-content/uploads/2024/07/20240803_ワイドー.jpg
END:VEVENT
END:VCALENDAR