BEGIN:VCALENDAR
VERSION:2.0
PRODID:-//【公式】オキナワンヒーローズ - ECPv6.15.20//NONSGML v1.0//EN
CALSCALE:GREGORIAN
METHOD:PUBLISH
X-WR-CALNAME:【公式】オキナワンヒーローズ
X-ORIGINAL-URL:https://okinawanheroes.com
X-WR-CALDESC:【公式】オキナワンヒーローズ のイベント
REFRESH-INTERVAL;VALUE=DURATION:PT1H
X-Robots-Tag:noindex
X-PUBLISHED-TTL:PT1H
BEGIN:VTIMEZONE
TZID:Asia/Tokyo
BEGIN:STANDARD
TZOFFSETFROM:+0900
TZOFFSETTO:+0900
TZNAME:JST
DTSTART:20230101T000000
END:STANDARD
END:VTIMEZONE
BEGIN:VEVENT
DTSTART;VALUE=DATE:20241026
DTEND;VALUE=DATE:20241028
DTSTAMP:20260423T235757
CREATED:20241015T073229Z
LAST-MODIFIED:20241028T022606Z
UID:5183-1729900800-1730073599@okinawanheroes.com
SUMMARY:ソフトバンクPresents 琉神マブヤー握手＆撮影会
DESCRIPTION:＼ソフトバンク Presents／\n君の街でヒーローと握手＆撮影！！ \n10月26日(土)・27日(日)は「琉神マブヤー」が\nイオン名護店に登場！！ \nヒーローと握手をして、一緒に写真を撮ろう☆ \n会場に遊びに来てくれたお友達は、\nヒーローグッズの当たる抽選会にも参加できるよ♪ \n\n\n\n日時\n◆2024年10月26日（土）・27日（日）\n①11:00～　②13:30～　③14:30～　④15:30～　⑤16:30～\n\n\n\n会場\nイオン名護店　1F ベスト電器前\n(名護市名護 見取川原4472)\n\n\n\nイベントWEBサイト\n\n\n\n備考\n参加無料\n※お客様のカメラによる写真撮影になります。\n※各回15分程度、または定員に達し次第終了となります。\n※カンタンなアンケートにご協力ください。\n\n\n\n 
URL:https://okinawanheroes.com/event/20241026_mabuyer/
LOCATION:【イオン名護店】\, 名護市名護見取川原4472
CATEGORIES:琉神マブヤー
ATTACH;FMTTYPE=image/jpeg:https://okinawanheroes.com/cms/wp-content/uploads/2024/10/ソフトバンク握手撮影会_10月2627-のコピー.jpg
END:VEVENT
BEGIN:VEVENT
DTSTART;VALUE=DATE:20241026
DTEND;VALUE=DATE:20241027
DTSTAMP:20260423T235757
CREATED:20241017T100839Z
LAST-MODIFIED:20241023T015637Z
UID:5192-1729900800-1729987199@okinawanheroes.com
SUMMARY:【延期】よかちゃーフェス／闘牛戦士ワイドーがやって来る
DESCRIPTION:【イベント延期のお知らせ】 \n10月26日(土)に\n闘牛戦士ワイドーが出演を予定しておりました\n「よかちゃーフェス」は延期となりました。 \n　 \n※追記（10/22） \n  \n  \nよかちゃーフェスに闘牛戦士ワイドー登場！！ \nワイドーと一緒にクイズ＆ダンスで楽しもう♪\n司会はワイドーの産みの親、伊波大志さん！\n会場はドラマ「闘牛戦士ワイドー」にも出てくる海中道路です！ \n他にも、よかちゃーフェスでは様々なステージショーの他、\nマリン体験、抽選会、ワークショップなどを開催。\n家族みんなで遊びに来てね \n　 \n\n\n\n日時\n◆2024年10月26日（土）\nワイドー登場／14:30～\n\n\n会場\n海中道路　海の駅周辺広場\n(うるま市与那城屋平4)\n\n\n\nイベントWEBサイト\n\n\n\n備考\n観覧無料\n\n\n\n 
URL:https://okinawanheroes.com/event/20241026_waido/
LOCATION:【海中道路 海の駅周辺広場】\, うるま市与那城屋平4
CATEGORIES:闘牛戦士ワイドー
ATTACH;FMTTYPE=image/jpeg:https://okinawanheroes.com/cms/wp-content/uploads/2024/10/S__46465126.jpg
END:VEVENT
END:VCALENDAR