BEGIN:VCALENDAR
VERSION:2.0
PRODID:-//【公式】オキナワンヒーローズ - ECPv6.15.20//NONSGML v1.0//EN
CALSCALE:GREGORIAN
METHOD:PUBLISH
X-WR-CALNAME:【公式】オキナワンヒーローズ
X-ORIGINAL-URL:https://okinawanheroes.com
X-WR-CALDESC:【公式】オキナワンヒーローズ のイベント
REFRESH-INTERVAL;VALUE=DURATION:PT1H
X-Robots-Tag:noindex
X-PUBLISHED-TTL:PT1H
BEGIN:VTIMEZONE
TZID:Asia/Tokyo
BEGIN:STANDARD
TZOFFSETFROM:+0900
TZOFFSETTO:+0900
TZNAME:JST
DTSTART:20230101T000000
END:STANDARD
END:VTIMEZONE
BEGIN:VEVENT
DTSTART;VALUE=DATE:20241207
DTEND;VALUE=DATE:20241209
DTSTAMP:20260423T201847
CREATED:20241128T090247Z
LAST-MODIFIED:20241128T090247Z
UID:5300-1733529600-1733702399@okinawanheroes.com
SUMMARY:ソフトバンクPresents 琉神マブヤー握手＆撮影会
DESCRIPTION:＼ソフトバンク Presents／\n君の街でヒーローと握手＆撮影！！ \n12月7日(土)・8日(日)は\n「琉神マブヤー」がイオン具志川店に登場！！ \nヒーローと握手をして、一緒に写真を撮ろう☆ \n会場に遊びに来てくれたお友達は、\nヒーローグッズの当たる抽選会にも参加できるよ♪ \n\n\n\n日時\n◆2024年12月7日（土）・8日（日）\n①11:00～　②13:30～　③14:30～　④15:30～　⑤16:30～\n\n\n\n会場\nイオン具志川店　2F　イベント広場\n(うるま市前原 幸崎原303番地)\n\n\nイベントWEBサイト\n\n\n\n備考\n参加無料\n※お客様のカメラによる写真撮影になります。\n※各回15分程度、または定員に達し次第終了となります。\n※カンタンなアンケートにご協力ください。\n\n\n\n 
URL:https://okinawanheroes.com/event/20241207_mabuyer/
LOCATION:【イオン具志川店】\, うるま市字前原幸崎原303番地
CATEGORIES:琉神マブヤー
ATTACH;FMTTYPE=image/jpeg:https://okinawanheroes.com/cms/wp-content/uploads/2024/11/ソフトバンク握手撮影会_11月78.jpg
END:VEVENT
END:VCALENDAR