BEGIN:VCALENDAR
VERSION:2.0
PRODID:-//【公式】オキナワンヒーローズ - ECPv6.15.20//NONSGML v1.0//EN
CALSCALE:GREGORIAN
METHOD:PUBLISH
X-WR-CALNAME:【公式】オキナワンヒーローズ
X-ORIGINAL-URL:https://okinawanheroes.com
X-WR-CALDESC:【公式】オキナワンヒーローズ のイベント
REFRESH-INTERVAL;VALUE=DURATION:PT1H
X-Robots-Tag:noindex
X-PUBLISHED-TTL:PT1H
BEGIN:VTIMEZONE
TZID:Asia/Tokyo
BEGIN:STANDARD
TZOFFSETFROM:+0900
TZOFFSETTO:+0900
TZNAME:JST
DTSTART:20240101T000000
END:STANDARD
END:VTIMEZONE
BEGIN:VEVENT
DTSTART;VALUE=DATE:20250101
DTEND;VALUE=DATE:20250102
DTSTAMP:20260423T181257
CREATED:20241224T125505Z
LAST-MODIFIED:20241224T130256Z
UID:5315-1735689600-1735775999@okinawanheroes.com
SUMMARY:イオン南風原店　新春 餅つき撮影会／マブヤー＆ハブクラーゲン登場
DESCRIPTION:琉神マブヤーと餅つきに挑戦！！\nマブヤー＆ハブクラーゲンと一緒に写真も撮ろう☆ \nなんと、獅子舞も登場♪ \n\n\n\n開催日時\n2025年1月1日(月)\n①11:00～　②15:00～\n※開始30分前に整理券を配布致します。\n\n\n会場\nイオン南風原ショッピングセンター　1Fイベント広場\n(南風原町宮平２６４)\n\n\nイベントWEBサイト\n\n\n\n備考\n参加無料\n※撮影会参加は整理券が必要です。\n※カメラ・スマホ等機材は事前にご準備下さい。\n※諸般の事情によりイベントが中止・変更となる場合があります。\n\n\n\n詳しくはイベントWEBサイトをご覧ください。
URL:https://okinawanheroes.com/event/20250101_mabuyer/
LOCATION:【イオン南風原店】\, 南風原町宮平２６４
CATEGORIES:琉神マブヤー
ATTACH;FMTTYPE=image/jpeg:https://okinawanheroes.com/cms/wp-content/uploads/2024/12/0101A南_新春マブヤー餅つき_半尺300_450.jpg
END:VEVENT
BEGIN:VEVENT
DTSTART;VALUE=DATE:20250101
DTEND;VALUE=DATE:20250102
DTSTAMP:20260423T181257
CREATED:20241226T063335Z
LAST-MODIFIED:20241226T070919Z
UID:5336-1735689600-1735775999@okinawanheroes.com
SUMMARY:アイダ設計「ワクワクフェスティバル 」／琉神マブヤーショー&撮影会
DESCRIPTION:アイダ設計「ワクワクフェスティバル 」を開催！\n琉神マブヤーショーにガラポン抽選会やスタンプラリー、住宅相談会も！\nまた、食べ物や飲み物が全て無料！ \n元旦1日は『名護市（宇茂佐の森３丁目）』にて！\n翌日2日は『豊見城市（渡橋名浜原）』にて！ \n2025年もマブヤーとガナシーを応援しよう♪ \n\n\n\n開催日時\n2025年1月1日(水)・2日(木)\n①11:00～\n②14:00～\n\n\n会場\n●1月1日(水)\n名護市 宇茂佐の森３丁目\n(駐車場は宇茂佐公民館になります) \n●1月2日(木)\n豊見城市渡橋名浜原\n(那覇看護専門学校道向かい裏)\n\n\nイベントWEBサイト\n\n「ワクワクフェスティバル」についてはコチラ▼\nhttps://bukken.aidagroup.co.jp/okinawa/detail/4869\n\n\n備考\n観覧無料\n\n\n\n詳しくはイベントWEBサイトをご覧ください。
URL:https://okinawanheroes.com/event/20250101_mabuyer-2/
LOCATION:【アイダ設計　イベント会場】
CATEGORIES:琉神マブヤー
ATTACH;FMTTYPE=image/jpeg:https://okinawanheroes.com/cms/wp-content/uploads/2024/12/アイダ設計_マブヤーショー.jpg
END:VEVENT
END:VCALENDAR