BEGIN:VCALENDAR
VERSION:2.0
PRODID:-//【公式】オキナワンヒーローズ - ECPv6.15.20//NONSGML v1.0//EN
CALSCALE:GREGORIAN
METHOD:PUBLISH
X-WR-CALNAME:【公式】オキナワンヒーローズ
X-ORIGINAL-URL:https://okinawanheroes.com
X-WR-CALDESC:【公式】オキナワンヒーローズ のイベント
REFRESH-INTERVAL;VALUE=DURATION:PT1H
X-Robots-Tag:noindex
X-PUBLISHED-TTL:PT1H
BEGIN:VTIMEZONE
TZID:Asia/Tokyo
BEGIN:STANDARD
TZOFFSETFROM:+0900
TZOFFSETTO:+0900
TZNAME:JST
DTSTART:20240101T000000
END:STANDARD
END:VTIMEZONE
BEGIN:VEVENT
DTSTART;VALUE=DATE:20250102
DTEND;VALUE=DATE:20250103
DTSTAMP:20260423T181257
CREATED:20241224T130220Z
LAST-MODIFIED:20241224T130220Z
UID:5320-1735776000-1735862399@okinawanheroes.com
SUMMARY:イオン那覇店　新春 餅つき撮影会／マブヤー＆ハブクラーゲン登場
DESCRIPTION:琉神マブヤーと餅つきに挑戦！！\nマブヤー＆ハブクラーゲンと一緒に写真も撮ろう☆ \nなんと、獅子舞も登場♪ \n\n\n\n開催日時\n2025年1月2日(月)\n①11:00～　②15:00～\n※開始30分前に整理券を配布致します。\n\n\n会場\nイオン那覇ショッピングセンター　1Fうるくスクエア\n(那覇市金城５丁目１０−２)\n\n\nイベントWEBサイト\n\n\n\n備考\n参加無料\n※撮影会参加は整理券が必要です。\n※カメラ・スマホ等機材は事前にご準備下さい。\n※諸般の事情によりイベントが中止・変更となる場合があります。\n\n\n\n詳しくはイベントWEBサイトをご覧ください。
URL:https://okinawanheroes.com/event/20250102_mabuyer/
LOCATION:【イオン那覇店】\, 那覇市金城５丁目１０−２
CATEGORIES:琉神マブヤー
ATTACH;FMTTYPE=image/jpeg:https://okinawanheroes.com/cms/wp-content/uploads/2024/12/0102A那_新春マブヤー餅つき_半尺300_450.jpg
END:VEVENT
BEGIN:VEVENT
DTSTART;VALUE=DATE:20250102
DTEND;VALUE=DATE:20250103
DTSTAMP:20260423T181257
CREATED:20241225T102616Z
LAST-MODIFIED:20241225T120546Z
UID:5324-1735776000-1735862399@okinawanheroes.com
SUMMARY:海洋博公園 新春キャラクターショー／闘牛戦士ワイドーショー
DESCRIPTION:海洋博公園「新春果報でーびる」」開催！！ \n1月2日は闘牛戦士ワイドーショー \nみんなで元気にヒーヤイ！ヒーヤイ！\nワイドー達を応援しよう☆ \n野外ステージなので、暖かいお洋服で会いに来てね♪ \n\n\n\n開催日時\n2025年1月2日(木)\n①11:00～　②14:00～\n\n\n会場\n海洋博公園　おきなわ郷土村 ゆくい処 舞台\n(本部町石川424番地)\n\n\nイベントWEBサイト\n海洋博公園\nhttps://oki-park.jp/kaiyohaku/events/detail/9719\n\n\n備考\n観覧無料\n※天候などにより内容や場所が変更になる場合がございます、ご了承ください。\n\n\n\n詳しくはイベントWEBサイトをご覧ください。
URL:https://okinawanheroes.com/event/20240102_waido/
LOCATION:【海洋博公園】\, 沖縄県国頭郡本部町石川424番地
CATEGORIES:闘牛戦士ワイドー
ATTACH;FMTTYPE=image/jpeg:https://okinawanheroes.com/cms/wp-content/uploads/2024/12/20250102_海洋博公園ワイドーショー.jpg
END:VEVENT
END:VCALENDAR