BEGIN:VCALENDAR
VERSION:2.0
PRODID:-//【公式】オキナワンヒーローズ - ECPv6.15.20//NONSGML v1.0//EN
CALSCALE:GREGORIAN
METHOD:PUBLISH
X-ORIGINAL-URL:https://okinawanheroes.com
X-WR-CALDESC:【公式】オキナワンヒーローズ のイベント
REFRESH-INTERVAL;VALUE=DURATION:PT1H
X-Robots-Tag:noindex
X-PUBLISHED-TTL:PT1H
BEGIN:VTIMEZONE
TZID:Asia/Tokyo
BEGIN:STANDARD
TZOFFSETFROM:+0900
TZOFFSETTO:+0900
TZNAME:JST
DTSTART:20240101T000000
END:STANDARD
END:VTIMEZONE
BEGIN:VEVENT
DTSTART;VALUE=DATE:20250111
DTEND;VALUE=DATE:20250112
DTSTAMP:20260423T181340
CREATED:20250108T035428Z
LAST-MODIFIED:20250108T035428Z
UID:5364-1736553600-1736639999@okinawanheroes.com
SUMMARY:第2回 うるま市農林水産まつり／闘牛戦士ワイドーショー
DESCRIPTION:第2回「うるま市農林水産まつり」開催！\n野菜・花の苗の無料配布、ミニヤギ・ミニホースのふれあい広場、県産木を使用したキーホルダー作り、マグロの解体ショー等、農林水産に関するイベントが盛りだくさん \n屋内ステージでは闘牛戦士ワイドーショーもあるよ♪ \nワイドーやウシナー達にみんなでヒーヤイ！ヒーヤイ！元気なヤグイを送ろう！！ \nショーの前後にはワイドーグッズの販売もあり♪\nワイドーグッズをGETしてね☆ \n\n\n\n開催日時\n2025年1月11日(土)\nワイドーショー／13:50～\n\n\n\n会場\nうるま市具志川総合運動公園　具志川ドーム\n(うるま市具志川２３３６)\n\n\nイベントWEBサイト\nうるま市 HP\nhttps://www.city.uruma.lg.jp/1008001000/event/p000001.html\n\n\n備考\n入場無料\n\n\n\n詳しくはイベントWEBサイトをご覧ください。
URL:https://okinawanheroes.com/event/20250111_waido/
LOCATION:【具志川ドーム】\, うるま市具志川２３３６
CATEGORIES:闘牛戦士ワイドー
ATTACH;FMTTYPE=image/jpeg:https://okinawanheroes.com/cms/wp-content/uploads/2025/01/うるま市農林水産まつり.jpg
END:VEVENT
END:VCALENDAR