BEGIN:VCALENDAR
VERSION:2.0
PRODID:-//【公式】オキナワンヒーローズ - ECPv6.15.20//NONSGML v1.0//EN
CALSCALE:GREGORIAN
METHOD:PUBLISH
X-ORIGINAL-URL:https://okinawanheroes.com
X-WR-CALDESC:【公式】オキナワンヒーローズ のイベント
REFRESH-INTERVAL;VALUE=DURATION:PT1H
X-Robots-Tag:noindex
X-PUBLISHED-TTL:PT1H
BEGIN:VTIMEZONE
TZID:Asia/Tokyo
BEGIN:STANDARD
TZOFFSETFROM:+0900
TZOFFSETTO:+0900
TZNAME:JST
DTSTART:20240101T000000
END:STANDARD
END:VTIMEZONE
BEGIN:VEVENT
DTSTART;VALUE=DATE:20250112
DTEND;VALUE=DATE:20250113
DTSTAMP:20260423T181340
CREATED:20250108T041747Z
LAST-MODIFIED:20250108T041747Z
UID:5370-1736640000-1736726399@okinawanheroes.com
SUMMARY:兼城自動車 大感謝祭 2025／闘牛戦士ワイドー登場
DESCRIPTION:兼城自動車整備工場「HEART STATION KANESHIRO 大感謝祭 2025」開催♪♪ \n闘牛戦士ワイドーが登場！！\n伝統神ウルマー & XICOさんと一緒に会場を盛り上げるよ♪ \nワイドー達と一緒にクイズ＆ダンスで楽しもう！ \n他にも、伝統芸能やライブに加え大型プレイグラウンドやフェイスペイント・バルーンなど楽しいことが盛り沢山！\n家族みんなで遊びに来てね☆ \n\n\n\n開催日時\n2025年1月12日（日）\n闘牛戦士ワイドー登場／13:00～\n\n\n会場\n栄野比公園\n(沖縄県うるま市栄野比１００６)\n\n\n\nイベントWEBサイト\n兼城自動車整備工場HP\nhttps://kaneshirojidousha.com/information/event/2025-happy-new-year-sale/\n\n\n備考\n\n\n\n\n詳しくはイベントWEBサイトをご覧ください。
URL:https://okinawanheroes.com/event/%e5%85%bc%e5%9f%8e%e8%87%aa%e5%8b%95%e8%bb%8a-%e5%a4%a7%e6%84%9f%e8%ac%9d%e7%a5%ad-2025%ef%bc%8f%e9%97%98%e7%89%9b%e6%88%a6%e5%a3%ab%e3%83%af%e3%82%a4%e3%83%89%e3%83%bc%e7%99%bb%e5%a0%b4/
LOCATION:【栄野比公園】\, うるま市栄野比１００６
CATEGORIES:闘牛戦士ワイドー
ATTACH;FMTTYPE=image/jpeg:https://okinawanheroes.com/cms/wp-content/uploads/2025/01/KCR-lease_2025-vol1_1.jpg
END:VEVENT
BEGIN:VEVENT
DTSTART;VALUE=DATE:20250112
DTEND;VALUE=DATE:20250113
DTSTAMP:20260423T181340
CREATED:20250108T044400Z
LAST-MODIFIED:20250108T044809Z
UID:5378-1736640000-1736726399@okinawanheroes.com
SUMMARY:あげなFES／闘牛戦士ワイドー登場
DESCRIPTION:うるまの学生が企画運営する子どものためのまちづくりイベント「あげなFES」開催！！ \n闘牛戦士ワイドーが登場！！\n伝統神ウルマーと一緒にクイズ＆ダンスで会場を盛り上げるよ♪ \n遊びに来てね☆ \n\n\n\n開催日時\n2025年1月12日（日）\n闘牛戦士ワイドー登場／15:38～\n\n\n会場\nうるま市地域交流センター\n(うるま市安慶名２−２１１)\n\n\nイベントWEBサイト\nあげなFES公式HP\nhttps://lit.link/ouk3\n\n\n備考\n入場無料\n\n\n\n詳しくはイベントWEBサイトをご覧ください。
URL:https://okinawanheroes.com/event/%e3%81%82%e3%81%92%e3%81%aafes%ef%bc%8f%e9%97%98%e7%89%9b%e6%88%a6%e5%a3%ab%e3%83%af%e3%82%a4%e3%83%89%e3%83%bc%e7%99%bb%e5%a0%b4/
LOCATION:【うるま市地域交流センター】\, うるま市安慶名２−２１１
CATEGORIES:闘牛戦士ワイドー
ATTACH;FMTTYPE=image/jpeg:https://okinawanheroes.com/cms/wp-content/uploads/2025/01/あげなFES.jpg
END:VEVENT
END:VCALENDAR