BEGIN:VCALENDAR
VERSION:2.0
PRODID:-//【公式】オキナワンヒーローズ - ECPv6.15.20//NONSGML v1.0//EN
CALSCALE:GREGORIAN
METHOD:PUBLISH
X-WR-CALNAME:【公式】オキナワンヒーローズ
X-ORIGINAL-URL:https://okinawanheroes.com
X-WR-CALDESC:【公式】オキナワンヒーローズ のイベント
REFRESH-INTERVAL;VALUE=DURATION:PT1H
X-Robots-Tag:noindex
X-PUBLISHED-TTL:PT1H
BEGIN:VTIMEZONE
TZID:Asia/Tokyo
BEGIN:STANDARD
TZOFFSETFROM:+0900
TZOFFSETTO:+0900
TZNAME:JST
DTSTART:20250101T000000
END:STANDARD
END:VTIMEZONE
BEGIN:VEVENT
DTSTART;VALUE=DATE:20260322
DTEND;VALUE=DATE:20260323
DTSTAMP:20260422T181748
CREATED:20260312T085916Z
LAST-MODIFIED:20260312T090744Z
UID:5429-1774137600-1774223999@okinawanheroes.com
SUMMARY:サンエー具志川メインシティ／闘牛戦士ワイドーショー
DESCRIPTION:3月22日（日）は\n「具志川メインシティ」にて\n闘牛戦士ワイドーショー開催！！ \nみんなで元気にヒーヤイ！ヒーヤイ！\nワイドー達を応援しよう☆ \n各会場ではワイドーグッズの販売も予定してます♪ \n\n\n\n開催日時\n2026年3月22日(日)\n①11:00～\n②13:30～\n\n\n\n会場\nサンエー具志川メインシティ　1Fメインコート\n(うるま市江洲450ｰ1)\n\n\nイベントWEBサイト\nhttps://www.san-a.co.jp/event/waido0322/\n\n\n備考\n観覧無料\n\n\n\n詳しくはイベントWEBサイトをご覧ください。
URL:https://okinawanheroes.com/event/20260322_waido/
LOCATION:【サンエー 具志川メインシティ】\, うるま市江洲450−1
CATEGORIES:闘牛戦士ワイドー
ATTACH;FMTTYPE=image/jpeg:https://okinawanheroes.com/cms/wp-content/uploads/2024/06/【宣材】闘牛戦士ワイドー.jpg
END:VEVENT
END:VCALENDAR