BEGIN:VCALENDAR
VERSION:2.0
PRODID:-//【公式】オキナワンヒーローズ - ECPv6.15.20//NONSGML v1.0//EN
CALSCALE:GREGORIAN
METHOD:PUBLISH
X-WR-CALNAME:【公式】オキナワンヒーローズ
X-ORIGINAL-URL:https://okinawanheroes.com
X-WR-CALDESC:【公式】オキナワンヒーローズ のイベント
REFRESH-INTERVAL;VALUE=DURATION:PT1H
X-Robots-Tag:noindex
X-PUBLISHED-TTL:PT1H
BEGIN:VTIMEZONE
TZID:Asia/Tokyo
BEGIN:STANDARD
TZOFFSETFROM:+0900
TZOFFSETTO:+0900
TZNAME:JST
DTSTART:20250101T000000
END:STANDARD
END:VTIMEZONE
BEGIN:VEVENT
DTSTART;VALUE=DATE:20260329
DTEND;VALUE=DATE:20260330
DTSTAMP:20260422T175502
CREATED:20260325T032918Z
LAST-MODIFIED:20260325T033008Z
UID:5449-1774742400-1774828799@okinawanheroes.com
SUMMARY:こどもスポーツフェスタinうるま／闘牛戦士ワイドーショー
DESCRIPTION:『こどもスポーツフェスタinうるま』にて 闘牛戦士ワイドーショー開催！！ \nワイドーショー以外にも スポーツ体験や楽しいブースがいろいろ♪\nみんなで遊びに来てね☆ \n\n\n\n開催日時\n2026年3月29日(日)\n13:35～\n\n\n\n会場\n具志川ドーム\n(うるま市具志川２３３６)\n\n\nイベントWEBサイト\nイベントInstagram\n\n\n備考\n入場無料\n\n\n\n詳しくはイベントWEBサイトをご覧ください。
URL:https://okinawanheroes.com/event/20260329_waido/
LOCATION:【具志川ドーム】\, うるま市具志川２３３６
CATEGORIES:闘牛戦士ワイドー
ATTACH;FMTTYPE=image/jpeg:https://okinawanheroes.com/cms/wp-content/uploads/2026/03/S__39551034_0.jpg
END:VEVENT
END:VCALENDAR